From mboxrd@z Thu Jan 1 00:00:00 1970 Return-Path: Received: from mails.dpdk.org (mails.dpdk.org [217.70.189.124]) by inbox.dpdk.org (Postfix) with ESMTP id C099145E97 for ; Sat, 14 Dec 2024 04:34:18 +0100 (CET) Received: from mails.dpdk.org (localhost [127.0.0.1]) by mails.dpdk.org (Postfix) with ESMTP id 7035140296; Sat, 14 Dec 2024 04:34:17 +0100 (CET) Received: from mail-qv1-f97.google.com (mail-qv1-f97.google.com [209.85.219.97]) by mails.dpdk.org (Postfix) with ESMTP id 5ABFD40041 for ; Sat, 14 Dec 2024 04:34:15 +0100 (CET) Received: by mail-qv1-f97.google.com with SMTP id 6a1803df08f44-6d896be3992so16905456d6.1 for ; Fri, 13 Dec 2024 19:34:15 -0800 (PST) DKIM-Signature: v=1; a=rsa-sha256; c=relaxed/relaxed; d=iol.unh.edu; s=unh-iol; t=1734147254; x=1734752054; darn=dpdk.org; h=references:in-reply-to:cc:to:from:subject:message-id:date:from:to :cc:subject:date:message-id:reply-to; bh=t8fQ+ePBAmQjWvgiokzXMJNE0r42lOA5uM9sRGm+8X0=; b=iLuvVbeNsnGOO9PmlZ/bbYvVODb0btXWhQVA/Exjv1jPBJIe43yQ4c1kqskT/J9yCV sDLLEXVkIrDUOxBHv/QbwGDevd3lV+f0iXtDzC9Lhd24SjvsSQq6zItTxd2VTLS/XFtz P+0z+i4IG6v6/oEMlWc+dm2eLiG+ZntanqOGg= X-Google-DKIM-Signature: v=1; a=rsa-sha256; c=relaxed/relaxed; d=1e100.net; s=20230601; t=1734147254; x=1734752054; h=references:in-reply-to:cc:to:from:subject:message-id:date :x-gm-message-state:from:to:cc:subject:date:message-id:reply-to; bh=t8fQ+ePBAmQjWvgiokzXMJNE0r42lOA5uM9sRGm+8X0=; b=hPTha0If+Fg18JnoE4Odp1ovCP8ElemPZKOPz6jk+fTknuuTajOFi+xj9ZhiW/YT49 8kA9pxK40MmBQ+wdZIGUeDkMNKnNK7S4pGOA+9sCAL4okcPOZR25+Q08+2tBamnZZMqX O42an0pftFIKyzCBvWKJBxGeET4F36aaiV8xNyAOpDXX43HV7qK7vD5bWq3GDEkNyX+4 QGXGtc3zetQUsN7r428MtnAdlwMRaT1Yeq05lTYOPGd/7VlN0R5IZnZZbbZ6QQkYwfdE EJlRZUpNsiUK7qMi1NGxE0zjOZrbFo9yLf4m+h8ihJllxbz5U1VKA2SRuYqoFyxJsDXQ 7Aqw== X-Gm-Message-State: AOJu0Yxga0LdWA71s9TQ5ODtRVOqxT2pgbHDVztL0bQBhkpevjhNCqqW PQNcOY8VzlzDJ9xhkXXjc54lZwT34Y5Fyq/xDVVA+XOiVESor5QWUOiYg/i69rei2WWj9g8jchp UVlZif3Je5qNEk9RBY8Ip5p+1cyDd4lVJayOKaO0MHQ0QUJuWgZ2+FPQ0 X-Gm-Gg: ASbGncubzXN/HmoX8qwYDLVHFG19Z4Yh0zpzAaM9QOJr9V6nlFy8m9H1exmRuxzvodQ V9C0NdaemRoa2rDzcaOslg25KEzWEfRhMLjNchmL7+evW8dafmqS+fSoaqb3bQxETvuKk6VILRD RuQKu3TIM1S689PzzUQDSJcqrHbOXX5ubycpMn8MF1TZ+XkNJVwdQJjoH8jO1U/UX5I8jXxWWpX iRA7eAnOYYnvy0W9aP/gtgSe1rlIHiS2dE1DbmGr0ivnZF6J1h3Dl1cj4ciBl5X1Dh0P7eOy4zl deQUQw== X-Google-Smtp-Source: AGHT+IGtKA1VfPKGzvdV+ExWGrgoPOBbinD7KCHVtK1kpd1TMJlh3Y0Hi9L9R3s46Z4RRpRabVnIxBhhY5n4 X-Received: by 2002:ad4:4ea4:0:b0:6d8:ac5d:b83e with SMTP id 6a1803df08f44-6dc969b7346mr97592416d6.47.1734147254612; Fri, 13 Dec 2024 19:34:14 -0800 (PST) Received: from postal.iol.unh.edu (postal.iol.unh.edu. [2606:4100:3880:1234::84]) by smtp-relay.gmail.com with ESMTPS id 6a1803df08f44-6dccd1c547asm427036d6.27.2024.12.13.19.34.14 (version=TLS1_2 cipher=ECDHE-ECDSA-AES128-GCM-SHA256 bits=128/128); Fri, 13 Dec 2024 19:34:14 -0800 (PST) X-Relaying-Domain: iol.unh.edu Date: Fri, 13 Dec 2024 19:34:14 -0800 (PST) Message-ID: <675cfcb6.d40a0220.17d8fd.3303SMTPIN_ADDED_MISSING@mx.google.com> Received: from [172.17.0.4] (unknown [172.18.0.217]) by postal.iol.unh.edu (Postfix) with ESMTP id 5036D6052471; Fri, 13 Dec 2024 22:34:14 -0500 (EST) Subject: |WARNING| pw149234 [PATCH] [v2,1/1] buildtools: clear out regex synt From: dpdklab@iol.unh.edu To: Test Report Cc: dpdk-test-reports@iol.unh.edu In-Reply-To: <20241213144145.59916-2-otilibil@eurecom.fr> References: <20241213144145.59916-2-otilibil@eurecom.fr> Content-Type: text/plain X-BeenThere: test-report@dpdk.org X-Mailman-Version: 2.1.29 Precedence: list List-Id: automatic DPDK test reports List-Unsubscribe: , List-Archive: List-Post: List-Help: List-Subscribe: , Errors-To: test-report-bounces@dpdk.org Test-Label: iol-compile-amd64-testing Test-Status: WARNING http://dpdk.org/patch/149234 _Testing issues_ Submitter: Ariel Otilibili Date: Friday, December 13 2024 14:40:58 DPDK git baseline: Repo:dpdk Branch: master CommitID:7df61db6c387703a36306c1aea92225921e2eeb2 149234 --> testing issues Upstream job id: Generic-DPDK-Compile-Meson#343067 Test environment and result as below: +-------------------+--------------------+------------------+-------------------+ | Environment | dpdk_meson_compile | dpdk_compile_ovs | dpdk_compile_spdk | +===================+====================+==================+===================+ | CentOS Stream 9 | PASS | PASS | PASS | +-------------------+--------------------+------------------+-------------------+ | Debian 12 | PASS | PASS | PASS | +-------------------+--------------------+------------------+-------------------+ | Fedora 39 (Clang) | PASS | PASS | PASS | +-------------------+--------------------+------------------+-------------------+ | Fedora 39 | PASS | PASS | PASS | +-------------------+--------------------+------------------+-------------------+ | openSUSE Leap 15 | PASS | WARN | SKIPPED | +-------------------+--------------------+------------------+-------------------+ | RHEL8 | PASS | PASS | SKIPPED | +-------------------+--------------------+------------------+-------------------+ | Ubuntu 20.04 | PASS | WARN | SKIPPED | +-------------------+--------------------+------------------+-------------------+ | RHEL9 | PASS | PASS | SKIPPED | +-------------------+--------------------+------------------+-------------------+ | Ubuntu 24.04 | PASS | PASS | PASS | +-------------------+--------------------+------------------+-------------------+ | Ubuntu 22.04 | PASS | PASS | PASS | +-------------------+--------------------+------------------+-------------------+ | Alpine | PASS | PASS | SKIPPED | +-------------------+--------------------+------------------+-------------------+ | FreeBSD 13.4 | PASS | SKIPPED | SKIPPED | +-------------------+--------------------+------------------+-------------------+ | FreeBSD 14.2 | PASS | SKIPPED | SKIPPED | +-------------------+--------------------+------------------+-------------------+ | Fedora 40 | PASS | PASS | PASS | +-------------------+--------------------+------------------+-------------------+ | Fedora 40 (Clang) | PASS | PASS | PASS | +-------------------+--------------------+------------------+-------------------+ ==== 20 line log output for Ubuntu 20.04 (dpdk_compile_ovs): ==== --- Failed to get log output --- ==== End log output ==== CentOS Stream 9 Kernel: Depends on container host Compiler: gcc 11.4.1 20231218 (Red Hat 11.4.1-3) Debian 12 Kernel: Depends on container host Compiler: gcc (Debian 12.2.0-14) 12.2.0 Fedora 39 (Clang) Kernel: Depends on container host Compiler: clang 17.0.6 (Fedora 17.0.6-2.fc39) Fedora 39 Kernel: Depends on container host Compiler: gcc 13.3.1 20240522 (Red Hat 13.3.1-1) openSUSE Leap 15 Kernel: Depends on container host Compiler: gcc (SUSE Linux) 7.5.0 RHEL8 Kernel: Depends on container host Compiler: gcc 8.5.0 20210514 (Red Hat 8.5.0-22) Ubuntu 20.04 Kernel: Depends on container host Compiler: gcc (Ubuntu 9.4.0-1ubuntu1~20.04.2) 9.4.0 RHEL9 Kernel: Depends on container host Compiler: gcc 11.4.1 20231218 (Red Hat 11.4.1-3) Ubuntu 24.04 Kernel: Depends on container host Compiler: gcc (Ubuntu 13.2.0-23ubuntu4) 13.2.0 Ubuntu 22.04 Kernel: Depends on container host Compiler: gcc (Ubuntu 11.4.0-1ubuntu1~22.04) 11.4.0 Alpine Kernel: Depends on container host Compiler: gcc (Alpine 13.2.1_git20240309) 13.2.1 20240309 FreeBSD 13.4 Kernel: 13.4-RELEASE-p1 Compiler: clang 18.1.6 FreeBSD 14.2 Kernel: 14.2-RELEASE Compiler: clang 18.1.6 Fedora 40 Kernel: Depends on container host Compiler: gcc 14.2.1 20240801 (Red Hat 14.2.1-1) Fedora 40 (Clang) Kernel: Depends on container host Compiler: clang 18.1.6 (Fedora 18.1.6-3.fc40) To view detailed results, visit: https://lab.dpdk.org/results/dashboard/patchsets/32140/ UNH-IOL DPDK Community Lab To manage your email subscriptions, visit: https://lab.dpdk.org/results/dashboard/preferences/subscriptions/