From mboxrd@z Thu Jan  1 00:00:00 1970
Return-Path: <test-report-bounces@dpdk.org>
Received: from mails.dpdk.org (mails.dpdk.org [217.70.189.124])
	by inbox.dpdk.org (Postfix) with ESMTP id 72E6645E9A
	for <public@inbox.dpdk.org>; Sat, 14 Dec 2024 07:08:19 +0100 (CET)
Received: from mails.dpdk.org (localhost [127.0.0.1])
	by mails.dpdk.org (Postfix) with ESMTP id 6BED740296;
	Sat, 14 Dec 2024 07:08:19 +0100 (CET)
Received: from mail-io1-f97.google.com (mail-io1-f97.google.com
 [209.85.166.97]) by mails.dpdk.org (Postfix) with ESMTP id 276BB40041
 for <test-report@dpdk.org>; Sat, 14 Dec 2024 07:08:18 +0100 (CET)
Received: by mail-io1-f97.google.com with SMTP id
 ca18e2360f4ac-844ee15d6f4so90529939f.1
 for <test-report@dpdk.org>; Fri, 13 Dec 2024 22:08:18 -0800 (PST)
DKIM-Signature: v=1; a=rsa-sha256; c=relaxed/relaxed;
 d=iol.unh.edu; s=unh-iol; t=1734156497; x=1734761297; darn=dpdk.org;
 h=references:in-reply-to:cc:to:from:subject:message-id:date:from:to
 :cc:subject:date:message-id:reply-to;
 bh=9Ip6+8xc6CpocihjpKGwSC2C5cgbvNj20pLbh/JdUnE=;
 b=UxaT0LlC/27UeWNgJyVmpnEcR/chySZAsHvjvvRo2mAFf+VUNLUOtss047AJbektBv
 jRNVdloH/VqvROGL0B65T9Jge1FaOUJaWaKvUNXm5Cxh8/RX+il884YY3n1kHcX97sT4
 aQiybmzdBHOWhgpNrvLwDuu+2FiZGCF8iNaiQ=
X-Google-DKIM-Signature: v=1; a=rsa-sha256; c=relaxed/relaxed;
 d=1e100.net; s=20230601; t=1734156497; x=1734761297;
 h=references:in-reply-to:cc:to:from:subject:message-id:date
 :x-gm-message-state:from:to:cc:subject:date:message-id:reply-to;
 bh=9Ip6+8xc6CpocihjpKGwSC2C5cgbvNj20pLbh/JdUnE=;
 b=mJCzzJOKxovx48gjdi+3PGkFH91PApbBDFReoPkcEIGWRt8vBQqztPFv/rGA339JBi
 GrDbcaeLsyEwsS6KIynxhWXXZntnKLq1s7vCkuCQhcn4HYeRvQLCOcQ9IVBRQ8/MAUn8
 PvLuWww2ivRkq/biCnv2QRzh7Xerx+KkUPPiHocxqAyfQFCFb8/AeM6/Wqw/NLWHOmBy
 qQZ7g/P+OJb+KdCaGo3/YkAxMMCK9XJfGWjfTWZ0Lc9fORd5YlmvlanZOit3CXABh5i3
 fQpmtY3ZW+6CoY8zOQJm0s634KvYwTGIYQ9ssD9T4HG5+fEZ5VjlUU+XfiRRJVkpDESo
 bdAA==
X-Gm-Message-State: AOJu0Ywa2ibErZvNGUKXqa0iX5XTfO2Cg0fgbWQjV4Q6OLzu3zqg2q8M
 o8EyUk8GgcewD4xE6eC9WcliOlR9fwKFgxfywZtK/ug8PKqf5ilePnJc7CK4WZolPnYXakMNnWx
 09ZO9hEVVbMFJyoJLlvLDN+QJR9Gv7BFx3hEyvqb9
X-Gm-Gg: ASbGnctrTZPJ2VOiO7PX5WPezlcQfLVfpQK38U1mQhTTkymoAk54Xzr0NR97nfHlFQy
 NfTgJBDV0MRHw28TIbMh0x1Khw+K1QblfByYKoDJ8UVThhtwEo7Hq8S4v6MgAI3Tepr5ogSgjcw
 Y0lAaPIsC9bTwZObKOSh0RsCXAv8AJxIMrOFR2JnCkgJWi4oNtZCZwjSggo8E/GSlkInO1Z9A7o
 Aq2Ya57vYIHVAMXCdFVHsjfka0YVI/GZANYnDAZp42QfN+PwF9ys1EUvE7WpFAviE8LpUQQQEnv
 cQ==
X-Google-Smtp-Source: AGHT+IEq0fOUkO97vbo2Io9FZpze8V+Hn1eoHhohVm5YRvXv6yzsusb749uBeX3MNvsnSYt8QQmbH7QBXdJr
X-Received: by 2002:a05:6602:6417:b0:83e:418c:8a28 with SMTP id
 ca18e2360f4ac-844e8802107mr677474439f.7.1734156497385; 
 Fri, 13 Dec 2024 22:08:17 -0800 (PST)
Received: from postal.iol.unh.edu (postal.iol.unh.edu. [132.177.123.84])
 by smtp-relay.gmail.com with ESMTPS id
 ca18e2360f4ac-844f622b976sm3478939f.5.2024.12.13.22.08.17
 (version=TLS1_2 cipher=ECDHE-ECDSA-AES128-GCM-SHA256 bits=128/128);
 Fri, 13 Dec 2024 22:08:17 -0800 (PST)
X-Relaying-Domain: iol.unh.edu
Date: Fri, 13 Dec 2024 22:08:17 -0800 (PST)
Message-ID: <675d20d1.050a0220.f7e19.2824SMTPIN_ADDED_MISSING@mx.google.com>
Received: from [172.21.0.7] (unknown [172.18.0.240])
 by postal.iol.unh.edu (Postfix) with ESMTP id E3B4B6052471;
 Sat, 14 Dec 2024 01:08:16 -0500 (EST)
Subject: |WARNING| pw149218 [PATCH] [v5] graph: mcore: optimize graph search
From: dpdklab@iol.unh.edu
To: Test Report <test-report@dpdk.org>
Cc: dpdk-test-reports@iol.unh.edu
In-Reply-To: <20241213022158.2644-1-chcchc88@163.com>
References: <20241213022158.2644-1-chcchc88@163.com>
Content-Type: text/plain
X-BeenThere: test-report@dpdk.org
X-Mailman-Version: 2.1.29
Precedence: list
List-Id: automatic DPDK test reports <test-report.dpdk.org>
List-Unsubscribe: <https://mails.dpdk.org/options/test-report>,
 <mailto:test-report-request@dpdk.org?subject=unsubscribe>
List-Archive: <http://mails.dpdk.org/archives/test-report/>
List-Post: <mailto:test-report@dpdk.org>
List-Help: <mailto:test-report-request@dpdk.org?subject=help>
List-Subscribe: <https://mails.dpdk.org/listinfo/test-report>,
 <mailto:test-report-request@dpdk.org?subject=subscribe>
Errors-To: test-report-bounces@dpdk.org

Test-Label: iol-compile-amd64-testing
Test-Status: WARNING
http://dpdk.org/patch/149218

_Testing issues_

Submitter: Huichao Cai <chcchc88@163.com>
Date: Friday, December 13 2024 02:21:58 
DPDK git baseline: Repo:dpdk
  Branch: master
  CommitID:7df61db6c387703a36306c1aea92225921e2eeb2

149218 --> testing issues

Upstream job id: Windows-Compile-DPDK-Native#25299

Test environment and result as below:

+---------------------+--------------------+------------------+-------------------+-------------------+-----------------------+
|     Environment     | dpdk_meson_compile | dpdk_compile_ovs | dpdk_compile_spdk | dpdk_msvc_compile | dpdk_win_llvm_compile |
+=====================+====================+==================+===================+===================+=======================+
| CentOS Stream 9     | PASS               | PASS             | PASS              | SKIPPED           | SKIPPED               |
+---------------------+--------------------+------------------+-------------------+-------------------+-----------------------+
| Debian 12           | PASS               | PASS             | PASS              | SKIPPED           | SKIPPED               |
+---------------------+--------------------+------------------+-------------------+-------------------+-----------------------+
| Fedora 39 (Clang)   | PASS               | PASS             | PASS              | SKIPPED           | SKIPPED               |
+---------------------+--------------------+------------------+-------------------+-------------------+-----------------------+
| Fedora 39           | PASS               | PASS             | PASS              | SKIPPED           | SKIPPED               |
+---------------------+--------------------+------------------+-------------------+-------------------+-----------------------+
| Fedora 40 (Clang)   | PASS               | PASS             | PASS              | SKIPPED           | SKIPPED               |
+---------------------+--------------------+------------------+-------------------+-------------------+-----------------------+
| openSUSE Leap 15    | PASS               | WARN             | SKIPPED           | SKIPPED           | SKIPPED               |
+---------------------+--------------------+------------------+-------------------+-------------------+-----------------------+
| RHEL9               | PASS               | PASS             | SKIPPED           | SKIPPED           | SKIPPED               |
+---------------------+--------------------+------------------+-------------------+-------------------+-----------------------+
| Fedora 40           | PASS               | PASS             | PASS              | SKIPPED           | SKIPPED               |
+---------------------+--------------------+------------------+-------------------+-------------------+-----------------------+
| Ubuntu 20.04        | PASS               | WARN             | SKIPPED           | SKIPPED           | SKIPPED               |
+---------------------+--------------------+------------------+-------------------+-------------------+-----------------------+
| RHEL8               | PASS               | PASS             | SKIPPED           | SKIPPED           | SKIPPED               |
+---------------------+--------------------+------------------+-------------------+-------------------+-----------------------+
| Ubuntu 24.04        | PASS               | PASS             | PASS              | SKIPPED           | SKIPPED               |
+---------------------+--------------------+------------------+-------------------+-------------------+-----------------------+
| Ubuntu 22.04        | PASS               | PASS             | PASS              | SKIPPED           | SKIPPED               |
+---------------------+--------------------+------------------+-------------------+-------------------+-----------------------+
| Alpine              | PASS               | PASS             | SKIPPED           | SKIPPED           | SKIPPED               |
+---------------------+--------------------+------------------+-------------------+-------------------+-----------------------+
| FreeBSD 13.4        | PASS               | SKIPPED          | SKIPPED           | SKIPPED           | SKIPPED               |
+---------------------+--------------------+------------------+-------------------+-------------------+-----------------------+
| FreeBSD 14.2        | PASS               | SKIPPED          | SKIPPED           | SKIPPED           | SKIPPED               |
+---------------------+--------------------+------------------+-------------------+-------------------+-----------------------+
| Windows Server 2022 | SKIPPED            | SKIPPED          | SKIPPED           | PASS              | PASS                  |
+---------------------+--------------------+------------------+-------------------+-------------------+-----------------------+

==== 20 line log output for Ubuntu 20.04 (dpdk_compile_ovs): ====
 --- Failed to get log output --- 
==== End log output ====

CentOS Stream 9
	Kernel: Depends on container host
	Compiler: gcc 11.4.1 20231218 (Red Hat 11.4.1-3)

Debian 12
	Kernel: Depends on container host
	Compiler: gcc (Debian 12.2.0-14) 12.2.0

Fedora 39 (Clang)
	Kernel: Depends on container host
	Compiler: clang 17.0.6 (Fedora 17.0.6-2.fc39)

Fedora 39
	Kernel: Depends on container host
	Compiler: gcc 13.3.1 20240522 (Red Hat 13.3.1-1)

Fedora 40 (Clang)
	Kernel: Depends on container host
	Compiler: clang 18.1.6 (Fedora 18.1.6-3.fc40)

openSUSE Leap 15
	Kernel: Depends on container host
	Compiler: gcc (SUSE Linux) 7.5.0

RHEL9
	Kernel: Depends on container host
	Compiler: gcc 11.4.1 20231218 (Red Hat 11.4.1-3)

Fedora 40
	Kernel: Depends on container host
	Compiler: gcc 14.2.1 20240801 (Red Hat 14.2.1-1)

Ubuntu 20.04
	Kernel: Depends on container host
	Compiler: gcc (Ubuntu 9.4.0-1ubuntu1~20.04.2) 9.4.0

RHEL8
	Kernel: Depends on container host
	Compiler: gcc 8.5.0 20210514 (Red Hat 8.5.0-22)

Ubuntu 24.04
	Kernel: Depends on container host
	Compiler: gcc (Ubuntu 13.2.0-23ubuntu4) 13.2.0

Ubuntu 22.04
	Kernel: Depends on container host
	Compiler: gcc (Ubuntu 11.4.0-1ubuntu1~22.04) 11.4.0

Alpine
	Kernel: Depends on container host
	Compiler: gcc (Alpine 13.2.1_git20240309) 13.2.1 20240309

FreeBSD 13.4
	Kernel: 13.4-RELEASE-p1
	Compiler: clang 18.1.6

FreeBSD 14.2
	Kernel: 14.2-RELEASE
	Compiler: clang 18.1.6

Windows Server 2022
	Kernel: 10.0.20348.2031
	Compiler: clang 15.0.7, gcc 14.1.0 (MinGW), and MSVC VS 19.39.33521

To view detailed results, visit:
https://lab.dpdk.org/results/dashboard/patchsets/32131/

UNH-IOL DPDK Community Lab

To manage your email subscriptions, visit: 
https://lab.dpdk.org/results/dashboard/preferences/subscriptions/