From mboxrd@z Thu Jan  1 00:00:00 1970
Return-Path: <test-report-bounces@dpdk.org>
Received: from mails.dpdk.org (mails.dpdk.org [217.70.189.124])
	by inbox.dpdk.org (Postfix) with ESMTP id 5A68845E9A
	for <public@inbox.dpdk.org>; Sat, 14 Dec 2024 07:43:08 +0100 (CET)
Received: from mails.dpdk.org (localhost [127.0.0.1])
	by mails.dpdk.org (Postfix) with ESMTP id 50CD740296;
	Sat, 14 Dec 2024 07:43:08 +0100 (CET)
Received: from mail-io1-f97.google.com (mail-io1-f97.google.com
 [209.85.166.97]) by mails.dpdk.org (Postfix) with ESMTP id 6700940041
 for <test-report@dpdk.org>; Sat, 14 Dec 2024 07:43:07 +0100 (CET)
Received: by mail-io1-f97.google.com with SMTP id
 ca18e2360f4ac-844bff5ba1dso178521539f.1
 for <test-report@dpdk.org>; Fri, 13 Dec 2024 22:43:07 -0800 (PST)
DKIM-Signature: v=1; a=rsa-sha256; c=relaxed/relaxed;
 d=iol.unh.edu; s=unh-iol; t=1734158586; x=1734763386; darn=dpdk.org;
 h=references:in-reply-to:cc:to:from:subject:message-id:date:from:to
 :cc:subject:date:message-id:reply-to;
 bh=AKdkAmYs+zmooueb8xClUTFc1sadbLcSN5iVMKW6QE8=;
 b=bMXx5ugz+sQGfjXNMpx85LNLupQ85wDfHYjrI+KMpHcCPgbkKPAQnXV6/7kIA6k3YW
 1aQ6BWMDK89/9rAmxGCD7gd7rH0BaHABT7A8UcphafrqDKMs0Vf16jMlgRemFhrsCgT5
 iN8J2vgDzW+1dlo8jHwfmLeG8R3uhDTzw1K/s=
X-Google-DKIM-Signature: v=1; a=rsa-sha256; c=relaxed/relaxed;
 d=1e100.net; s=20230601; t=1734158586; x=1734763386;
 h=references:in-reply-to:cc:to:from:subject:message-id:date
 :x-gm-message-state:from:to:cc:subject:date:message-id:reply-to;
 bh=AKdkAmYs+zmooueb8xClUTFc1sadbLcSN5iVMKW6QE8=;
 b=KCJWpfqydNIvuwv34NvNI+rspkmcmHHR87ph0n+g3k3vbatgmGQX2p2Cpwer6YbcP1
 8mwUamAna74W8C4+TCA+ouMW0BaA5hJLfHRtSUCdXYoFCDuHUUO4Ngt/J+I+i1vIHUvC
 +qefL9v8sZS+1kZ+oUI5aTL9zDTMFw198sU6K+6bQwpP4Vld8SWphL7YGRVoimEuHmZA
 yFES9S8lsEEwQeXgsfLc0AZKIm3liEndS2PMAw6m8ME6Q9uHZu2uDQ83BmCHpwo7T3Yq
 3RiFWJ3iQ3ZcMq9IVwy0Gug9+TpCYtqIDy+oUuNQNZSZZpTPR05op0mQWOZsDFMQ22Ji
 Kqfw==
X-Gm-Message-State: AOJu0Yxp3tR8rzOUkMYGBxDzPdoOvg18ojam8SMKTbwPtNq4bx+VBK5L
 TcJGAohI288YitgAPQ0TO7qMsIz3xiNZuSccnwTMgrzyAGgberZN/B+Q647BlTHyNNtAcYdbaYN
 hfnuSK74i4ToQxjSUaabhLABf7k811aJtSPzxznhIMq8phnWsq8zLpJol
X-Gm-Gg: ASbGncvpmEcP4jQcJBrpn/kVacerbvcPXvFkHVQal9pMaJpL1fr5AZiBRmdzP7F3Bpz
 PvSoEJkAwk6oePK8c3GwSZazh3c9WvQHl88lyXsMmsCbjnj/Uk01VJhskPuI9TqAWoGe7kSqUON
 R+Lr8Y5exxX4w6B9t7dLF2XSWcfpJuhFFYFoDp/xEj+Q4QjJYWC7ISis828TZ5quZwXlsvKmy4v
 +wwJLuo1nxAD782U4SXcLvBRPTUwlH12dljwnNgHs9CHh/YKq7C7/rUFWjM5enSBCbCyV4Obquh
 /v8Q+g==
X-Google-Smtp-Source: AGHT+IGCtm06ZYPPr9X5sJSiKUZRCLImV0uazCCcBVPQ7yJSFXsGjyzUC+awKNm8wu7yaB+jgrU9hrDJL7IA
X-Received: by 2002:a05:6e02:3882:b0:3a7:81d6:c177 with SMTP id
 e9e14a558f8ab-3aff6db6e07mr60464125ab.14.1734158586718; 
 Fri, 13 Dec 2024 22:43:06 -0800 (PST)
Received: from postal.iol.unh.edu (postal.iol.unh.edu.
 [2606:4100:3880:1234::84]) by smtp-relay.gmail.com with ESMTPS id
 8926c6da1cb9f-4e5e0f414b9sm40677173.45.2024.12.13.22.43.06
 (version=TLS1_2 cipher=ECDHE-ECDSA-AES128-GCM-SHA256 bits=128/128);
 Fri, 13 Dec 2024 22:43:06 -0800 (PST)
X-Relaying-Domain: iol.unh.edu
Date: Fri, 13 Dec 2024 22:43:06 -0800 (PST)
Message-ID: <675d28fa.050a0220.eb6f9.2f2bSMTPIN_ADDED_MISSING@mx.google.com>
Received: from [172.21.0.5] (unknown [172.18.0.240])
 by postal.iol.unh.edu (Postfix) with ESMTP id 3ECA46052471;
 Sat, 14 Dec 2024 01:43:06 -0500 (EST)
Subject: |SUCCESS| pw149242-149243 [PATCH] [2/2] drivers/net/sfc: remove unus
From: dpdklab@iol.unh.edu
To: Test Report <test-report@dpdk.org>
Cc: dpdk-test-reports@iol.unh.edu
In-Reply-To: <20241213214951.61974-3-otilibil@eurecom.fr>
References: <20241213214951.61974-3-otilibil@eurecom.fr>
Content-Type: text/plain
X-BeenThere: test-report@dpdk.org
X-Mailman-Version: 2.1.29
Precedence: list
List-Id: automatic DPDK test reports <test-report.dpdk.org>
List-Unsubscribe: <https://mails.dpdk.org/options/test-report>,
 <mailto:test-report-request@dpdk.org?subject=unsubscribe>
List-Archive: <http://mails.dpdk.org/archives/test-report/>
List-Post: <mailto:test-report@dpdk.org>
List-Help: <mailto:test-report-request@dpdk.org?subject=help>
List-Subscribe: <https://mails.dpdk.org/listinfo/test-report>,
 <mailto:test-report-request@dpdk.org?subject=subscribe>
Errors-To: test-report-bounces@dpdk.org

Test-Label: iol-unit-arm64-testing
Test-Status: SUCCESS
http://dpdk.org/patch/149243

_Testing PASS_

Submitter: Ariel Otilibili <otilibil@eurecom.fr>
Date: Friday, December 13 2024 21:41:55 
DPDK git baseline: Repo:dpdk
  Branch: master
  CommitID:f1e0472368d4dbb1da33ae68b18ca21bc8a55259

149242-149243 --> testing pass

Upstream job id: Generic-Unit-Test-DPDK#299160

Test environment and result as below:

+-----------------------+--------------+------------------------------+---------------------------+----------------+
|      Environment      | lpm_autotest | cryptodev_sw_snow3g_autotest | cryptodev_sw_zuc_autotest | dpdk_unit_test |
+=======================+==============+==============================+===========================+================+
| Ubuntu 20.04 ARM SVE  | PASS         | SKIPPED                      | SKIPPED                   | SKIPPED        |
+-----------------------+--------------+------------------------------+---------------------------+----------------+
| Debian 12 (arm)       | SKIPPED      | PASS                         | PASS                      | PASS           |
+-----------------------+--------------+------------------------------+---------------------------+----------------+
| CentOS Stream 9 (ARM) | SKIPPED      | SKIPPED                      | SKIPPED                   | PASS           |
+-----------------------+--------------+------------------------------+---------------------------+----------------+
| Fedora 39 (ARM)       | SKIPPED      | SKIPPED                      | SKIPPED                   | PASS           |
+-----------------------+--------------+------------------------------+---------------------------+----------------+
| Fedora 40 (ARM Clang) | SKIPPED      | SKIPPED                      | SKIPPED                   | PASS           |
+-----------------------+--------------+------------------------------+---------------------------+----------------+
| RHEL9 (ARM)           | SKIPPED      | SKIPPED                      | SKIPPED                   | PASS           |
+-----------------------+--------------+------------------------------+---------------------------+----------------+
| Fedora 39 (ARM Clang) | SKIPPED      | SKIPPED                      | SKIPPED                   | PASS           |
+-----------------------+--------------+------------------------------+---------------------------+----------------+
| Fedora 40 (ARM)       | SKIPPED      | SKIPPED                      | SKIPPED                   | PASS           |
+-----------------------+--------------+------------------------------+---------------------------+----------------+
| Ubuntu 20.04 (ARM)    | SKIPPED      | SKIPPED                      | SKIPPED                   | PASS           |
+-----------------------+--------------+------------------------------+---------------------------+----------------+
| Ubuntu 22.04 (ARM)    | SKIPPED      | SKIPPED                      | SKIPPED                   | PASS           |
+-----------------------+--------------+------------------------------+---------------------------+----------------+
| Ubuntu 24.04 (ARM)    | SKIPPED      | SKIPPED                      | SKIPPED                   | PASS           |
+-----------------------+--------------+------------------------------+---------------------------+----------------+


Ubuntu 20.04 ARM SVE
	Kernel: Depends on container host
	Compiler: gcc (Ubuntu 10.5.0-1ubuntu1~20.04) 10.5.0

Debian 12 (arm)
	Kernel: Depends on container host
	Compiler: gcc (Debian 12.2.0-14) 12.2.0

CentOS Stream 9 (ARM)
	Kernel: Depends on container host
	Compiler: gcc 11.4.1 20231218 (Red Hat 11.4.1-3)

Fedora 39 (ARM)
	Kernel: Depends on container host
	Compiler: gcc 13.3.1 20240522 (Red Hat 13.3.1-1)

Fedora 40 (ARM Clang)
	Kernel: Depends on container host
	Compiler: clang 18.1.6 (Fedora 18.1.6-3.fc40)

RHEL9 (ARM)
	Kernel: Depends on container host
	Compiler: gcc 11.4.1 20231218 (Red Hat 11.4.1-3)

Fedora 39 (ARM Clang)
	Kernel: Depends on container host
	Compiler: clang 17.0.6 (Fedora 17.0.6-2.fc39)

Fedora 40 (ARM)
	Kernel: Depends on container host
	Compiler: gcc 14.2.1 20240801 (Red Hat 14.2.1-1)

Ubuntu 20.04 (ARM)
	Kernel: Depends on container host
	Compiler: gcc (Ubuntu 9.4.0-1ubuntu1~20.04.2) 9.4.0

Ubuntu 22.04 (ARM)
	Kernel: Depends on container host
	Compiler: gcc (Ubuntu 11.4.0-1ubuntu1~22.04) 11.4.0

Ubuntu 24.04 (ARM)
	Kernel: Depends on container host
	Compiler: gcc (Ubuntu 13.2.0-23ubuntu4) 13.2.0

To view detailed results, visit:
https://lab.dpdk.org/results/dashboard/patchsets/32144/

UNH-IOL DPDK Community Lab

To manage your email subscriptions, visit: 
https://lab.dpdk.org/results/dashboard/preferences/subscriptions/