From mboxrd@z Thu Jan 1 00:00:00 1970 Return-Path: Received: from mails.dpdk.org (mails.dpdk.org [217.70.189.124]) by inbox.dpdk.org (Postfix) with ESMTP id 360CB45E9E for ; Sat, 14 Dec 2024 11:20:21 +0100 (CET) Received: from mails.dpdk.org (localhost [127.0.0.1]) by mails.dpdk.org (Postfix) with ESMTP id 1BD4540296; Sat, 14 Dec 2024 11:20:21 +0100 (CET) Received: from mail-pl1-f225.google.com (mail-pl1-f225.google.com [209.85.214.225]) by mails.dpdk.org (Postfix) with ESMTP id 5437340041 for ; Sat, 14 Dec 2024 11:20:20 +0100 (CET) Received: by mail-pl1-f225.google.com with SMTP id d9443c01a7336-215770613dbso17573455ad.2 for ; Sat, 14 Dec 2024 02:20:20 -0800 (PST) DKIM-Signature: v=1; a=rsa-sha256; c=relaxed/relaxed; d=iol.unh.edu; s=unh-iol; t=1734171619; x=1734776419; darn=dpdk.org; h=references:in-reply-to:cc:to:from:subject:message-id:date:from:to :cc:subject:date:message-id:reply-to; bh=orVG4XOB24I1EBgaAS5ZR310kJKhBF+Jc3vMO3MrAhw=; b=Ih2GJAmAju2ZsbDlcrUAT41pUViYy5eRh3Ee7VDQhVnceJgwUIVmXOCwwpZ4bRB1KN uzrwn/dMjscTkJGXbMu0rMWUMHfY1DzTbGDQDtzcITXk+rFL6Ro6PRQA34NHzZZNsnJy mQ/hYSUOYZWA62g3SJuhLPz8Nm2eW9ZP7qQYw= X-Google-DKIM-Signature: v=1; a=rsa-sha256; c=relaxed/relaxed; d=1e100.net; s=20230601; t=1734171619; x=1734776419; h=references:in-reply-to:cc:to:from:subject:message-id:date :x-gm-message-state:from:to:cc:subject:date:message-id:reply-to; bh=orVG4XOB24I1EBgaAS5ZR310kJKhBF+Jc3vMO3MrAhw=; b=jMmwrAfzg26b7lDk0aq/RKzAvtmJoYWNLsqQEgGXxFkJ190kchLNIb9/Mwc1y6lG7S XcpbzdCvtYZPj33FV0lNZOTXov5TlleuMWAqum+IBKFyuutqAue1TDuC/G38MqFU4u11 ZxvjXfbEb1thcQtfvIpXeyntJzAgvz115fwQGDvI9BUIN8A/EA24X0Nc3oK3nmvAkvA2 SFjWwT90bo5oGF7d12wIy6GtG9wiU+FrWzRjmLsLMFAVyg3wTq17AMtkG4vL+Be9I5pH bZyRVpykOHvcysoGQ1DDzN/hi6tBCKduTEAVMa072d078eDCtUDlhRKLsvlCQ7lKEcXs YxsQ== X-Gm-Message-State: AOJu0Yy5LcOu75JmaMWdc9pJasVfhB35vj51xtXbJ4mq0hvxEf3h2iyZ ckdXwN9hyKxx23EMNIqNWIZxYe3XiTgcvewQaIKe43YnEePQ6LG4QaQFiWVrRB8UlaR7kmqn51K ajDzRDccIwy0HdsFs+efi4nL0bHflX8GiUdxBpjhSIpga9+JJi8FhAVJr X-Gm-Gg: ASbGncuAPWPVHQdch5I/VPmP8yBJ977kmUvq4zIv/81mxcEfAq/io9JRDIFpR/lg//Z oGzv8Yr5h5a/aIyhZe87rDM9tvSarFvjKsV3vVmrGL/PLtnKDgy/bLi13jUkyklpy/E1vlRx5wN +lvGgzNElY+uyETpiBBPVvswF/EoF0Y9+mjOtQ+8oRSwyL4BkHo2WayBNILuR/9/zTcu9iOC1CP 2eHwn1nO1LmHbm+V014ETsDmIyvwsuqp7TgRPugY2cg820Ma7mucKcgU+kisu/itARKe4h6/xOq 8XcZGQ== X-Google-Smtp-Source: AGHT+IGqowS6aHx2Lmgs6mS2PS15guvU0MTdaxy8E+Ce29d658SEqdq89pbQfygyoIiqjiaqvQJMOTpuXEZV X-Received: by 2002:a17:902:ea0c:b0:216:4e9f:4ebe with SMTP id d9443c01a7336-21892a22731mr87663915ad.42.1734171619432; Sat, 14 Dec 2024 02:20:19 -0800 (PST) Received: from postal.iol.unh.edu (postal.iol.unh.edu. [2606:4100:3880:1234::84]) by smtp-relay.gmail.com with ESMTPS id d9443c01a7336-218a1da009dsm526555ad.5.2024.12.14.02.20.19 (version=TLS1_2 cipher=ECDHE-ECDSA-AES128-GCM-SHA256 bits=128/128); Sat, 14 Dec 2024 02:20:19 -0800 (PST) X-Relaying-Domain: iol.unh.edu Date: Sat, 14 Dec 2024 02:20:19 -0800 (PST) Message-ID: <675d5be3.170a0220.2f989f.37e3SMTPIN_ADDED_MISSING@mx.google.com> Received: from [172.17.0.2] (unknown [172.18.0.217]) by postal.iol.unh.edu (Postfix) with ESMTP id 926DE6052471; Sat, 14 Dec 2024 05:20:18 -0500 (EST) Subject: |SUCCESS| pw149242-149243 [PATCH] [2/2] drivers/net/sfc: remove unus From: dpdklab@iol.unh.edu To: Test Report Cc: dpdk-test-reports@iol.unh.edu In-Reply-To: <20241213214951.61974-3-otilibil@eurecom.fr> References: <20241213214951.61974-3-otilibil@eurecom.fr> Content-Type: text/plain X-BeenThere: test-report@dpdk.org X-Mailman-Version: 2.1.29 Precedence: list List-Id: automatic DPDK test reports List-Unsubscribe: , List-Archive: List-Post: List-Help: List-Subscribe: , Errors-To: test-report-bounces@dpdk.org Test-Label: iol-compile-arm64-testing Test-Status: SUCCESS http://dpdk.org/patch/149243 _Testing PASS_ Submitter: Ariel Otilibili Date: Friday, December 13 2024 21:41:55 DPDK git baseline: Repo:dpdk Branch: master CommitID:f1e0472368d4dbb1da33ae68b18ca21bc8a55259 149242-149243 --> testing pass Upstream job id: Generic-DPDK-Compile-Meson#343206 Test environment and result as below: +----------------------------------------+--------------------+ | Environment | dpdk_meson_compile | +========================================+====================+ | RHEL9 (ARM) | PASS | +----------------------------------------+--------------------+ | Debian 12 with MUSDK | PASS | +----------------------------------------+--------------------+ | Ubuntu 20.04 ARM GCC Cross Compile | PASS | +----------------------------------------+--------------------+ | Fedora 39 (ARM) | PASS | +----------------------------------------+--------------------+ | Ubuntu 20.04 ARM SVE | PASS | +----------------------------------------+--------------------+ | Fedora 40 (ARM) | PASS | +----------------------------------------+--------------------+ | Ubuntu 20.04 (ARM) | PASS | +----------------------------------------+--------------------+ | Fedora 40 (ARM Clang) | PASS | +----------------------------------------+--------------------+ | Ubuntu 20.04 aarch32 GCC Cross Compile | PASS | +----------------------------------------+--------------------+ | CentOS Stream 9 (ARM) | PASS | +----------------------------------------+--------------------+ | Ubuntu 20.04 ARM Clang Cross Compile | PASS | +----------------------------------------+--------------------+ | Ubuntu 24.04 (ARM) | PASS | +----------------------------------------+--------------------+ | Debian 12 (arm) | PASS | +----------------------------------------+--------------------+ | Fedora 39 (ARM Clang) | PASS | +----------------------------------------+--------------------+ | Ubuntu 22.04 (ARM) | PASS | +----------------------------------------+--------------------+ RHEL9 (ARM) Kernel: Depends on container host Compiler: gcc 11.4.1 20231218 (Red Hat 11.4.1-3) Debian 12 with MUSDK Kernel: Depends on container host Compiler: gcc (Debian 12.2.0-14) 12.2.0 Ubuntu 20.04 ARM GCC Cross Compile Kernel: Depends on container host Compiler: aarch64-linux-gnu-gcc (Ubuntu 9.4.0-1ubuntu1~20.04.2) 9.4.0 Fedora 39 (ARM) Kernel: Depends on container host Compiler: gcc 13.3.1 20240522 (Red Hat 13.3.1-1) Ubuntu 20.04 ARM SVE Kernel: Depends on container host Compiler: gcc (Ubuntu 10.5.0-1ubuntu1~20.04) 10.5.0 Fedora 40 (ARM) Kernel: Depends on container host Compiler: gcc 14.2.1 20240801 (Red Hat 14.2.1-1) Ubuntu 20.04 (ARM) Kernel: Depends on container host Compiler: gcc (Ubuntu 9.4.0-1ubuntu1~20.04.2) 9.4.0 Fedora 40 (ARM Clang) Kernel: Depends on container host Compiler: clang 18.1.6 (Fedora 18.1.6-3.fc40) Ubuntu 20.04 aarch32 GCC Cross Compile Kernel: Depends on container host Compiler: gcc 9.4.0 CentOS Stream 9 (ARM) Kernel: Depends on container host Compiler: gcc 11.4.1 20231218 (Red Hat 11.4.1-3) Ubuntu 20.04 ARM Clang Cross Compile Kernel: Depends on container host Compiler: clang 10.0.0-4ubuntu1 Ubuntu 24.04 (ARM) Kernel: Depends on container host Compiler: gcc (Ubuntu 13.2.0-23ubuntu4) 13.2.0 Debian 12 (arm) Kernel: Depends on container host Compiler: gcc (Debian 12.2.0-14) 12.2.0 Fedora 39 (ARM Clang) Kernel: Depends on container host Compiler: clang 17.0.6 (Fedora 17.0.6-2.fc39) Ubuntu 22.04 (ARM) Kernel: Depends on container host Compiler: gcc (Ubuntu 11.4.0-1ubuntu1~22.04) 11.4.0 To view detailed results, visit: https://lab.dpdk.org/results/dashboard/patchsets/32144/ UNH-IOL DPDK Community Lab To manage your email subscriptions, visit: https://lab.dpdk.org/results/dashboard/preferences/subscriptions/