From mboxrd@z Thu Jan 1 00:00:00 1970 Return-Path: Received: from mails.dpdk.org (mails.dpdk.org [217.70.189.124]) by inbox.dpdk.org (Postfix) with ESMTP id 1DC1445E9E for ; Sat, 14 Dec 2024 11:26:21 +0100 (CET) Received: from mails.dpdk.org (localhost [127.0.0.1]) by mails.dpdk.org (Postfix) with ESMTP id 15B7B40296; Sat, 14 Dec 2024 11:26:21 +0100 (CET) Received: from mail-io1-f99.google.com (mail-io1-f99.google.com [209.85.166.99]) by mails.dpdk.org (Postfix) with ESMTP id 3384A40041 for ; Sat, 14 Dec 2024 11:26:19 +0100 (CET) Received: by mail-io1-f99.google.com with SMTP id ca18e2360f4ac-844e1020253so78096839f.3 for ; Sat, 14 Dec 2024 02:26:19 -0800 (PST) DKIM-Signature: v=1; a=rsa-sha256; c=relaxed/relaxed; d=iol.unh.edu; s=unh-iol; t=1734171978; x=1734776778; darn=dpdk.org; h=references:in-reply-to:cc:to:from:subject:message-id:date:from:to :cc:subject:date:message-id:reply-to; bh=0e7AvMEtiPcJZg+glxXKxwvdEHhvMI9u6arMpedbSo8=; b=b9GMjkMtHHZEns0CcmBcI1nS4/30Y0bJrnLLwW5ZJ+57GyvVtRpOYyPOn9DHlbg4pu vo85h2VZRT3MgOANyklFo5Vffpq2OZiljRllifTRQmLuGr7K2lr1Vd8zk3e4XyWyRxX6 gu3pDuOBFpoTHVQu4Vt8SvI5pB7IG951MXUqs= X-Google-DKIM-Signature: v=1; a=rsa-sha256; c=relaxed/relaxed; d=1e100.net; s=20230601; t=1734171978; x=1734776778; h=references:in-reply-to:cc:to:from:subject:message-id:date :x-gm-message-state:from:to:cc:subject:date:message-id:reply-to; bh=0e7AvMEtiPcJZg+glxXKxwvdEHhvMI9u6arMpedbSo8=; b=IwTUhy+ieQ8oSOucxUrhfGuyMrtZtTbPSTFaZZwGo186AzGG4uQ6xH7WOfK7LQPzrN /DOwvP0TGJRlrlny0V+8F4P06lJTlMtaRfhtJSWrMLjw7ZfeIRPltBVcvnGVmHafpy26 Oc+ndGYC8U1bXpM9AAxMGxxKcqMk7MLpvP2dnaSW6N4P1DvxEAzz1AQ/GNLuLz/7t4Lw cOFY5J2Hvj8frKzt0voYyfLsIQn/4jYnXxoSdTHBjfsXFgHS/4bazv8VXpGzkxmTTIep VjBmmFOePcCRN1tJXPpX+2uR/zIjUjijmkMz1xSsMKJCvYtIxgFb7mu9X34pjNnCv8HX O/Wg== X-Gm-Message-State: AOJu0YzpaQ0h9KiUIhPMXrPaOMHRlSrtJ64XfCpDn/PQ7j/OQdOm/yxg ZeyL5yxxIir/G2TH+jT7n4N1zZVXt3325RwqGw/6aOmJhBnLM2NI2s6y6X/qNuCKoUvZ4niIYhe 5h0fgdhgK9Hl3IMFIQ8zxtRnUFFdxsBQjTNcd2E9F X-Gm-Gg: ASbGnctSo2+6qLNj2GrncJ7QOtF6nMGpfdnqNoA6Jfx3cXRs0qU4OGMKU6sNT3raQQh QBtlT3G5OkVOBq6REX7LIzkQst5xR+hLDXg4/FP2uYZ5bMZfG80lMWsVc3d+pqP+7eejR1XeffJ vZTTriHFBuONxEJtJDK1ytCeOmetNIlyrCUBHZOmuMkwMX0hNepUVqhfIV4cHmorzs1SfiQPvuu se8tq1nUy/K1tmBMpg4D/tjsMVuhADSlyXeE9n9Pn81vHT+nZe/ob7YyBev5MSc7SdI90R36uDY Ww== X-Google-Smtp-Source: AGHT+IGWw6Ztyg+P4vQR2+LtB5wyN7DRjsMhpO6ySgdGc79UXY8sL20Ubwhpp6VoWjcqarL1mvtUy9SbsUKV X-Received: by 2002:a05:6e02:188f:b0:3a7:783d:93d7 with SMTP id e9e14a558f8ab-3afee9a6acfmr58777345ab.4.1734171978379; Sat, 14 Dec 2024 02:26:18 -0800 (PST) Received: from postal.iol.unh.edu (postal.iol.unh.edu. [132.177.123.84]) by smtp-relay.gmail.com with ESMTPS id e9e14a558f8ab-3b249093c29sm876545ab.5.2024.12.14.02.26.18 (version=TLS1_2 cipher=ECDHE-ECDSA-AES128-GCM-SHA256 bits=128/128); Sat, 14 Dec 2024 02:26:18 -0800 (PST) X-Relaying-Domain: iol.unh.edu Date: Sat, 14 Dec 2024 02:26:18 -0800 (PST) Message-ID: <675d5d4a.050a0220.11b702.6444SMTPIN_ADDED_MISSING@mx.google.com> Received: from [172.17.0.2] (unknown [172.18.0.217]) by postal.iol.unh.edu (Postfix) with ESMTP id DC67C6052471; Sat, 14 Dec 2024 05:26:17 -0500 (EST) Subject: |SUCCESS| pw149242-149243 [PATCH] [2/2] drivers/net/sfc: remove unus From: dpdklab@iol.unh.edu To: Test Report Cc: dpdk-test-reports@iol.unh.edu In-Reply-To: <20241213214951.61974-3-otilibil@eurecom.fr> References: <20241213214951.61974-3-otilibil@eurecom.fr> Content-Type: text/plain X-BeenThere: test-report@dpdk.org X-Mailman-Version: 2.1.29 Precedence: list List-Id: automatic DPDK test reports List-Unsubscribe: , List-Archive: List-Post: List-Help: List-Subscribe: , Errors-To: test-report-bounces@dpdk.org Test-Label: iol-unit-amd64-testing Test-Status: SUCCESS http://dpdk.org/patch/149243 _Testing PASS_ Submitter: Ariel Otilibili Date: Friday, December 13 2024 21:41:55 DPDK git baseline: Repo:dpdk Branch: master CommitID:f1e0472368d4dbb1da33ae68b18ca21bc8a55259 149242-149243 --> testing pass Upstream job id: Generic-VM-Unit-Test-DPDK#26590 Test environment and result as below: +---------------------+----------------+ | Environment | dpdk_unit_test | +=====================+================+ | CentOS Stream 9 | PASS | +---------------------+----------------+ | Fedora 39 | PASS | +---------------------+----------------+ | Ubuntu 20.04 | PASS | +---------------------+----------------+ | Ubuntu 22.04 | PASS | +---------------------+----------------+ | Fedora 40 | PASS | +---------------------+----------------+ | Debian 12 | PASS | +---------------------+----------------+ | RHEL9 | PASS | +---------------------+----------------+ | Fedora 39 (Clang) | PASS | +---------------------+----------------+ | Fedora 40 (Clang) | PASS | +---------------------+----------------+ | RHEL8 | PASS | +---------------------+----------------+ | Ubuntu 24.04 | PASS | +---------------------+----------------+ | Windows Server 2022 | PASS | +---------------------+----------------+ CentOS Stream 9 Kernel: Depends on container host Compiler: gcc 11.4.1 20231218 (Red Hat 11.4.1-3) Fedora 39 Kernel: Depends on container host Compiler: gcc 13.3.1 20240522 (Red Hat 13.3.1-1) Ubuntu 20.04 Kernel: Depends on container host Compiler: gcc (Ubuntu 9.4.0-1ubuntu1~20.04.2) 9.4.0 Ubuntu 22.04 Kernel: Depends on container host Compiler: gcc (Ubuntu 11.4.0-1ubuntu1~22.04) 11.4.0 Fedora 40 Kernel: Depends on container host Compiler: gcc 14.2.1 20240801 (Red Hat 14.2.1-1) Debian 12 Kernel: Depends on container host Compiler: gcc (Debian 12.2.0-14) 12.2.0 RHEL9 Kernel: Depends on container host Compiler: gcc 11.4.1 20231218 (Red Hat 11.4.1-3) Fedora 39 (Clang) Kernel: Depends on container host Compiler: clang 17.0.6 (Fedora 17.0.6-2.fc39) Fedora 40 (Clang) Kernel: Depends on container host Compiler: clang 18.1.6 (Fedora 18.1.6-3.fc40) RHEL8 Kernel: Depends on container host Compiler: gcc 8.5.0 20210514 (Red Hat 8.5.0-22) Ubuntu 24.04 Kernel: Depends on container host Compiler: gcc (Ubuntu 13.2.0-23ubuntu4) 13.2.0 Windows Server 2022 Kernel: 10.0.20348.2031 Compiler: clang 15.0.7, gcc 14.1.0 (MinGW), and MSVC VS 19.39.33521 To view detailed results, visit: https://lab.dpdk.org/results/dashboard/patchsets/32144/ UNH-IOL DPDK Community Lab To manage your email subscriptions, visit: https://lab.dpdk.org/results/dashboard/preferences/subscriptions/