From mboxrd@z Thu Jan 1 00:00:00 1970 Return-Path: Received: from mails.dpdk.org (mails.dpdk.org [217.70.189.124]) by inbox.dpdk.org (Postfix) with ESMTP id C39CA45EA0 for ; Sat, 14 Dec 2024 14:03:25 +0100 (CET) Received: from mails.dpdk.org (localhost [127.0.0.1]) by mails.dpdk.org (Postfix) with ESMTP id 9F8AC40296; Sat, 14 Dec 2024 14:03:25 +0100 (CET) Received: from mail-yb1-f226.google.com (mail-yb1-f226.google.com [209.85.219.226]) by mails.dpdk.org (Postfix) with ESMTP id A84D640041 for ; Sat, 14 Dec 2024 14:03:23 +0100 (CET) Received: by mail-yb1-f226.google.com with SMTP id 3f1490d57ef6-e3984b1db09so1954493276.3 for ; Sat, 14 Dec 2024 05:03:23 -0800 (PST) DKIM-Signature: v=1; a=rsa-sha256; c=relaxed/relaxed; d=iol.unh.edu; s=unh-iol; t=1734181403; x=1734786203; darn=dpdk.org; h=cc:to:from:subject:message-id:date:from:to:cc:subject:date :message-id:reply-to; bh=7RHf4lmqJbwup6Nsa3xSDb+lKbdHAdgVS0fohXM2Rf8=; b=S3TEi/fjCd7s6Fu1TvBK80RqdXE+F97j0G/4bkKFUM9AwHmd4O0Ot9j0CHylPq0bwj 6PBRj+lyX3vZ40M0/Vh1CfTeWkz7FCZSWSxCWw4LxzXzolZ/IiovhOMyZMTLfWcZM/rp WdQvN7ZW4aOIrzze4/4NBG6TmjhWeYAotuX70= X-Google-DKIM-Signature: v=1; a=rsa-sha256; c=relaxed/relaxed; d=1e100.net; s=20230601; t=1734181403; x=1734786203; h=cc:to:from:subject:message-id:date:x-gm-message-state:from:to:cc :subject:date:message-id:reply-to; bh=7RHf4lmqJbwup6Nsa3xSDb+lKbdHAdgVS0fohXM2Rf8=; b=P0d+jZpG0WHibwAu9sMkpikEEhAFxai2ehELcGP46ylAJ0pUvNBraVoMiibuN1WIlN LEe3dOsD+kmoJv8aU8pHgNmbLPSugUFc9u0zC8iaccVHkB3f23eObvuEQyvAx1f23R4L Of+MWT6suM8VBzDqB4PX4rnMVjNaedc15G1XbjR8ZxPvcMWtHxQEhQAmyX2xmQjU+WEF vy3wJ8SX6SePr0zROACbifdnRRtlBVn2UA5ooDiWhNW+/cHvM0lb+0FdZmTys0799Bsk Y3LpSNddqnP18eUAd8QgFmeqD0kR2aOthimFAzw2RPdz3pUscOpT5kq7zFG8xrpvftsw vATw== X-Gm-Message-State: AOJu0YxGF1svcjjITCCLtuhyqS1/DPmb+I+qGOdTlMiaHF+IKYrdsrXp +mWH5gjmRCrk3m6OBm5dK6HFAY4Qo0NHgxFrG3+/U3KYogGQrqQUBVMIfVVXGl87XcLSXIqUBAf BsaTFkGfy/hdCyDzMEbr8OvWSFQlRKO0OzUEwzV9QrOVtyMo7 X-Gm-Gg: ASbGnctu16jzIw0lK7ntFpcP+Iiggr7giVVzy4Trxy1yrLIb/81BzKhaXGIkC6TzFZ7 H9QJ5Rk++PhoCIrttWgNBko50TGmulRIgUOXmowsPwOd3MIS2mQWnQBdRqHPFB4oRRvbBkzzLVL scZxwmd00DJZgnlF8t7Q6tiQwIelErFC41Ji5wVDWLv502iynw8KWETCREcxXaRlwdRmGSBRko5 NZzVjqHMJ+5UyoiltKIsdLS6vSN3F3lqQ51ytMTEljtZI2Q/FkWihRoNbG27lHlbJuXz0PeFFWs iu5eYQ== X-Google-Smtp-Source: AGHT+IEGRnVQC/Kxmm4bqvjkdlujJYyu6Bs9vQgmSQVy7/TUnUR3KMYMzYGFOtZWHLvM0V8S5KdCJpBLGD3P X-Received: by 2002:a05:6902:1245:b0:e39:9c32:2270 with SMTP id 3f1490d57ef6-e434a72e546mr4493113276.16.1734181402965; Sat, 14 Dec 2024 05:03:22 -0800 (PST) Received: from postal.iol.unh.edu (postal.iol.unh.edu. [2606:4100:3880:1234::84]) by smtp-relay.gmail.com with ESMTPS id 3f1490d57ef6-e46ffc6d115sm38243276.4.2024.12.14.05.03.22 (version=TLS1_2 cipher=ECDHE-ECDSA-AES128-GCM-SHA256 bits=128/128); Sat, 14 Dec 2024 05:03:22 -0800 (PST) X-Relaying-Domain: iol.unh.edu Date: Sat, 14 Dec 2024 05:03:22 -0800 (PST) Message-ID: <675d821a.050a0220.36c2b4.270cSMTPIN_ADDED_MISSING@mx.google.com> Received: from [172.21.0.5] (unknown [172.18.0.240]) by postal.iol.unh.edu (Postfix) with ESMTP id 8238D6052471; Sat, 14 Dec 2024 08:03:22 -0500 (EST) Subject: |SUCCESS| [GIT MASTER] f1e0472368d4dbb1da33ae68b18ca21bc8a55259 From: dpdklab@iol.unh.edu To: Test Report Cc: dpdk-test-reports@iol.unh.edu, Andrew Rybchenko , Ferruh Yigit Content-Type: text/plain X-BeenThere: test-report@dpdk.org X-Mailman-Version: 2.1.29 Precedence: list List-Id: automatic DPDK test reports List-Unsubscribe: , List-Archive: List-Post: List-Help: List-Subscribe: , Errors-To: test-report-bounces@dpdk.org _Testing PASS_ Branch: dpdk-next-net f1e0472368d4dbb1da33ae68b18ca21bc8a55259 --> testing pass Upstream job id: Generic-Unit-Test-DPDK#299323 Test environment and result as below: +----------------------+--------------+------------------------------+---------------------------+ | Environment | lpm_autotest | cryptodev_sw_snow3g_autotest | cryptodev_sw_zuc_autotest | +======================+==============+==============================+===========================+ | Ubuntu 20.04 ARM SVE | PASS | SKIPPED | SKIPPED | +----------------------+--------------+------------------------------+---------------------------+ | Debian 12 (arm) | SKIPPED | PASS | PASS | +----------------------+--------------+------------------------------+---------------------------+ Ubuntu 20.04 ARM SVE Kernel: Depends on container host Compiler: gcc (Ubuntu 10.5.0-1ubuntu1~20.04) 10.5.0 Debian 12 (arm) Kernel: Depends on container host Compiler: gcc (Debian 12.2.0-14) 12.2.0 To view detailed results, visit: https://lab.dpdk.org/results/dashboard/tarballs/31925/ UNH-IOL DPDK Community Lab To manage your email subscriptions, visit: https://lab.dpdk.org/results/dashboard/preferences/subscriptions/