From mboxrd@z Thu Jan 1 00:00:00 1970 Return-Path: Received: from mails.dpdk.org (mails.dpdk.org [217.70.189.124]) by inbox.dpdk.org (Postfix) with ESMTP id CBA5B45EA0 for ; Sat, 14 Dec 2024 14:53:56 +0100 (CET) Received: from mails.dpdk.org (localhost [127.0.0.1]) by mails.dpdk.org (Postfix) with ESMTP id C826E40274; Sat, 14 Dec 2024 14:53:56 +0100 (CET) Received: from mail-qv1-f100.google.com (mail-qv1-f100.google.com [209.85.219.100]) by mails.dpdk.org (Postfix) with ESMTP id DD5164026F for ; Sat, 14 Dec 2024 14:53:55 +0100 (CET) Received: by mail-qv1-f100.google.com with SMTP id 6a1803df08f44-6d8f544d227so15319756d6.1 for ; Sat, 14 Dec 2024 05:53:55 -0800 (PST) DKIM-Signature: v=1; a=rsa-sha256; c=relaxed/relaxed; d=iol.unh.edu; s=unh-iol; t=1734184435; x=1734789235; darn=dpdk.org; h=cc:to:from:subject:message-id:date:from:to:cc:subject:date :message-id:reply-to; bh=hYK02qJzp2bZA9VaXuOcpwkicAu39So+slhQoGr25Dc=; b=Wff8ZmPG1O52D1OAKzu0eVWnMUBJVb5mVXrhJCEJaVcQGYWcpqr2fyI2RsjnWu06mH ZQ4pLix9J0XwAJF5VmR4AAUTZAeQxlxmf4VQG/QFJxXcsmlKwT5FoKv2H4DED846j1pf 3O22Kb7Ov2wVZogAVyojbpJX4p7rjkCyl/6ME= X-Google-DKIM-Signature: v=1; a=rsa-sha256; c=relaxed/relaxed; d=1e100.net; s=20230601; t=1734184435; x=1734789235; h=cc:to:from:subject:message-id:date:x-gm-message-state:from:to:cc :subject:date:message-id:reply-to; bh=hYK02qJzp2bZA9VaXuOcpwkicAu39So+slhQoGr25Dc=; b=MB4WD5sekB4PwHMuAlGfbGFUNjFCFE1GZFdNPmbJmMbsLvvVf0T3THbnw6ZebZV5SK EwObFpMgklbZNzu4+/fGP6va7YcyySZft9Yic5I4UA3M5DuJvbnNSHS3dyk4ItBICq3u MfmhP0Bz8l26QlCH2ItHPSVXnYigIRF3gNaF++9ccvFaZm3Zt3h708viZKhRKdFfU4xH SMwyvFhzxmSrkKvafK+oXTaOJN9I5YxweHPPI0zjNLqeni+NUIlUT/x9FWd2CWZy2z/8 DimKKk1XWUBLuKk/BLMIaQgvS+WoLxVKKPj23mG4pMHXwmBMTyXr+W6SKxYn6wnXtp2B xW4g== X-Gm-Message-State: AOJu0Yy+nyNgzYJGrWLSixEA77j93ZA+f4WsJ6GlMfYmPdINfk2SCujZ 2uy5XCGwcaH+VoOHxkDzVcsnbBw0mI+xrB5LP6rbWnc6hlGCsUkeJHkkpY+qTP4VWNxFqBFN9cJ eUbraKhhn78Ajtq1/BvSqHBPA0CFoSdjHiMmPO3IH X-Gm-Gg: ASbGncuXzA1rKg/wdtchLj+iapzr6KyLLEmRESpUaA+HqrGLOxFFKzeQdFxp4a7rW9D cXFX02YAteY1o7lCTY43iUfsUIhN9UDqSmqffEn8Csyddj0XqZfn3Vy8Ud6TPqfAq9KxhA6afvP WBoLnDTDvAQNHMZ+SYSskmmIYNSIyGtVEOL2nxN9wzJTi7jQLMpx+bsjXURsaFDaXBuUoZKd+D4 nU+U9HF7OxnyOmBakNXp3ctdq8u061sCtrALgmNVzmvI5x8OcasUZQNrSsMDJ60J/NfYfz+hVip eQ== X-Google-Smtp-Source: AGHT+IHbIpWiQg4xgaypgGXSA/za0PcIu3T7+V/MPX9e509Ih2BIEKNzBwSZ+LibxWfFsNNf9bJJTXasPmXg X-Received: by 2002:a05:6214:301e:b0:6d8:99cf:d2eb with SMTP id 6a1803df08f44-6dc8ca84af2mr110545456d6.21.1734184435269; Sat, 14 Dec 2024 05:53:55 -0800 (PST) Received: from postal.iol.unh.edu (postal.iol.unh.edu. [132.177.123.84]) by smtp-relay.gmail.com with ESMTPS id 6a1803df08f44-6dccd1eaa86sm808586d6.38.2024.12.14.05.53.55 (version=TLS1_2 cipher=ECDHE-ECDSA-AES128-GCM-SHA256 bits=128/128); Sat, 14 Dec 2024 05:53:55 -0800 (PST) X-Relaying-Domain: iol.unh.edu Date: Sat, 14 Dec 2024 05:53:55 -0800 (PST) Message-ID: <675d8df3.050a0220.273f84.6d61SMTPIN_ADDED_MISSING@mx.google.com> Received: from [172.21.0.5] (unknown [172.18.0.240]) by postal.iol.unh.edu (Postfix) with ESMTP id 0979B6052471; Sat, 14 Dec 2024 08:53:55 -0500 (EST) Subject: |SUCCESS| [GIT MASTER] 7df61db6c387703a36306c1aea92225921e2eeb2 From: dpdklab@iol.unh.edu To: Test Report Cc: dpdk-test-reports@iol.unh.edu Content-Type: text/plain X-BeenThere: test-report@dpdk.org X-Mailman-Version: 2.1.29 Precedence: list List-Id: automatic DPDK test reports List-Unsubscribe: , List-Archive: List-Post: List-Help: List-Subscribe: , Errors-To: test-report-bounces@dpdk.org _Testing PASS_ Branch: dpdk 7df61db6c387703a36306c1aea92225921e2eeb2 --> testing pass Upstream job id: Aarch32-Unit-Test#4645 Test environment and result as below: +-----------------------------+----------------+--------------+------------------------------+---------------------------+ | Environment | dpdk_unit_test | lpm_autotest | cryptodev_sw_snow3g_autotest | cryptodev_sw_zuc_autotest | +=============================+================+==============+==============================+===========================+ | Debian 12 (arm) | PASS | SKIPPED | PASS | PASS | +-----------------------------+----------------+--------------+------------------------------+---------------------------+ | Fedora 39 (ARM) | PASS | SKIPPED | SKIPPED | SKIPPED | +-----------------------------+----------------+--------------+------------------------------+---------------------------+ | CentOS Stream 9 (ARM) | PASS | SKIPPED | SKIPPED | SKIPPED | +-----------------------------+----------------+--------------+------------------------------+---------------------------+ | Fedora 40 (ARM) | PASS | SKIPPED | SKIPPED | SKIPPED | +-----------------------------+----------------+--------------+------------------------------+---------------------------+ | RHEL9 (ARM) | PASS | SKIPPED | SKIPPED | SKIPPED | +-----------------------------+----------------+--------------+------------------------------+---------------------------+ | Fedora 40 (ARM Clang) | PASS | SKIPPED | SKIPPED | SKIPPED | +-----------------------------+----------------+--------------+------------------------------+---------------------------+ | Ubuntu 20.04 (ARM) | PASS | SKIPPED | SKIPPED | SKIPPED | +-----------------------------+----------------+--------------+------------------------------+---------------------------+ | Fedora 39 (ARM Clang) | PASS | SKIPPED | SKIPPED | SKIPPED | +-----------------------------+----------------+--------------+------------------------------+---------------------------+ | Ubuntu 22.04 (ARM) | PASS | SKIPPED | SKIPPED | SKIPPED | +-----------------------------+----------------+--------------+------------------------------+---------------------------+ | Ubuntu 24.04 (ARM) | PASS | SKIPPED | SKIPPED | SKIPPED | +-----------------------------+----------------+--------------+------------------------------+---------------------------+ | 32-bit Ubuntu 22.04.4 (ARM) | PASS | SKIPPED | SKIPPED | SKIPPED | +-----------------------------+----------------+--------------+------------------------------+---------------------------+ | Ubuntu 20.04 ARM SVE | SKIPPED | PASS | SKIPPED | SKIPPED | +-----------------------------+----------------+--------------+------------------------------+---------------------------+ Debian 12 (arm) Kernel: Depends on container host Compiler: gcc (Debian 12.2.0-14) 12.2.0 Fedora 39 (ARM) Kernel: Depends on container host Compiler: gcc 13.3.1 20240522 (Red Hat 13.3.1-1) CentOS Stream 9 (ARM) Kernel: Depends on container host Compiler: gcc 11.4.1 20231218 (Red Hat 11.4.1-3) Fedora 40 (ARM) Kernel: Depends on container host Compiler: gcc 14.2.1 20240801 (Red Hat 14.2.1-1) RHEL9 (ARM) Kernel: Depends on container host Compiler: gcc 11.4.1 20231218 (Red Hat 11.4.1-3) Fedora 40 (ARM Clang) Kernel: Depends on container host Compiler: clang 18.1.6 (Fedora 18.1.6-3.fc40) Ubuntu 20.04 (ARM) Kernel: Depends on container host Compiler: gcc (Ubuntu 9.4.0-1ubuntu1~20.04.2) 9.4.0 Fedora 39 (ARM Clang) Kernel: Depends on container host Compiler: clang 17.0.6 (Fedora 17.0.6-2.fc39) Ubuntu 22.04 (ARM) Kernel: Depends on container host Compiler: gcc (Ubuntu 11.4.0-1ubuntu1~22.04) 11.4.0 Ubuntu 24.04 (ARM) Kernel: Depends on container host Compiler: gcc (Ubuntu 13.2.0-23ubuntu4) 13.2.0 32-bit Ubuntu 22.04.4 (ARM) Kernel: 5.15.83+ aarch64 Compiler: gcc (Ubuntu 11.4.0-1ubuntu1~22.04) 11.4.0 Ubuntu 20.04 ARM SVE Kernel: Depends on container host Compiler: gcc (Ubuntu 10.5.0-1ubuntu1~20.04) 10.5.0 To view detailed results, visit: https://lab.dpdk.org/results/dashboard/tarballs/31924/ UNH-IOL DPDK Community Lab To manage your email subscriptions, visit: https://lab.dpdk.org/results/dashboard/preferences/subscriptions/