From mboxrd@z Thu Jan 1 00:00:00 1970 Return-Path: Received: from mails.dpdk.org (mails.dpdk.org [217.70.189.124]) by inbox.dpdk.org (Postfix) with ESMTP id 4D03345EA4 for ; Sat, 14 Dec 2024 22:56:11 +0100 (CET) Received: from mails.dpdk.org (localhost [127.0.0.1]) by mails.dpdk.org (Postfix) with ESMTP id 4A8CB4025F; Sat, 14 Dec 2024 22:56:11 +0100 (CET) Received: from mail-io1-f98.google.com (mail-io1-f98.google.com [209.85.166.98]) by mails.dpdk.org (Postfix) with ESMTP id CBAA44025D for ; Sat, 14 Dec 2024 22:56:10 +0100 (CET) Received: by mail-io1-f98.google.com with SMTP id ca18e2360f4ac-844df397754so92698939f.2 for ; Sat, 14 Dec 2024 13:56:10 -0800 (PST) DKIM-Signature: v=1; a=rsa-sha256; c=relaxed/relaxed; d=iol.unh.edu; s=unh-iol; t=1734213370; x=1734818170; darn=dpdk.org; h=cc:to:from:subject:message-id:date:from:to:cc:subject:date :message-id:reply-to; bh=uA1V9nHmKbZLd7cIuKprboLuMj/Ivcq+z4H89T3eAjU=; b=LVTthoiT6iXrPtrVpsVtoL/noSHe8wBAN2yHHugwP9In1nMHueUHHg71gj1PySBw1a jv7iDjuNyWWlEN+44Q3hQa10dgR4CvmE7swgnlVGyml1Vw2q+jnARrSzgjaJWoIn9qUH lA7wMVPOZZhSdGPbXiytIK+kCUVx2AHY5iXR8= X-Google-DKIM-Signature: v=1; a=rsa-sha256; c=relaxed/relaxed; d=1e100.net; s=20230601; t=1734213370; x=1734818170; h=cc:to:from:subject:message-id:date:x-gm-message-state:from:to:cc :subject:date:message-id:reply-to; bh=uA1V9nHmKbZLd7cIuKprboLuMj/Ivcq+z4H89T3eAjU=; b=dFCVb0+DW971oEi25T/1UrUzqn+fsiSD4QBvQHE5akTJRiftlaACKYqnIRO19F6Y0g utT6gltqB6ssJ+Koi5AlaoPlF+jegCYI7w6l9yL7Fd6CfIigC6Y2TxteacaZmxh+okhQ ggKDk3nPKRDXEWeVFWYi1mm52hYWRZAxYrpac3kFunCMy3nJNuQtdtG1HJoC8L98mbmY bUgxYbfR+b/tWpACdgcP9oBMlgLamiJyCH38tS+WnBmR9lE8rys9qQWbgvNknoGW8VCX UtObbTexDuZfo1Wq3UepoB0nG7UtOHTxvhCL6IkM5YaltsSk/rfOdyGObBp2Fi0Fz4ir +V/A== X-Gm-Message-State: AOJu0Ywz4e9MsXNru7QglK7n+y4+5RiJhVokSEZRcLB8DpJBIEBmu+y6 YvHK4yn0tre5764P0eE1s0PrWhM7vrENl/UZ9KzhV+7jF9HF/BwZEVOA8b4LabD1KPWKPI2NZB3 NQt7IxV4mAPnLzhYWEOvRH0bMNuYUU76yxvQ/X83gj7nF41k8AfmJWtte X-Gm-Gg: ASbGncv8SecPY1U+dKeM7v0dXQWj369R3Hjwp/63t1WmxOIOP4KrXpDlW3dgoeMnEdd VsIjTn+zbkWs8OQiCjZhQlV8n7KTmLnuJ65ePG/Ga/yrAkz1hexYd5+mtYwaNuVspcT3K+aYLFZ Mo5S9WvhqOGNd0Kl3FFACUjXhI18F/kRgi3CF+T68d6zYRynL0e5ND7OdE5AJFIGxN1u8w6PmvY xa3mdV+8SALQD3dabQ2hWN6Fgt9DNlrN4yXXaLtmK49n9+Mj0OF/C3V6hN+YE8LccBJeR/FIB6g RhFlPQ== X-Google-Smtp-Source: AGHT+IFrNS5f8+Csb/+ZfalYHjnOhGLY7HFhXr/opWDPQgTwZ6VFW3Qy/uXgHVTjivnPc5+U248iMOwbgk6r X-Received: by 2002:a05:6602:164f:b0:841:8f92:2afe with SMTP id ca18e2360f4ac-844e8b68007mr632623439f.10.1734213370252; Sat, 14 Dec 2024 13:56:10 -0800 (PST) Received: from postal.iol.unh.edu (postal.iol.unh.edu. [2606:4100:3880:1234::84]) by smtp-relay.gmail.com with ESMTPS id 8926c6da1cb9f-4e5e03672casm91335173.3.2024.12.14.13.56.10 (version=TLS1_2 cipher=ECDHE-ECDSA-AES128-GCM-SHA256 bits=128/128); Sat, 14 Dec 2024 13:56:10 -0800 (PST) X-Relaying-Domain: iol.unh.edu Date: Sat, 14 Dec 2024 13:56:10 -0800 (PST) Message-ID: <675dfefa.050a0220.3d051f.65fdSMTPIN_ADDED_MISSING@mx.google.com> Received: from [172.17.0.4] (unknown [172.18.0.217]) by postal.iol.unh.edu (Postfix) with ESMTP id E08D96052471; Sat, 14 Dec 2024 16:56:09 -0500 (EST) Subject: |SUCCESS| [GIT MASTER] 7df61db6c387703a36306c1aea92225921e2eeb2 From: dpdklab@iol.unh.edu To: Test Report Cc: dpdk-test-reports@iol.unh.edu Content-Type: text/plain X-BeenThere: test-report@dpdk.org X-Mailman-Version: 2.1.29 Precedence: list List-Id: automatic DPDK test reports List-Unsubscribe: , List-Archive: List-Post: List-Help: List-Subscribe: , Errors-To: test-report-bounces@dpdk.org _Testing PASS_ Branch: dpdk 7df61db6c387703a36306c1aea92225921e2eeb2 --> testing pass Upstream job id: ACVP-FIPS-testing#8287 Test environment and result as below: +--------------------+----------------------+----------------------+ | Environment | compressdev_zlib_pmd | dpdk_fips_validation | +====================+======================+======================+ | Ubuntu 22.04 (ARM) | PASS | SKIPPED | +--------------------+----------------------+----------------------+ | Ubuntu 22.04 | PASS | SKIPPED | +--------------------+----------------------+----------------------+ | Ubuntu 20.04 | SKIPPED | PASS | +--------------------+----------------------+----------------------+ Ubuntu 22.04 (ARM) Kernel: 5.15.0-97-generic Compiler: gcc gcc (Ubuntu 11.4.0-1ubuntu1~22.04) 11.4.0 Ubuntu 22.04 Kernel: 5.15.0-100-generic Compiler: gcc gcc (Ubuntu 11.4.0-1ubuntu1~22.04) 11.4.0 Ubuntu 20.04 Kernel: Depends on container host Compiler: gcc (Ubuntu 9.4.0-1ubuntu1~20.04.2) 9.4.0 To view detailed results, visit: https://lab.dpdk.org/results/dashboard/tarballs/31924/ UNH-IOL DPDK Community Lab To manage your email subscriptions, visit: https://lab.dpdk.org/results/dashboard/preferences/subscriptions/