From mboxrd@z Thu Jan  1 00:00:00 1970
Return-Path: <test-report-bounces@dpdk.org>
Received: from mails.dpdk.org (mails.dpdk.org [217.70.189.124])
	by inbox.dpdk.org (Postfix) with ESMTP id D82B345EA4
	for <public@inbox.dpdk.org>; Sat, 14 Dec 2024 23:37:20 +0100 (CET)
Received: from mails.dpdk.org (localhost [127.0.0.1])
	by mails.dpdk.org (Postfix) with ESMTP id D6AC94025F;
	Sat, 14 Dec 2024 23:37:20 +0100 (CET)
Received: from mail-yb1-f227.google.com (mail-yb1-f227.google.com
 [209.85.219.227])
 by mails.dpdk.org (Postfix) with ESMTP id E88804025D
 for <test-report@dpdk.org>; Sat, 14 Dec 2024 23:37:19 +0100 (CET)
Received: by mail-yb1-f227.google.com with SMTP id
 3f1490d57ef6-e479e529ebcso507949276.3
 for <test-report@dpdk.org>; Sat, 14 Dec 2024 14:37:19 -0800 (PST)
DKIM-Signature: v=1; a=rsa-sha256; c=relaxed/relaxed;
 d=iol.unh.edu; s=unh-iol; t=1734215839; x=1734820639; darn=dpdk.org;
 h=references:in-reply-to:cc:to:from:subject:message-id:date:from:to
 :cc:subject:date:message-id:reply-to;
 bh=b+bl7KofUXNPu0zFzc9iOxHQRRdEqvWST9Wet0QWpZE=;
 b=iT+V/M0ImCtv5cDfppu8/JxQ/bQiKb18g1UI7eE0X1DP+pcTn/bG9daoPJU8vT4LHi
 MRvGhvusxLwl+ehLkWncs+iffhxq+8mYoLETCRSEO97VU41aDUZtkgi1mV1In0lrxLQV
 FpL2JoMocQP93WgMfqlO2vz0lmT7POywslfaw=
X-Google-DKIM-Signature: v=1; a=rsa-sha256; c=relaxed/relaxed;
 d=1e100.net; s=20230601; t=1734215839; x=1734820639;
 h=references:in-reply-to:cc:to:from:subject:message-id:date
 :x-gm-message-state:from:to:cc:subject:date:message-id:reply-to;
 bh=b+bl7KofUXNPu0zFzc9iOxHQRRdEqvWST9Wet0QWpZE=;
 b=n9FgG6WBbxsGCODeUsnLbf8JOMAea7B6lwxZJWREeRZadjNtS2DdFE8ATb5w8Va0t7
 0E/+lvnonXa/HE/gbq/WbEwcNC0l2wnd2ZPQ90ngRcrePLSeMeZphr/n9DMbPYeSVQSb
 he1NhCoAd9SyfKxUkbsKkc1WANIT65R8MQlGtpP/qFifKHNYirelrjSko3zlEMEKyqeq
 uonfMzVKO0Cd1wOrurFQf38CKXje6CThdlK/Rjc3eauj3D+rCiSL72HszjqNhEnYrAUB
 QJ8n9Z8FyOL4Mk5XpiK/tukjMdG/hNqZa2y4ta0eDHeiSUdT08WpG6unJmAeoTKv2nkB
 ckcw==
X-Gm-Message-State: AOJu0Yzjlko8jy2/SoVxsklcV7r7xuZFK6l2UmRNCtdmbNhM3FlHq6pJ
 /2S75V+c1kEuCGIyd/n2KDwQKn0GJDy8Yh+p3IL1PIBWxUZ3WSEkfEkgOfwXCpqyqep9eoojV79
 AlqpxzH7XhlSYv3ykDIGafk1AUlUIQ2qI13izqVntJdOeMjTYBCknS+Y/
X-Gm-Gg: ASbGnctKWfZetNuT7WgQ1QRg2ZWxJTwHc1Pj1xmuRzuaWp/yjyJW0YzLtwu9nsLpjLy
 31+PppSgNLsdVhlV4j6MdDluMH4fAEfNfqO0l8Ma83/7bqpNqclk4k1B8qpYcWa/hIy+enECG5C
 YJ7h2hKYvLjUlyYFJHIZTMFIbloALi7jkWGROFTwLrUywX1thSU1lqtUkTQWQ6og08TFT9IMsIL
 HMj7RGDSb6B1TE8LXZSMFUxc1g69XZYxPyr7AojJqRD9SoruQjZEyP+y6XSbQP51OKtbfynXqVc
 mZuLUQ==
X-Google-Smtp-Source: AGHT+IFTyu5yayNhsZlpQ9kVPHESGFOtpB8XNLBfGvsK47keGYNj+uJaQr5UUDkHjG81a3qt9qbXeR24ec+B
X-Received: by 2002:a05:6902:2609:b0:e4a:3170:1e90 with SMTP id
 3f1490d57ef6-e4a31702077mr1522867276.12.1734215839172; 
 Sat, 14 Dec 2024 14:37:19 -0800 (PST)
Received: from postal.iol.unh.edu (postal.iol.unh.edu.
 [2606:4100:3880:1234::84]) by smtp-relay.gmail.com with ESMTPS id
 3f1490d57ef6-e46fff5040fsm51944276.3.2024.12.14.14.37.19
 (version=TLS1_2 cipher=ECDHE-ECDSA-AES128-GCM-SHA256 bits=128/128);
 Sat, 14 Dec 2024 14:37:19 -0800 (PST)
X-Relaying-Domain: iol.unh.edu
Date: Sat, 14 Dec 2024 14:37:19 -0800 (PST)
Message-ID: <675e089f.050a0220.1ef852.35d4SMTPIN_ADDED_MISSING@mx.google.com>
Received: from [172.21.0.5] (unknown [172.18.0.240])
 by postal.iol.unh.edu (Postfix) with ESMTP id C92986052471;
 Sat, 14 Dec 2024 17:37:18 -0500 (EST)
Subject: |SUCCESS| pw149187-149194 [PATCH] [v2,14/14] drivers/vdpa: use porta
From: dpdklab@iol.unh.edu
To: Test Report <test-report@dpdk.org>
Cc: dpdk-test-reports@iol.unh.edu
In-Reply-To: <1733954844-24397-15-git-send-email-andremue@linux.microsoft.com>
References: <1733954844-24397-15-git-send-email-andremue@linux.microsoft.com>
Content-Type: text/plain
X-BeenThere: test-report@dpdk.org
X-Mailman-Version: 2.1.29
Precedence: list
List-Id: automatic DPDK test reports <test-report.dpdk.org>
List-Unsubscribe: <https://mails.dpdk.org/options/test-report>,
 <mailto:test-report-request@dpdk.org?subject=unsubscribe>
List-Archive: <http://mails.dpdk.org/archives/test-report/>
List-Post: <mailto:test-report@dpdk.org>
List-Help: <mailto:test-report-request@dpdk.org?subject=help>
List-Subscribe: <https://mails.dpdk.org/listinfo/test-report>,
 <mailto:test-report-request@dpdk.org?subject=subscribe>
Errors-To: test-report-bounces@dpdk.org

Test-Label: iol-unit-amd64-testing
Test-Status: SUCCESS
http://dpdk.org/patch/149194

_Testing PASS_

Submitter: Andre Muezerie <andremue@linux.microsoft.com>
Date: Wednesday, December 11 2024 22:07:24 
DPDK git baseline: Repo:dpdk
  Branch: master
  CommitID:7df61db6c387703a36306c1aea92225921e2eeb2

149187-149194 --> testing pass

Upstream job id: Generic-Unit-Test-DPDK#299570

Test environment and result as below:

+-------------------+----------------+
|    Environment    | dpdk_unit_test |
+===================+================+
| Fedora 39         | PASS           |
+-------------------+----------------+
| Fedora 40         | PASS           |
+-------------------+----------------+
| Debian 12         | PASS           |
+-------------------+----------------+
| CentOS Stream 9   | PASS           |
+-------------------+----------------+
| Fedora 39 (Clang) | PASS           |
+-------------------+----------------+
| RHEL9             | PASS           |
+-------------------+----------------+
| Ubuntu 20.04      | PASS           |
+-------------------+----------------+
| RHEL8             | PASS           |
+-------------------+----------------+
| Ubuntu 22.04      | PASS           |
+-------------------+----------------+
| Fedora 40 (Clang) | PASS           |
+-------------------+----------------+
| Ubuntu 24.04      | PASS           |
+-------------------+----------------+


Fedora 39
	Kernel: Depends on container host
	Compiler: gcc 13.3.1 20240522 (Red Hat 13.3.1-1)

Fedora 40
	Kernel: Depends on container host
	Compiler: gcc 14.2.1 20240801 (Red Hat 14.2.1-1)

Debian 12
	Kernel: Depends on container host
	Compiler: gcc (Debian 12.2.0-14) 12.2.0

CentOS Stream 9
	Kernel: Depends on container host
	Compiler: gcc 11.4.1 20231218 (Red Hat 11.4.1-3)

Fedora 39 (Clang)
	Kernel: Depends on container host
	Compiler: clang 17.0.6 (Fedora 17.0.6-2.fc39)

RHEL9
	Kernel: Depends on container host
	Compiler: gcc 11.4.1 20231218 (Red Hat 11.4.1-3)

Ubuntu 20.04
	Kernel: Depends on container host
	Compiler: gcc (Ubuntu 9.4.0-1ubuntu1~20.04.2) 9.4.0

RHEL8
	Kernel: Depends on container host
	Compiler: gcc 8.5.0 20210514 (Red Hat 8.5.0-22)

Ubuntu 22.04
	Kernel: Depends on container host
	Compiler: gcc (Ubuntu 11.4.0-1ubuntu1~22.04) 11.4.0

Fedora 40 (Clang)
	Kernel: Depends on container host
	Compiler: clang 18.1.6 (Fedora 18.1.6-3.fc40)

Ubuntu 24.04
	Kernel: Depends on container host
	Compiler: gcc (Ubuntu 13.2.0-23ubuntu4) 13.2.0

To view detailed results, visit:
https://lab.dpdk.org/results/dashboard/patchsets/32122/

UNH-IOL DPDK Community Lab

To manage your email subscriptions, visit: 
https://lab.dpdk.org/results/dashboard/preferences/subscriptions/