From mboxrd@z Thu Jan  1 00:00:00 1970
Return-Path: <test-report-bounces@dpdk.org>
Received: from mails.dpdk.org (mails.dpdk.org [217.70.189.124])
	by inbox.dpdk.org (Postfix) with ESMTP id 6F92B45E98
	for <public@inbox.dpdk.org>; Sun, 15 Dec 2024 00:50:07 +0100 (CET)
Received: from mails.dpdk.org (localhost [127.0.0.1])
	by mails.dpdk.org (Postfix) with ESMTP id 420414025F;
	Sun, 15 Dec 2024 00:50:07 +0100 (CET)
Received: from mail-qv1-f98.google.com (mail-qv1-f98.google.com
 [209.85.219.98]) by mails.dpdk.org (Postfix) with ESMTP id 6559B4025D
 for <test-report@dpdk.org>; Sun, 15 Dec 2024 00:50:05 +0100 (CET)
Received: by mail-qv1-f98.google.com with SMTP id
 6a1803df08f44-6dccd252f30so7686796d6.0
 for <test-report@dpdk.org>; Sat, 14 Dec 2024 15:50:05 -0800 (PST)
DKIM-Signature: v=1; a=rsa-sha256; c=relaxed/relaxed;
 d=iol.unh.edu; s=unh-iol; t=1734220205; x=1734825005; darn=dpdk.org;
 h=references:in-reply-to:cc:to:from:subject:message-id:date:from:to
 :cc:subject:date:message-id:reply-to;
 bh=mc/cahxAUtV8iL/yUE3NowEVLJhGzwsNWWn95bbvSqY=;
 b=hjV7asalxSifv68A1C2Yu5bV47QRwCAK7xg0paDE1h0KfM7enYVgHXP1Zs67SNKZP6
 vg2UjNQBwsIB3W/q3bZGqSStJh8j/D7Gg04zDpxU/xO6gOUghyqF7Fu13xIiJakiYqkl
 30QQcBk1iMZ2+dTzmm9b7loZBYLkiDAQDdVCw=
X-Google-DKIM-Signature: v=1; a=rsa-sha256; c=relaxed/relaxed;
 d=1e100.net; s=20230601; t=1734220205; x=1734825005;
 h=references:in-reply-to:cc:to:from:subject:message-id:date
 :x-gm-message-state:from:to:cc:subject:date:message-id:reply-to;
 bh=mc/cahxAUtV8iL/yUE3NowEVLJhGzwsNWWn95bbvSqY=;
 b=VAj0UpjlG30/enWYG6+eol9mpVDk7LIkcfvJBtM+UNYRo8eixnqVujikrJ3OiU8MEL
 VS9LMGdihGp0WO1zg+0dWCY4URzXtqIq4T40lp0LRq3yDzdR7IPbnhcM6Jc5Ll+4hY6v
 ek4dwKMkiJSKdIZyakdLYH8RpiYwWt85c7fr4/PMIb1Fv7uEdI3xkuwwZeFZ8m5B6qlw
 54aYISFrAln7Hz8OYZfO2cw8eqUNoyQDI7aN7txtQASS91JCrHSstoK9biUXoN3cmxDf
 lJ3jdyW+/zlnu4lFTpH4AMeNztk+G1vQTKS7jDOr0GwMt1xtaUiFNP+557yL5VD1wfH7
 M84g==
X-Gm-Message-State: AOJu0Yx0NE5RrMRsOJxXj6NGUIjB4prHgB9EBzYKdypgWLRN6W5DohgF
 MxuXLCASn/BnbGwMQPux0mHN1xL9JB7yjgr+T1AGNXd7+49bjZZvic/uq9SZ7swZoVvuU7G9bhF
 Cx+t/LOON4gtNPQP0ymvrrf46A9DvTVB4vjd5mS8R
X-Gm-Gg: ASbGncvhYQJ1wteyZfIt3ilcWOgAWZjUGvQgcg/+ap8/Ja1tTH+vqA0MZbZWW9ctN+D
 u3KbjqGlzQUfN1rGmjX3RfOnDPSiPBPQUaFOqOGbVTWoDgiVHgKKZ1TKcIjW0f6Wg7bFZFFJTxj
 7j+SR5mJOcv7FGnsAEDWvmXQokc/h27U2Vj3c9wlj4VrdfdUTxvzF8gueu1cJ/+K5t1dXGB4QWu
 1FQZDJihEQGKhMO4AGgIRlW27VeSfWh1YjqO4Vs54SQq+lGRJC/7XkIJzBz3KA5oum7uQfNhcJr
 WA==
X-Google-Smtp-Source: AGHT+IGeLERwsE4jiaOQWVd09XdYSla6wQNkuGSr1MxNYXQJgsr9g6UwDtufhKHFuN8iOMioRVNv2fol9hnM
X-Received: by 2002:a05:6214:248e:b0:6d8:ada3:26d3 with SMTP id
 6a1803df08f44-6dc8ca3eafbmr144503026d6.9.1734220204741; 
 Sat, 14 Dec 2024 15:50:04 -0800 (PST)
Received: from postal.iol.unh.edu (postal.iol.unh.edu. [132.177.123.84])
 by smtp-relay.gmail.com with ESMTPS id
 6a1803df08f44-6dccd346369sm1275016d6.73.2024.12.14.15.50.04
 (version=TLS1_2 cipher=ECDHE-ECDSA-AES128-GCM-SHA256 bits=128/128);
 Sat, 14 Dec 2024 15:50:04 -0800 (PST)
X-Relaying-Domain: iol.unh.edu
Date: Sat, 14 Dec 2024 15:50:04 -0800 (PST)
Message-ID: <675e19ac.d40a0220.32baa0.8d68SMTPIN_ADDED_MISSING@mx.google.com>
Received: from [172.17.0.2] (unknown [172.18.0.217])
 by postal.iol.unh.edu (Postfix) with ESMTP id 589C66052471;
 Sat, 14 Dec 2024 18:50:04 -0500 (EST)
Subject: |WARNING| pw149187-149194 [PATCH] [v2,14/14] drivers/vdpa: use porta
From: dpdklab@iol.unh.edu
To: Test Report <test-report@dpdk.org>
Cc: dpdk-test-reports@iol.unh.edu
In-Reply-To: <1733954844-24397-15-git-send-email-andremue@linux.microsoft.com>
References: <1733954844-24397-15-git-send-email-andremue@linux.microsoft.com>
Content-Type: text/plain
X-BeenThere: test-report@dpdk.org
X-Mailman-Version: 2.1.29
Precedence: list
List-Id: automatic DPDK test reports <test-report.dpdk.org>
List-Unsubscribe: <https://mails.dpdk.org/options/test-report>,
 <mailto:test-report-request@dpdk.org?subject=unsubscribe>
List-Archive: <http://mails.dpdk.org/archives/test-report/>
List-Post: <mailto:test-report@dpdk.org>
List-Help: <mailto:test-report-request@dpdk.org?subject=help>
List-Subscribe: <https://mails.dpdk.org/listinfo/test-report>,
 <mailto:test-report-request@dpdk.org?subject=subscribe>
Errors-To: test-report-bounces@dpdk.org

Test-Label: iol-compile-amd64-testing
Test-Status: WARNING
http://dpdk.org/patch/149194

_Testing issues_

Submitter: Andre Muezerie <andremue@linux.microsoft.com>
Date: Wednesday, December 11 2024 22:07:24 
DPDK git baseline: Repo:dpdk
  Branch: master
  CommitID:7df61db6c387703a36306c1aea92225921e2eeb2

149187-149194 --> testing issues

Upstream job id: Generic-DPDK-Compile-Meson#343730

Test environment and result as below:

+-------------------+--------------------+------------------+-------------------+
|    Environment    | dpdk_meson_compile | dpdk_compile_ovs | dpdk_compile_spdk |
+===================+====================+==================+===================+
| CentOS Stream 9   | PASS               | PASS             | PASS              |
+-------------------+--------------------+------------------+-------------------+
| Debian 12         | PASS               | PASS             | PASS              |
+-------------------+--------------------+------------------+-------------------+
| Fedora 40 (Clang) | PASS               | PASS             | PASS              |
+-------------------+--------------------+------------------+-------------------+
| Fedora 39 (Clang) | PASS               | PASS             | PASS              |
+-------------------+--------------------+------------------+-------------------+
| Fedora 39         | PASS               | PASS             | PASS              |
+-------------------+--------------------+------------------+-------------------+
| Ubuntu 22.04      | PASS               | PASS             | PASS              |
+-------------------+--------------------+------------------+-------------------+
| RHEL8             | PASS               | PASS             | SKIPPED           |
+-------------------+--------------------+------------------+-------------------+
| openSUSE Leap 15  | PASS               | WARN             | SKIPPED           |
+-------------------+--------------------+------------------+-------------------+
| Fedora 40         | PASS               | PASS             | PASS              |
+-------------------+--------------------+------------------+-------------------+
| RHEL9             | PASS               | PASS             | SKIPPED           |
+-------------------+--------------------+------------------+-------------------+
| Ubuntu 20.04      | PASS               | WARN             | SKIPPED           |
+-------------------+--------------------+------------------+-------------------+
| Ubuntu 24.04      | PASS               | PASS             | PASS              |
+-------------------+--------------------+------------------+-------------------+
| Alpine            | PASS               | PASS             | SKIPPED           |
+-------------------+--------------------+------------------+-------------------+
| FreeBSD 13.4      | PASS               | SKIPPED          | SKIPPED           |
+-------------------+--------------------+------------------+-------------------+
| FreeBSD 14.2      | PASS               | SKIPPED          | SKIPPED           |
+-------------------+--------------------+------------------+-------------------+

==== 20 line log output for Ubuntu 20.04 (dpdk_compile_ovs): ====
 --- Failed to get log output --- 
==== End log output ====

CentOS Stream 9
	Kernel: Depends on container host
	Compiler: gcc 11.4.1 20231218 (Red Hat 11.4.1-3)

Debian 12
	Kernel: Depends on container host
	Compiler: gcc (Debian 12.2.0-14) 12.2.0

Fedora 40 (Clang)
	Kernel: Depends on container host
	Compiler: clang 18.1.6 (Fedora 18.1.6-3.fc40)

Fedora 39 (Clang)
	Kernel: Depends on container host
	Compiler: clang 17.0.6 (Fedora 17.0.6-2.fc39)

Fedora 39
	Kernel: Depends on container host
	Compiler: gcc 13.3.1 20240522 (Red Hat 13.3.1-1)

Ubuntu 22.04
	Kernel: Depends on container host
	Compiler: gcc (Ubuntu 11.4.0-1ubuntu1~22.04) 11.4.0

RHEL8
	Kernel: Depends on container host
	Compiler: gcc 8.5.0 20210514 (Red Hat 8.5.0-22)

openSUSE Leap 15
	Kernel: Depends on container host
	Compiler: gcc (SUSE Linux) 7.5.0

Fedora 40
	Kernel: Depends on container host
	Compiler: gcc 14.2.1 20240801 (Red Hat 14.2.1-1)

RHEL9
	Kernel: Depends on container host
	Compiler: gcc 11.4.1 20231218 (Red Hat 11.4.1-3)

Ubuntu 20.04
	Kernel: Depends on container host
	Compiler: gcc (Ubuntu 9.4.0-1ubuntu1~20.04.2) 9.4.0

Ubuntu 24.04
	Kernel: Depends on container host
	Compiler: gcc (Ubuntu 13.2.0-23ubuntu4) 13.2.0

Alpine
	Kernel: Depends on container host
	Compiler: gcc (Alpine 13.2.1_git20240309) 13.2.1 20240309

FreeBSD 13.4
	Kernel: 13.4-RELEASE-p1
	Compiler: clang 18.1.6

FreeBSD 14.2
	Kernel: 14.2-RELEASE
	Compiler: clang 18.1.6

To view detailed results, visit:
https://lab.dpdk.org/results/dashboard/patchsets/32122/

UNH-IOL DPDK Community Lab

To manage your email subscriptions, visit: 
https://lab.dpdk.org/results/dashboard/preferences/subscriptions/