From mboxrd@z Thu Jan  1 00:00:00 1970
Return-Path: <test-report-bounces@dpdk.org>
Received: from mails.dpdk.org (mails.dpdk.org [217.70.189.124])
	by inbox.dpdk.org (Postfix) with ESMTP id C9E3B45E98
	for <public@inbox.dpdk.org>; Sun, 15 Dec 2024 01:39:42 +0100 (CET)
Received: from mails.dpdk.org (localhost [127.0.0.1])
	by mails.dpdk.org (Postfix) with ESMTP id A24004025F;
	Sun, 15 Dec 2024 01:39:42 +0100 (CET)
Received: from mail-qv1-f100.google.com (mail-qv1-f100.google.com
 [209.85.219.100])
 by mails.dpdk.org (Postfix) with ESMTP id 580D74025D
 for <test-report@dpdk.org>; Sun, 15 Dec 2024 01:39:40 +0100 (CET)
Received: by mail-qv1-f100.google.com with SMTP id
 6a1803df08f44-6dcdf23b4edso1043836d6.0
 for <test-report@dpdk.org>; Sat, 14 Dec 2024 16:39:40 -0800 (PST)
DKIM-Signature: v=1; a=rsa-sha256; c=relaxed/relaxed;
 d=iol.unh.edu; s=unh-iol; t=1734223179; x=1734827979; darn=dpdk.org;
 h=references:in-reply-to:cc:to:from:subject:message-id:date:from:to
 :cc:subject:date:message-id:reply-to;
 bh=py0PLs+NgA2aakiFxDcvf2IXfa4i7tNS1ysiZlGm23o=;
 b=dqBNfOj1DqkLpQCEo2Wo1TMhAUfgqTQPp2UHPc4KcyoBLscUUq0Bxj5KUmvVGakSuZ
 1YSYTNxG7dzTozr/QIj6QNLJFcdjVgL7H0h7Q7tPNuK7SWSeiT4pN6RA4QpyNwaA1Jvq
 2oODLpBY+MV4QbmdHOtwBQjmtPC/UxRbRNj3M=
X-Google-DKIM-Signature: v=1; a=rsa-sha256; c=relaxed/relaxed;
 d=1e100.net; s=20230601; t=1734223179; x=1734827979;
 h=references:in-reply-to:cc:to:from:subject:message-id:date
 :x-gm-message-state:from:to:cc:subject:date:message-id:reply-to;
 bh=py0PLs+NgA2aakiFxDcvf2IXfa4i7tNS1ysiZlGm23o=;
 b=ORaaYglJMerRrw13+UpREtL1vc7+6wa3i6rZBY/qbx1c/pV6b0fB7Tu8I52rqTfViy
 a6JCGow47IHQWxDUNd8pQkN1MsFypVdrl/5O6TCn70LUbOayg4eCZr70RGlv5V5Nc5RH
 aun23e/An6Gv5ThHxKGtHANSRB9mrGz+SksAu2r1ggmYfoFbn8SyeCxcnJssdE2nYNst
 hb1JBatiPIHWtJVwTlNGAgSxt8JXY2koaeSv2gb/iuEZCF0xXg6srmAbO4Zj+62KxakR
 tCnP89DZBDsTKusTk6aMw6iwrzvhcxrWnsyd4vWA0JEmRIpZH9Xh1VXTDXN+eto4BSKv
 4W8A==
X-Gm-Message-State: AOJu0Yw/vPSREP3zTicrx+REiKngWW+gyiJDwNaNPzgE3MLAwmnZYSKI
 PqbVoVkc98mCL/2h3C5aNy35ZS5zg1tJXvhTkbKeXQIu8CcIXHioCkLmHQebgADaMsA4NlePI6K
 LKLPrvvuTldigg1RYXUt6NgZk7HrbmLP6UR9MgQ/f
X-Gm-Gg: ASbGncvCZYgE29z3Cagp4z48x3EuerqtGMJeIxbAm7qFpVwkgjxivpct76mMX4ZZD9Q
 ejwF1651QxqzWJu0uBLoBcXxbqWqQuQjrzi2V7E38GgkVhSCpnrzl/sHMtLXPmN5gN7jFsRi/RU
 opryjysZmH84qU+ulcHZzCh9Udo4lCccyA+59VbA5ynSOaS2bfzAqFFUoNzF4vhCQ++ezHPu2c7
 0ndVVX85H0IOBZAhLM+x1e9zbnXb/ipKF7qgev9FNT3MhvcC+tn/YUEcH99vXDXxnBmRc6mGBrx
 oA==
X-Google-Smtp-Source: AGHT+IH5WCdUrTXESZQP4ztv5GqNY2e3LqOsFqIY/cUrtFvZdrh8gx+N5IfdHJuQtyDYpUR7x5fZSgc9umGC
X-Received: by 2002:a05:6214:2388:b0:6d8:ab7e:e552 with SMTP id
 6a1803df08f44-6dc96878b78mr151955926d6.39.1734223179653; 
 Sat, 14 Dec 2024 16:39:39 -0800 (PST)
Received: from postal.iol.unh.edu (postal.iol.unh.edu. [132.177.123.84])
 by smtp-relay.gmail.com with ESMTPS id
 6a1803df08f44-6dccd1b9624sm1274776d6.14.2024.12.14.16.39.39
 (version=TLS1_2 cipher=ECDHE-ECDSA-AES128-GCM-SHA256 bits=128/128);
 Sat, 14 Dec 2024 16:39:39 -0800 (PST)
X-Relaying-Domain: iol.unh.edu
Date: Sat, 14 Dec 2024 16:39:39 -0800 (PST)
Message-ID: <675e254b.050a0220.2f1fa0.8feaSMTPIN_ADDED_MISSING@mx.google.com>
Received: from [172.17.0.3] (unknown [172.18.0.217])
 by postal.iol.unh.edu (Postfix) with ESMTP id 5C1D86052471;
 Sat, 14 Dec 2024 19:39:39 -0500 (EST)
Subject: |SUCCESS| pw149246-149250 [PATCH] [v2,5/5] net/virtio: remove unneed
From: dpdklab@iol.unh.edu
To: Test Report <test-report@dpdk.org>
Cc: dpdk-test-reports@iol.unh.edu
In-Reply-To: <20241214180843.6662-6-stephen@networkplumber.org>
References: <20241214180843.6662-6-stephen@networkplumber.org>
Content-Type: text/plain
X-BeenThere: test-report@dpdk.org
X-Mailman-Version: 2.1.29
Precedence: list
List-Id: automatic DPDK test reports <test-report.dpdk.org>
List-Unsubscribe: <https://mails.dpdk.org/options/test-report>,
 <mailto:test-report-request@dpdk.org?subject=unsubscribe>
List-Archive: <http://mails.dpdk.org/archives/test-report/>
List-Post: <mailto:test-report@dpdk.org>
List-Help: <mailto:test-report-request@dpdk.org?subject=help>
List-Subscribe: <https://mails.dpdk.org/listinfo/test-report>,
 <mailto:test-report-request@dpdk.org?subject=subscribe>
Errors-To: test-report-bounces@dpdk.org

Test-Label: iol-unit-amd64-testing
Test-Status: SUCCESS
http://dpdk.org/patch/149250

_Testing PASS_

Submitter: Stephen Hemminger <stephen@networkplumber.org>
Date: Saturday, December 14 2024 18:07:36 
DPDK git baseline: Repo:dpdk
  Branch: master
  CommitID:f1e0472368d4dbb1da33ae68b18ca21bc8a55259

149246-149250 --> testing pass

Upstream job id: Generic-VM-Unit-Test-DPDK#26608

Test environment and result as below:

+---------------------+----------------+
|     Environment     | dpdk_unit_test |
+=====================+================+
| Debian 12           | PASS           |
+---------------------+----------------+
| CentOS Stream 9     | PASS           |
+---------------------+----------------+
| Fedora 39           | PASS           |
+---------------------+----------------+
| Fedora 39 (Clang)   | PASS           |
+---------------------+----------------+
| Ubuntu 20.04        | PASS           |
+---------------------+----------------+
| Fedora 40 (Clang)   | PASS           |
+---------------------+----------------+
| Fedora 40           | PASS           |
+---------------------+----------------+
| RHEL8               | PASS           |
+---------------------+----------------+
| RHEL9               | PASS           |
+---------------------+----------------+
| Ubuntu 24.04        | PASS           |
+---------------------+----------------+
| Ubuntu 22.04        | PASS           |
+---------------------+----------------+
| Windows Server 2022 | PASS           |
+---------------------+----------------+


Debian 12
	Kernel: Depends on container host
	Compiler: gcc (Debian 12.2.0-14) 12.2.0

CentOS Stream 9
	Kernel: Depends on container host
	Compiler: gcc 11.4.1 20231218 (Red Hat 11.4.1-3)

Fedora 39
	Kernel: Depends on container host
	Compiler: gcc 13.3.1 20240522 (Red Hat 13.3.1-1)

Fedora 39 (Clang)
	Kernel: Depends on container host
	Compiler: clang 17.0.6 (Fedora 17.0.6-2.fc39)

Ubuntu 20.04
	Kernel: Depends on container host
	Compiler: gcc (Ubuntu 9.4.0-1ubuntu1~20.04.2) 9.4.0

Fedora 40 (Clang)
	Kernel: Depends on container host
	Compiler: clang 18.1.6 (Fedora 18.1.6-3.fc40)

Fedora 40
	Kernel: Depends on container host
	Compiler: gcc 14.2.1 20240801 (Red Hat 14.2.1-1)

RHEL8
	Kernel: Depends on container host
	Compiler: gcc 8.5.0 20210514 (Red Hat 8.5.0-22)

RHEL9
	Kernel: Depends on container host
	Compiler: gcc 11.4.1 20231218 (Red Hat 11.4.1-3)

Ubuntu 24.04
	Kernel: Depends on container host
	Compiler: gcc (Ubuntu 13.2.0-23ubuntu4) 13.2.0

Ubuntu 22.04
	Kernel: Depends on container host
	Compiler: gcc (Ubuntu 11.4.0-1ubuntu1~22.04) 11.4.0

Windows Server 2022
	Kernel: 10.0.20348.2031
	Compiler: clang 15.0.7, gcc 14.1.0 (MinGW), and MSVC VS 19.39.33521

To view detailed results, visit:
https://lab.dpdk.org/results/dashboard/patchsets/32146/

UNH-IOL DPDK Community Lab

To manage your email subscriptions, visit: 
https://lab.dpdk.org/results/dashboard/preferences/subscriptions/