From mboxrd@z Thu Jan  1 00:00:00 1970
Return-Path: <test-report-bounces@dpdk.org>
Received: from mails.dpdk.org (mails.dpdk.org [217.70.189.124])
	by inbox.dpdk.org (Postfix) with ESMTP id 0883A45EA4
	for <public@inbox.dpdk.org>; Sun, 15 Dec 2024 03:03:06 +0100 (CET)
Received: from mails.dpdk.org (localhost [127.0.0.1])
	by mails.dpdk.org (Postfix) with ESMTP id D508F40296;
	Sun, 15 Dec 2024 03:03:05 +0100 (CET)
Received: from mail-pf1-f225.google.com (mail-pf1-f225.google.com
 [209.85.210.225])
 by mails.dpdk.org (Postfix) with ESMTP id B582B4027E
 for <test-report@dpdk.org>; Sun, 15 Dec 2024 03:03:04 +0100 (CET)
Received: by mail-pf1-f225.google.com with SMTP id
 d2e1a72fcca58-72764c995e5so1794057b3a.2
 for <test-report@dpdk.org>; Sat, 14 Dec 2024 18:03:04 -0800 (PST)
DKIM-Signature: v=1; a=rsa-sha256; c=relaxed/relaxed;
 d=iol.unh.edu; s=unh-iol; t=1734228184; x=1734832984; darn=dpdk.org;
 h=references:in-reply-to:cc:to:from:subject:message-id:date:from:to
 :cc:subject:date:message-id:reply-to;
 bh=vbAKjF3pdyyjQMV5+3MIskJYMfeZxWl3D06cqJsfh5Y=;
 b=CbIrzydjd3qPIu+KSKh2QuuSuRmjz1UGMFTJOmnlE8IaQntXTWFeYk60IBZ3yMW0/W
 JWJwc/brAOTqHtCDEVo0ldj9FxMjUNADMR5cZfTRuJ/yEonSlw3e/w9GBfSnx9UgOEvC
 f57cX5fIxIn7IWEuyrJBHk+sm7WTDYQowDEmY=
X-Google-DKIM-Signature: v=1; a=rsa-sha256; c=relaxed/relaxed;
 d=1e100.net; s=20230601; t=1734228184; x=1734832984;
 h=references:in-reply-to:cc:to:from:subject:message-id:date
 :x-gm-message-state:from:to:cc:subject:date:message-id:reply-to;
 bh=vbAKjF3pdyyjQMV5+3MIskJYMfeZxWl3D06cqJsfh5Y=;
 b=ImZhN6VBU7Y0pZVXfwy5GKn4Te/Fr0idfELzvEcpxiyA2oiTQyMFkHDJlED4ph37Kc
 9sbzYRCdX9oPQSn7wZmMIOSIRyMvGZ9sNRQ0LIeYo+mj2eTkk9hpf5Uo2MewHshoRvJo
 HywFYX2+oLEiHv6XtzjK3bwGFqJx8bDz5p0FecYeATJy+KWwI04mdU2RyPs3a+iW5enk
 RTcWkYs+tscmbQbYp46NXvgJq1RRa7xPrEc+zvql0YgeXnEkBJqtkxctdnTThqbA38oi
 +EI9c0HCd/j/vAStm6D2BNs46tApyLho9oNLl/G6jmlm6Wr5BgY5Wz5x2Kz86wTMAawm
 iE5Q==
X-Gm-Message-State: AOJu0YxLKFADA/oo1HTmgkKcieRReGwFqbAtVFumwIVWYE9NKPfcP5jw
 ZNNuutHYCnJ+MxHEWTNB8Hsmv1kVb3yRajJ/ovZPAvdb1UjhcyrIoFycBy4TDx4QwH7RA9S/GEa
 b6pGrPkuqJTM25h7w7sxA3By8ClltdNwYnH4+hyhe
X-Gm-Gg: ASbGnctQYMcH9aEVwlomkDxUQvjCVaFPwjbcQ+I8psjUoh9zs1iZFKQWMd2LR2nW2Ra
 9Xq1zPqA3Cwu74zAKoEdRFz63m7ign7ps32LHL6oI2xB7t4inHT2x1TH+PgNMcH+7hCkBCyQUIl
 oNM8C7hqZpfMhCOzu0HbstTJnpzP/qPLeK1SPTlXL0yiQtOkbo5ABAlbVe0V+7CFWUqpAKMHJmx
 SEzx0jdNuBk8lR2hqQomxfRdEptYkcsH1I0BBFkJBgQCyL01EgKtFJeoo67IGjWUu/Q17JWdkc1
 Lg==
X-Google-Smtp-Source: AGHT+IFLlzWUhYmY6eXpz6EpZ1bVla8te/QoRaR0jOQtbyPQs4RHjQ/qDlsJPwC2khZlIVbH1y3bpC+wigU7
X-Received: by 2002:a05:6a21:789e:b0:1e0:c6c0:1e1f with SMTP id
 adf61e73a8af0-1e1dfe1292dmr10612586637.36.1734228183743; 
 Sat, 14 Dec 2024 18:03:03 -0800 (PST)
Received: from postal.iol.unh.edu (postal.iol.unh.edu. [132.177.123.84])
 by smtp-relay.gmail.com with ESMTPS id
 41be03b00d2f7-801d5afad7esm94463a12.19.2024.12.14.18.03.03
 (version=TLS1_2 cipher=ECDHE-ECDSA-AES128-GCM-SHA256 bits=128/128);
 Sat, 14 Dec 2024 18:03:03 -0800 (PST)
X-Relaying-Domain: iol.unh.edu
Date: Sat, 14 Dec 2024 18:03:03 -0800 (PST)
Message-ID: <675e38d7.630a0220.3d309c.64ebSMTPIN_ADDED_MISSING@mx.google.com>
Received: from [172.17.0.2] (unknown [172.18.0.217])
 by postal.iol.unh.edu (Postfix) with ESMTP id D9FA76052471;
 Sat, 14 Dec 2024 21:03:02 -0500 (EST)
Subject: |WARNING| pw149199-149200 [PATCH] [v2,2/2] dts: add port restart con
From: dpdklab@iol.unh.edu
To: Test Report <test-report@dpdk.org>
Cc: dpdk-test-reports@iol.unh.edu
In-Reply-To: <20241212132807.263829-3-thomas.wilks@arm.com>
References: <20241212132807.263829-3-thomas.wilks@arm.com>
Content-Type: text/plain
X-BeenThere: test-report@dpdk.org
X-Mailman-Version: 2.1.29
Precedence: list
List-Id: automatic DPDK test reports <test-report.dpdk.org>
List-Unsubscribe: <https://mails.dpdk.org/options/test-report>,
 <mailto:test-report-request@dpdk.org?subject=unsubscribe>
List-Archive: <http://mails.dpdk.org/archives/test-report/>
List-Post: <mailto:test-report@dpdk.org>
List-Help: <mailto:test-report-request@dpdk.org?subject=help>
List-Subscribe: <https://mails.dpdk.org/listinfo/test-report>,
 <mailto:test-report-request@dpdk.org?subject=subscribe>
Errors-To: test-report-bounces@dpdk.org

Test-Label: iol-compile-amd64-testing
Test-Status: WARNING
http://dpdk.org/patch/149200

_Testing issues_

Submitter: Thomas Wilks <thomas.wilks@arm.com>
Date: Thursday, December 12 2024 13:28:07 
DPDK git baseline: Repo:dpdk
  Branch: master
  CommitID:7df61db6c387703a36306c1aea92225921e2eeb2

149199-149200 --> testing issues

Upstream job id: Windows-Compile-DPDK-Native#25351

Test environment and result as below:

+---------------------+--------------------+------------------+-------------------+-----------------------+
|     Environment     | dpdk_meson_compile | dpdk_compile_ovs | dpdk_compile_spdk | dpdk_win_llvm_compile |
+=====================+====================+==================+===================+=======================+
| CentOS Stream 9     | PASS               | PASS             | PASS              | SKIPPED               |
+---------------------+--------------------+------------------+-------------------+-----------------------+
| Fedora 39 (Clang)   | PASS               | PASS             | PASS              | SKIPPED               |
+---------------------+--------------------+------------------+-------------------+-----------------------+
| Fedora 39           | PASS               | PASS             | PASS              | SKIPPED               |
+---------------------+--------------------+------------------+-------------------+-----------------------+
| Fedora 40           | PASS               | PASS             | PASS              | SKIPPED               |
+---------------------+--------------------+------------------+-------------------+-----------------------+
| Fedora 40 (Clang)   | PASS               | PASS             | PASS              | SKIPPED               |
+---------------------+--------------------+------------------+-------------------+-----------------------+
| RHEL8               | PASS               | PASS             | SKIPPED           | SKIPPED               |
+---------------------+--------------------+------------------+-------------------+-----------------------+
| RHEL9               | PASS               | PASS             | SKIPPED           | SKIPPED               |
+---------------------+--------------------+------------------+-------------------+-----------------------+
| Ubuntu 20.04        | PASS               | WARN             | SKIPPED           | SKIPPED               |
+---------------------+--------------------+------------------+-------------------+-----------------------+
| Ubuntu 22.04        | PASS               | PASS             | PASS              | SKIPPED               |
+---------------------+--------------------+------------------+-------------------+-----------------------+
| Alpine              | PASS               | PASS             | SKIPPED           | SKIPPED               |
+---------------------+--------------------+------------------+-------------------+-----------------------+
| FreeBSD 13.4        | PASS               | SKIPPED          | SKIPPED           | SKIPPED               |
+---------------------+--------------------+------------------+-------------------+-----------------------+
| FreeBSD 14.2        | PASS               | SKIPPED          | SKIPPED           | SKIPPED               |
+---------------------+--------------------+------------------+-------------------+-----------------------+
| Debian 12           | PASS               | PASS             | PASS              | SKIPPED               |
+---------------------+--------------------+------------------+-------------------+-----------------------+
| openSUSE Leap 15    | PASS               | WARN             | SKIPPED           | SKIPPED               |
+---------------------+--------------------+------------------+-------------------+-----------------------+
| Ubuntu 24.04        | PASS               | PASS             | PASS              | SKIPPED               |
+---------------------+--------------------+------------------+-------------------+-----------------------+
| Windows Server 2022 | SKIPPED            | SKIPPED          | SKIPPED           | PASS                  |
+---------------------+--------------------+------------------+-------------------+-----------------------+

==== 20 line log output for openSUSE Leap 15 (dpdk_compile_ovs): ====
 --- Failed to get log output --- 
==== End log output ====

CentOS Stream 9
	Kernel: Depends on container host
	Compiler: gcc 11.4.1 20231218 (Red Hat 11.4.1-3)

Fedora 39 (Clang)
	Kernel: Depends on container host
	Compiler: clang 17.0.6 (Fedora 17.0.6-2.fc39)

Fedora 39
	Kernel: Depends on container host
	Compiler: gcc 13.3.1 20240522 (Red Hat 13.3.1-1)

Fedora 40
	Kernel: Depends on container host
	Compiler: gcc 14.2.1 20240801 (Red Hat 14.2.1-1)

Fedora 40 (Clang)
	Kernel: Depends on container host
	Compiler: clang 18.1.6 (Fedora 18.1.6-3.fc40)

RHEL8
	Kernel: Depends on container host
	Compiler: gcc 8.5.0 20210514 (Red Hat 8.5.0-22)

RHEL9
	Kernel: Depends on container host
	Compiler: gcc 11.4.1 20231218 (Red Hat 11.4.1-3)

Ubuntu 20.04
	Kernel: Depends on container host
	Compiler: gcc (Ubuntu 9.4.0-1ubuntu1~20.04.2) 9.4.0

Ubuntu 22.04
	Kernel: Depends on container host
	Compiler: gcc (Ubuntu 11.4.0-1ubuntu1~22.04) 11.4.0

Alpine
	Kernel: Depends on container host
	Compiler: gcc (Alpine 13.2.1_git20240309) 13.2.1 20240309

FreeBSD 13.4
	Kernel: 13.4-RELEASE-p1
	Compiler: clang 18.1.6

FreeBSD 14.2
	Kernel: 14.2-RELEASE
	Compiler: clang 18.1.6

Debian 12
	Kernel: Depends on container host
	Compiler: gcc (Debian 12.2.0-14) 12.2.0

openSUSE Leap 15
	Kernel: Depends on container host
	Compiler: gcc (SUSE Linux) 7.5.0

Ubuntu 24.04
	Kernel: Depends on container host
	Compiler: gcc (Ubuntu 13.2.0-23ubuntu4) 13.2.0

Windows Server 2022
	Kernel: 10.0.20348.2031
	Compiler: clang 15.0.7, gcc 14.1.0 (MinGW), and MSVC VS 19.39.33521

To view detailed results, visit:
https://lab.dpdk.org/results/dashboard/patchsets/32124/

UNH-IOL DPDK Community Lab

To manage your email subscriptions, visit: 
https://lab.dpdk.org/results/dashboard/preferences/subscriptions/