From mboxrd@z Thu Jan 1 00:00:00 1970 Return-Path: Received: from mails.dpdk.org (mails.dpdk.org [217.70.189.124]) by inbox.dpdk.org (Postfix) with ESMTP id 0BC7F45EAA for ; Sun, 15 Dec 2024 09:27:09 +0100 (CET) Received: from mails.dpdk.org (localhost [127.0.0.1]) by mails.dpdk.org (Postfix) with ESMTP id DB36B4026F; Sun, 15 Dec 2024 09:27:08 +0100 (CET) Received: from mail-pg1-f226.google.com (mail-pg1-f226.google.com [209.85.215.226]) by mails.dpdk.org (Postfix) with ESMTP id 66A8740269 for ; Sun, 15 Dec 2024 09:27:08 +0100 (CET) Received: by mail-pg1-f226.google.com with SMTP id 41be03b00d2f7-7fd526d4d9eso2445133a12.2 for ; Sun, 15 Dec 2024 00:27:08 -0800 (PST) DKIM-Signature: v=1; a=rsa-sha256; c=relaxed/relaxed; d=iol.unh.edu; s=unh-iol; t=1734251227; x=1734856027; darn=dpdk.org; h=cc:to:from:subject:message-id:date:from:to:cc:subject:date :message-id:reply-to; bh=4JR2T1CNcIXUytDeT3lO/udObpwxqBZLWBegFXz9wbc=; b=hCYe0CfYcbIRauHKLA3p0B//rL3cCwyU4zBcpDM8tiDWMV6FnKwobnLhyda5l9oRM2 UQFzARjfNeD7f7BbpBDraK7NN7YSzasKwQ4faRNM1eNBxbILVOM3wvhuIIvjEJE9ppa+ aLkvO/55SG9Epw4OUPHrkJ/mxI9GaOAaQnw7k= X-Google-DKIM-Signature: v=1; a=rsa-sha256; c=relaxed/relaxed; d=1e100.net; s=20230601; t=1734251227; x=1734856027; h=cc:to:from:subject:message-id:date:x-gm-message-state:from:to:cc :subject:date:message-id:reply-to; bh=4JR2T1CNcIXUytDeT3lO/udObpwxqBZLWBegFXz9wbc=; b=AAprz9Lc9Z1xHORQbJQpbu9/9AnuELpi76Ibny/WPX355iWSr/vT2go66PPfFj4t3k Dmg5sgGBkCy4CfZ1OyECgd24XiYtLL1S6/Gvp9R+jRMBKqb3FNBjR9XJWu8a+rlZ1s5L XfZE/dIvUcygxmUmTiuCBTi9qMRrgsRY9Z22hgs1AupgUxyn+Uzt7Vc3ib2wU86krqlz TVpz3zBOt5mICkjidfHN3jqzDiCHhQ+DUkj0fuj3kQN41KyU13ggw7Q2f0wZSGIq8GBh 9KerWRUIjELNDiECKRzmp4sJR6nmaomEyZ4Hlf39bzZIqjQ0Gs9xZy49xSouDgcWN3Js vnJg== X-Gm-Message-State: AOJu0Yzu0hytrE1bB4q9eQ/cjKQk+KdIUAYkgI4jMrTpCcC2ujs0n+XQ Oa6wdUsgsD4+6f56dGcN4PgV+rs8R4fBlFdU4mX43CLbcO3c0xaac+D13Gbvjce3ZmHFsRKXjQA X86EAScPxgAQMSphhmQDsyk4JGfDvBPNr8fDhU98TEkjMfGur X-Gm-Gg: ASbGnctaL4lNLQKclxHkHZP31QcXQ430MmkPKHzgdNb1aBe1+WGx1GeLJkcuKwGHB6t mNmOKXyc2ZnRtCEMJkcAQXbMybZjwkOXfOhYmppDxlYgo3ik9or98UnfBEjG16p44LqihYj7KQt smppf5MI9OVOjidNkxa9/3ynC9cS51T7FSDlC1JBRuE2KeFzMZZr6MWhAaY8uLXb+K2abipIsYM kDUYBfeLLcXwNFIZHr2ZGKX5a1kXDfZIzOuFZkpl6dd9PKUQ7nmDIxoZMEcFw9El5fH8d5FqYrA KJYVew== X-Google-Smtp-Source: AGHT+IGUWfvnBFVcEBLr8rkLmy7627w8L8hyONBzDGmogQ3KUY904dJiQzHHPv2a03YJJXfVPdvejimcGomf X-Received: by 2002:a17:90b:4a4f:b0:2ee:9902:18b4 with SMTP id 98e67ed59e1d1-2f2900a9878mr12638046a91.27.1734251227570; Sun, 15 Dec 2024 00:27:07 -0800 (PST) Received: from postal.iol.unh.edu (postal.iol.unh.edu. [2606:4100:3880:1234::84]) by smtp-relay.gmail.com with ESMTPS id 98e67ed59e1d1-2f2a1eb0b57sm166469a91.7.2024.12.15.00.27.07 (version=TLS1_2 cipher=ECDHE-ECDSA-AES128-GCM-SHA256 bits=128/128); Sun, 15 Dec 2024 00:27:07 -0800 (PST) X-Relaying-Domain: iol.unh.edu Date: Sun, 15 Dec 2024 00:27:07 -0800 (PST) Message-ID: <675e92db.170a0220.2ffc5c.aefaSMTPIN_ADDED_MISSING@mx.google.com> Received: from [172.17.0.3] (unknown [172.18.0.217]) by postal.iol.unh.edu (Postfix) with ESMTP id AD22A6052471; Sun, 15 Dec 2024 03:27:06 -0500 (EST) Subject: |WARNING| [GIT MASTER] 39bcde2d05afc0f904f906182be1e659b60ceeb7 From: dpdklab@iol.unh.edu To: Test Report Cc: dpdk-test-reports@iol.unh.edu, Xueming Li , Christian Ehrhardt , Kevin Traynor , Luca Boccassi Content-Type: text/plain X-BeenThere: test-report@dpdk.org X-Mailman-Version: 2.1.29 Precedence: list List-Id: automatic DPDK test reports List-Unsubscribe: , List-Archive: List-Post: List-Help: List-Subscribe: , Errors-To: test-report-bounces@dpdk.org _Testing issues_ Branch: tags/v23.11 39bcde2d05afc0f904f906182be1e659b60ceeb7 --> testing issues Upstream job id: Generic-DPDK-Compile-Meson#343755 Test environment and result as below: +---------------------+--------------------+------------------+-------------------+-----------------------+----------------------+ | Environment | dpdk_meson_compile | dpdk_compile_ovs | dpdk_compile_spdk | dpdk_win_llvm_compile | dpdk_mingw64_compile | +=====================+====================+==================+===================+=======================+======================+ | CentOS Stream 9 | PASS | PASS | PASS | SKIPPED | SKIPPED | +---------------------+--------------------+------------------+-------------------+-----------------------+----------------------+ | Debian 12 | PASS | PASS | PASS | SKIPPED | SKIPPED | +---------------------+--------------------+------------------+-------------------+-----------------------+----------------------+ | Fedora 39 (Clang) | PASS | PASS | PASS | SKIPPED | SKIPPED | +---------------------+--------------------+------------------+-------------------+-----------------------+----------------------+ | Fedora 39 | PASS | PASS | PASS | SKIPPED | SKIPPED | +---------------------+--------------------+------------------+-------------------+-----------------------+----------------------+ | Fedora 40 | PASS | PASS | PASS | SKIPPED | SKIPPED | +---------------------+--------------------+------------------+-------------------+-----------------------+----------------------+ | RHEL8 | PASS | PASS | SKIPPED | SKIPPED | SKIPPED | +---------------------+--------------------+------------------+-------------------+-----------------------+----------------------+ | RHEL9 | PASS | PASS | SKIPPED | SKIPPED | SKIPPED | +---------------------+--------------------+------------------+-------------------+-----------------------+----------------------+ | Ubuntu 20.04 | PASS | WARN | SKIPPED | SKIPPED | SKIPPED | +---------------------+--------------------+------------------+-------------------+-----------------------+----------------------+ | Ubuntu 22.04 | PASS | PASS | PASS | SKIPPED | SKIPPED | +---------------------+--------------------+------------------+-------------------+-----------------------+----------------------+ | Ubuntu 24.04 | PASS | PASS | PASS | SKIPPED | SKIPPED | +---------------------+--------------------+------------------+-------------------+-----------------------+----------------------+ | Alpine | PASS | PASS | SKIPPED | SKIPPED | SKIPPED | +---------------------+--------------------+------------------+-------------------+-----------------------+----------------------+ | FreeBSD 13.4 | PASS | SKIPPED | SKIPPED | SKIPPED | SKIPPED | +---------------------+--------------------+------------------+-------------------+-----------------------+----------------------+ | FreeBSD 14.2 | PASS | SKIPPED | SKIPPED | SKIPPED | SKIPPED | +---------------------+--------------------+------------------+-------------------+-----------------------+----------------------+ | Fedora 40 (Clang) | PASS | PASS | PASS | SKIPPED | SKIPPED | +---------------------+--------------------+------------------+-------------------+-----------------------+----------------------+ | openSUSE Leap 15 | PASS | WARN | SKIPPED | SKIPPED | SKIPPED | +---------------------+--------------------+------------------+-------------------+-----------------------+----------------------+ | Windows Server 2022 | SKIPPED | SKIPPED | SKIPPED | PASS | PASS | +---------------------+--------------------+------------------+-------------------+-----------------------+----------------------+ ==== 20 line log output for openSUSE Leap 15 (dpdk_compile_ovs): ==== --- Failed to get log output --- ==== End log output ==== CentOS Stream 9 Kernel: Depends on container host Compiler: gcc 11.4.1 20231218 (Red Hat 11.4.1-3) Debian 12 Kernel: Depends on container host Compiler: gcc (Debian 12.2.0-14) 12.2.0 Fedora 39 (Clang) Kernel: Depends on container host Compiler: clang 17.0.6 (Fedora 17.0.6-2.fc39) Fedora 39 Kernel: Depends on container host Compiler: gcc 13.3.1 20240522 (Red Hat 13.3.1-1) Fedora 40 Kernel: Depends on container host Compiler: gcc 14.2.1 20240801 (Red Hat 14.2.1-1) RHEL8 Kernel: Depends on container host Compiler: gcc 8.5.0 20210514 (Red Hat 8.5.0-22) RHEL9 Kernel: Depends on container host Compiler: gcc 11.4.1 20231218 (Red Hat 11.4.1-3) Ubuntu 20.04 Kernel: Depends on container host Compiler: gcc (Ubuntu 9.4.0-1ubuntu1~20.04.2) 9.4.0 Ubuntu 22.04 Kernel: Depends on container host Compiler: gcc (Ubuntu 11.4.0-1ubuntu1~22.04) 11.4.0 Ubuntu 24.04 Kernel: Depends on container host Compiler: gcc (Ubuntu 13.2.0-23ubuntu4) 13.2.0 Alpine Kernel: Depends on container host Compiler: gcc (Alpine 13.2.1_git20240309) 13.2.1 20240309 FreeBSD 13.4 Kernel: 13.4-RELEASE-p1 Compiler: clang 18.1.6 FreeBSD 14.2 Kernel: 14.2-RELEASE Compiler: clang 18.1.6 Fedora 40 (Clang) Kernel: Depends on container host Compiler: clang 18.1.6 (Fedora 18.1.6-3.fc40) openSUSE Leap 15 Kernel: Depends on container host Compiler: gcc (SUSE Linux) 7.5.0 Windows Server 2022 Kernel: 10.0.20348.2031 Compiler: clang 15.0.7, gcc 14.1.0 (MinGW), and MSVC VS 19.39.33521 To view detailed results, visit: https://lab.dpdk.org/results/dashboard/tarballs/31938/ UNH-IOL DPDK Community Lab To manage your email subscriptions, visit: https://lab.dpdk.org/results/dashboard/preferences/subscriptions/