From mboxrd@z Thu Jan  1 00:00:00 1970
Return-Path: <test-report-bounces@dpdk.org>
Received: from mails.dpdk.org (mails.dpdk.org [217.70.189.124])
	by inbox.dpdk.org (Postfix) with ESMTP id 0E4F945EC4
	for <public@inbox.dpdk.org>; Mon, 16 Dec 2024 22:51:43 +0100 (CET)
Received: from mails.dpdk.org (localhost [127.0.0.1])
	by mails.dpdk.org (Postfix) with ESMTP id 0A06B402A3;
	Mon, 16 Dec 2024 22:51:43 +0100 (CET)
Received: from mail-pg1-f226.google.com (mail-pg1-f226.google.com
 [209.85.215.226])
 by mails.dpdk.org (Postfix) with ESMTP id EE6C840267
 for <test-report@dpdk.org>; Mon, 16 Dec 2024 22:51:41 +0100 (CET)
Received: by mail-pg1-f226.google.com with SMTP id
 41be03b00d2f7-8019338c2b2so3008362a12.3
 for <test-report@dpdk.org>; Mon, 16 Dec 2024 13:51:41 -0800 (PST)
DKIM-Signature: v=1; a=rsa-sha256; c=relaxed/relaxed;
 d=iol.unh.edu; s=unh-iol; t=1734385901; x=1734990701; darn=dpdk.org;
 h=references:in-reply-to:cc:to:from:subject:message-id:date:from:to
 :cc:subject:date:message-id:reply-to;
 bh=MR+YpEvi3gRnsAvkqsm0xtjMwFdlHBrw0oT7W9ZdZ6o=;
 b=bKlmDgIMIOK4SUEpng+2dZQtb8D/wWBL5yI2aw5WES4k5wurjg30RIii/0l/fuPQ6Q
 9BkJBUzknGOE5lqopfr/lLomp/qwdGUFLopxjxqey4entBzJMWE7tra8U/lGoV+3ApRo
 DmXXsnujB6/G7OOTsI9ZFeXzVypHZbmyVfhds=
X-Google-DKIM-Signature: v=1; a=rsa-sha256; c=relaxed/relaxed;
 d=1e100.net; s=20230601; t=1734385901; x=1734990701;
 h=references:in-reply-to:cc:to:from:subject:message-id:date
 :x-gm-message-state:from:to:cc:subject:date:message-id:reply-to;
 bh=MR+YpEvi3gRnsAvkqsm0xtjMwFdlHBrw0oT7W9ZdZ6o=;
 b=k9cvWIe5mxcvmOl+44XWlq0KNy98wfAC0wDCTW2ZiciEivHyJgpspXZEvrzmQJB2eK
 SBzB1HSdc4eNjCOZDg62hdwgnY4IE119/ThJkqr4SqvMeBfFyLOdPLLJQdclpsQ3s3U0
 3lxsTad0IxIiPnqa3DwjC3iWqkhwuWSrrNUKEHCQ12LtdiUtp5JQOtiRdGovI2nzRBuN
 o7eUtblE6d/byQLlkUtz/kqEXD/+d4s9+RxhwID28arv2Se5t+aVtALpLAgKdazhVBFe
 lbFbbE9esY6j42/a9jS7MqmgcUupc4CSA4fIqEHulhO9eOU2I6D5t83kQQvxKVD4Lr9l
 3wNw==
X-Gm-Message-State: AOJu0YyN/N61JJEQ3aEBr4lHKTlXG1A4UvAB2VrWJquqabc7R0gv1iHQ
 1QqAZVjPqAIpMUi6nYVPWCuf0OrnPIT8WvdYun3TJri4cFA//qb5505yEPixPnN/cF5mDEak7Zb
 jUWb2S45YM9y8MAn0CphBSI1DWkFe5eDhiMpJgNvI
X-Gm-Gg: ASbGnctxxNXDOz2kPFKMAjQ8DIVIN13UvdAKuWx+5LlkYzO1N8wj7eYypnWFBzmEs1w
 o8PS7QsjV6Uax9YuI9brWNgf36w+aBuA8V8Ee98vinJM+FovjQJE1j2n/mXx+IyE93kuuZHYAlh
 gcdoPIPbq6b3PPvtxqh5WL9EB87tTgfULuQEZk0J9venrWT/nszoVy4viXW7lwSJbv07MuLJJbm
 n6yCnkgrY2rEHLzjxg7C5UhpCYGs/G6lZftqSxhWFmONyNLryu4/GDJ0O5OnBM+zDWpDc2cYXFE
 Iw==
X-Google-Smtp-Source: AGHT+IEvCzrzCcjbnXBB9HNmHJ73ygwMdFwFutGtt+zE82YwK9FH3ixp54KEROCc9dnRw2UGeyNqqic7i2Nt
X-Received: by 2002:a17:90b:3b52:b0:2ee:9cd2:a589 with SMTP id
 98e67ed59e1d1-2f28fd6b4b1mr21692396a91.20.1734385900973; 
 Mon, 16 Dec 2024 13:51:40 -0800 (PST)
Received: from postal.iol.unh.edu (postal.iol.unh.edu. [132.177.123.84])
 by smtp-relay.gmail.com with ESMTPS id
 98e67ed59e1d1-2f142d978e3sm589344a91.3.2024.12.16.13.51.40
 (version=TLS1_2 cipher=ECDHE-ECDSA-AES128-GCM-SHA256 bits=128/128);
 Mon, 16 Dec 2024 13:51:40 -0800 (PST)
X-Relaying-Domain: iol.unh.edu
Date: Mon, 16 Dec 2024 13:51:40 -0800 (PST)
Message-ID: <6760a0ec.170a0220.e90ab.7092SMTPIN_ADDED_MISSING@mx.google.com>
Received: from [172.17.0.4] (unknown [172.18.0.217])
 by postal.iol.unh.edu (Postfix) with ESMTP id 2C7406052471;
 Mon, 16 Dec 2024 16:51:40 -0500 (EST)
Subject: |SUCCESS| pw149251 [PATCH] [v6] graph: mcore: optimize graph search
From: dpdklab@iol.unh.edu
To: Test Report <test-report@dpdk.org>
Cc: dpdk-test-reports@iol.unh.edu
In-Reply-To: <20241216014353.2036-1-chcchc88@163.com>
References: <20241216014353.2036-1-chcchc88@163.com>
Content-Type: text/plain
X-BeenThere: test-report@dpdk.org
X-Mailman-Version: 2.1.29
Precedence: list
List-Id: automatic DPDK test reports <test-report.dpdk.org>
List-Unsubscribe: <https://mails.dpdk.org/options/test-report>,
 <mailto:test-report-request@dpdk.org?subject=unsubscribe>
List-Archive: <http://mails.dpdk.org/archives/test-report/>
List-Post: <mailto:test-report@dpdk.org>
List-Help: <mailto:test-report-request@dpdk.org?subject=help>
List-Subscribe: <https://mails.dpdk.org/listinfo/test-report>,
 <mailto:test-report-request@dpdk.org?subject=subscribe>
Errors-To: test-report-bounces@dpdk.org

Test-Label: iol-compile-arm64-testing
Test-Status: SUCCESS
http://dpdk.org/patch/149251

_Testing PASS_

Submitter: Huichao Cai <chcchc88@163.com>
Date: Monday, December 16 2024 01:43:53 
DPDK git baseline: Repo:dpdk
  Branch: master
  CommitID:7df61db6c387703a36306c1aea92225921e2eeb2

149251 --> testing pass

Upstream job id: Generic-DPDK-Compile-Meson#343863

Test environment and result as below:

+----------------------------------------+--------------------+
|              Environment               | dpdk_meson_compile |
+========================================+====================+
| RHEL9 (ARM)                            | PASS               |
+----------------------------------------+--------------------+
| Ubuntu 20.04 ARM GCC Cross Compile     | PASS               |
+----------------------------------------+--------------------+
| Ubuntu 20.04 ARM SVE                   | PASS               |
+----------------------------------------+--------------------+
| Fedora 39 (ARM Clang)                  | PASS               |
+----------------------------------------+--------------------+
| Fedora 39 (ARM)                        | PASS               |
+----------------------------------------+--------------------+
| Fedora 40 (ARM)                        | PASS               |
+----------------------------------------+--------------------+
| Ubuntu 20.04 (ARM)                     | PASS               |
+----------------------------------------+--------------------+
| Fedora 40 (ARM Clang)                  | PASS               |
+----------------------------------------+--------------------+
| Ubuntu 24.04 (ARM)                     | PASS               |
+----------------------------------------+--------------------+
| CentOS Stream 9 (ARM)                  | PASS               |
+----------------------------------------+--------------------+
| Ubuntu 20.04 ARM Clang Cross Compile   | PASS               |
+----------------------------------------+--------------------+
| Ubuntu 20.04 aarch32 GCC Cross Compile | PASS               |
+----------------------------------------+--------------------+
| Debian 12 with MUSDK                   | PASS               |
+----------------------------------------+--------------------+
| Ubuntu 22.04 (ARM)                     | PASS               |
+----------------------------------------+--------------------+
| Debian 12 (arm)                        | PASS               |
+----------------------------------------+--------------------+


RHEL9 (ARM)
	Kernel: Depends on container host
	Compiler: gcc 11.4.1 20231218 (Red Hat 11.4.1-3)

Ubuntu 20.04 ARM GCC Cross Compile
	Kernel: Depends on container host
	Compiler: aarch64-linux-gnu-gcc (Ubuntu 9.4.0-1ubuntu1~20.04.2) 9.4.0

Ubuntu 20.04 ARM SVE
	Kernel: Depends on container host
	Compiler: gcc (Ubuntu 10.5.0-1ubuntu1~20.04) 10.5.0

Fedora 39 (ARM Clang)
	Kernel: Depends on container host
	Compiler: clang 17.0.6 (Fedora 17.0.6-2.fc39)

Fedora 39 (ARM)
	Kernel: Depends on container host
	Compiler: gcc 13.3.1 20240522 (Red Hat 13.3.1-1)

Fedora 40 (ARM)
	Kernel: Depends on container host
	Compiler: gcc 14.2.1 20240801 (Red Hat 14.2.1-1)

Ubuntu 20.04 (ARM)
	Kernel: Depends on container host
	Compiler: gcc (Ubuntu 9.4.0-1ubuntu1~20.04.2) 9.4.0

Fedora 40 (ARM Clang)
	Kernel: Depends on container host
	Compiler: clang 18.1.6 (Fedora 18.1.6-3.fc40)

Ubuntu 24.04 (ARM)
	Kernel: Depends on container host
	Compiler: gcc (Ubuntu 13.2.0-23ubuntu4) 13.2.0

CentOS Stream 9 (ARM)
	Kernel: Depends on container host
	Compiler: gcc 11.4.1 20231218 (Red Hat 11.4.1-3)

Ubuntu 20.04 ARM Clang Cross Compile
	Kernel: Depends on container host
	Compiler: clang 10.0.0-4ubuntu1

Ubuntu 20.04 aarch32 GCC Cross Compile
	Kernel: Depends on container host
	Compiler: gcc 9.4.0

Debian 12 with MUSDK
	Kernel: Depends on container host
	Compiler: gcc (Debian 12.2.0-14) 12.2.0

Ubuntu 22.04 (ARM)
	Kernel: Depends on container host
	Compiler: gcc (Ubuntu 11.4.0-1ubuntu1~22.04) 11.4.0

Debian 12 (arm)
	Kernel: Depends on container host
	Compiler: gcc (Debian 12.2.0-14) 12.2.0

To view detailed results, visit:
https://lab.dpdk.org/results/dashboard/patchsets/32147/

UNH-IOL DPDK Community Lab

To manage your email subscriptions, visit: 
https://lab.dpdk.org/results/dashboard/preferences/subscriptions/