From mboxrd@z Thu Jan  1 00:00:00 1970
Return-Path: <test-report-bounces@dpdk.org>
Received: from mails.dpdk.org (mails.dpdk.org [217.70.189.124])
	by inbox.dpdk.org (Postfix) with ESMTP id 6D31B45EC4
	for <public@inbox.dpdk.org>; Mon, 16 Dec 2024 23:03:15 +0100 (CET)
Received: from mails.dpdk.org (localhost [127.0.0.1])
	by mails.dpdk.org (Postfix) with ESMTP id 68606402A3;
	Mon, 16 Dec 2024 23:03:15 +0100 (CET)
Received: from mail-il1-f227.google.com (mail-il1-f227.google.com
 [209.85.166.227])
 by mails.dpdk.org (Postfix) with ESMTP id 6C5BD40267
 for <test-report@dpdk.org>; Mon, 16 Dec 2024 23:03:14 +0100 (CET)
Received: by mail-il1-f227.google.com with SMTP id
 e9e14a558f8ab-3a8165cfae8so15896265ab.0
 for <test-report@dpdk.org>; Mon, 16 Dec 2024 14:03:14 -0800 (PST)
DKIM-Signature: v=1; a=rsa-sha256; c=relaxed/relaxed;
 d=iol.unh.edu; s=unh-iol; t=1734386593; x=1734991393; darn=dpdk.org;
 h=references:in-reply-to:cc:to:from:subject:message-id:date:from:to
 :cc:subject:date:message-id:reply-to;
 bh=Zce69u2KlOXCqS46GgTWKFj6EDMbI18A+SV5tAe56q8=;
 b=f+c0AM0H8PFtcGoT3jspeNu6WUfcd7KkE3bC8ECKk8SQHAPKsFwQ5l3SKIhLlrl1vh
 919niqS965Jjcl1PJt2CGobT6rlghanoYrd8VJWojUcHpHamZ70z6zCgUwKjFh0egcjn
 mWQUCKZvE8aOrrC1QEwnMagMzD6gaT7Pty+YM=
X-Google-DKIM-Signature: v=1; a=rsa-sha256; c=relaxed/relaxed;
 d=1e100.net; s=20230601; t=1734386593; x=1734991393;
 h=references:in-reply-to:cc:to:from:subject:message-id:date
 :x-gm-message-state:from:to:cc:subject:date:message-id:reply-to;
 bh=Zce69u2KlOXCqS46GgTWKFj6EDMbI18A+SV5tAe56q8=;
 b=C8eaPipYkqAkroAI7xgnyAZ9YZbv+bJu+FyecrsW2PpgkTvA3fTWXtSQrF4fSp1Kf4
 f2n6IG3VdNrSA6ApP6rQsjuCzxpYV0TwxdBBy7cRDUbXY0vCDX1rN24rwPreojkj6cmS
 nOyYHLyRiN6uUSubeFdOBOHt925zCpmTwnTFFXMVnCxLpsuXuEvZehZzELWuuDwMuOzW
 M6zPOtSo3aTd/2YERDOTBUwjcWNcOTF12nwxLlDS+PYv1vtw79vzLnRg955UtOeXaeLK
 zRVjv1AVpTmnZMOkQEhsLgwWGkN/vPsRiTDBWiW6wA6yIvRztrxm+cRquPl4Et+AC7UG
 xCJw==
X-Gm-Message-State: AOJu0YxFY+AS71+xoZuR/+8Jzs6ysA1zhHqoxeI1ZhAts9dsvmgw9pAI
 rX9ZRgtgjCzwyp/z3d00euo/qmXSsCE5KqrtO/mdMJVECUL4ENP+0lrO8iNh9/9o+ufCtXIaeNu
 Az3nXwprTk2S77kX8Tw1pOCNkJZs6NGCy99M/MAo5nMLygkN93Vgfj0g6
X-Gm-Gg: ASbGncs5//4kX9R/9/y4749sSDNh37rWztoUErn61AYp0f0sfFDavHUOg3nNKbtZLOl
 48/ECJV73Q5Wo44mzxPK9JIDr3+mGozqcMh/luv67Waj9FpT7lfzRERluIlSTcCXYZRUmj2DX3h
 euZQ159UyfwdE7TH1vcnU7Jqa3EW0WfGCtFEPHfAFg6KG/5YpeRdE0xTtcql8y48tb7c3dHScls
 asEvS7d9K980DrIQpJrrJxSHFimb4z7I87Wm6M27hXAPU4YR3m5h1hyjlGJY/xkESrKTMu2AuHb
 1LUtYQ==
X-Google-Smtp-Source: AGHT+IGsXT7sUNA+clUuBjy4VTer/MwnjRXOOHnI3s47N7ddV2I1pvPQ57eXQK0ywjcoFLLonWiHAiiKsN6z
X-Received: by 2002:a05:6e02:1c2c:b0:3a7:9736:501e with SMTP id
 e9e14a558f8ab-3aff65f918amr123703875ab.14.1734386593591; 
 Mon, 16 Dec 2024 14:03:13 -0800 (PST)
Received: from postal.iol.unh.edu (postal.iol.unh.edu.
 [2606:4100:3880:1234::84]) by smtp-relay.gmail.com with ESMTPS id
 e9e14a558f8ab-3b249c33cdfsm3424275ab.21.2024.12.16.14.03.13
 (version=TLS1_2 cipher=ECDHE-ECDSA-AES128-GCM-SHA256 bits=128/128);
 Mon, 16 Dec 2024 14:03:13 -0800 (PST)
X-Relaying-Domain: iol.unh.edu
Date: Mon, 16 Dec 2024 14:03:13 -0800 (PST)
Message-ID: <6760a3a1.050a0220.3844fa.7b7eSMTPIN_ADDED_MISSING@mx.google.com>
Received: from [172.17.0.3] (unknown [172.18.0.217])
 by postal.iol.unh.edu (Postfix) with ESMTP id 3971E6052471;
 Mon, 16 Dec 2024 17:03:13 -0500 (EST)
Subject: |WARNING| pw149253-149258 [PATCH] [v3,6/6] net/virtio: remove unneed
From: dpdklab@iol.unh.edu
To: Test Report <test-report@dpdk.org>
Cc: dpdk-test-reports@iol.unh.edu
In-Reply-To: <20241216191323.75753-7-stephen@networkplumber.org>
References: <20241216191323.75753-7-stephen@networkplumber.org>
Content-Type: text/plain
X-BeenThere: test-report@dpdk.org
X-Mailman-Version: 2.1.29
Precedence: list
List-Id: automatic DPDK test reports <test-report.dpdk.org>
List-Unsubscribe: <https://mails.dpdk.org/options/test-report>,
 <mailto:test-report-request@dpdk.org?subject=unsubscribe>
List-Archive: <http://mails.dpdk.org/archives/test-report/>
List-Post: <mailto:test-report@dpdk.org>
List-Help: <mailto:test-report-request@dpdk.org?subject=help>
List-Subscribe: <https://mails.dpdk.org/listinfo/test-report>,
 <mailto:test-report-request@dpdk.org?subject=subscribe>
Errors-To: test-report-bounces@dpdk.org

Test-Label: iol-compile-amd64-testing
Test-Status: WARNING
http://dpdk.org/patch/149258

_Testing issues_

Submitter: Stephen Hemminger <stephen@networkplumber.org>
Date: Monday, December 16 2024 19:11:38 
DPDK git baseline: Repo:dpdk
  Branch: master
  CommitID:f1e0472368d4dbb1da33ae68b18ca21bc8a55259

149253-149258 --> testing issues

Upstream job id: Generic-DPDK-Compile-Meson#343911

Test environment and result as below:

+---------------------+--------------------+------------------+-------------------+-----------------------+----------------------+
|     Environment     | dpdk_meson_compile | dpdk_compile_ovs | dpdk_compile_spdk | dpdk_win_llvm_compile | dpdk_mingw64_compile |
+=====================+====================+==================+===================+=======================+======================+
| CentOS Stream 9     | PASS               | PASS             | PASS              | SKIPPED               | SKIPPED              |
+---------------------+--------------------+------------------+-------------------+-----------------------+----------------------+
| Debian 12           | PASS               | PASS             | PASS              | SKIPPED               | SKIPPED              |
+---------------------+--------------------+------------------+-------------------+-----------------------+----------------------+
| Fedora 39 (Clang)   | PASS               | PASS             | PASS              | SKIPPED               | SKIPPED              |
+---------------------+--------------------+------------------+-------------------+-----------------------+----------------------+
| Fedora 39           | PASS               | PASS             | PASS              | SKIPPED               | SKIPPED              |
+---------------------+--------------------+------------------+-------------------+-----------------------+----------------------+
| Fedora 40 (Clang)   | PASS               | PASS             | PASS              | SKIPPED               | SKIPPED              |
+---------------------+--------------------+------------------+-------------------+-----------------------+----------------------+
| Fedora 40           | PASS               | PASS             | PASS              | SKIPPED               | SKIPPED              |
+---------------------+--------------------+------------------+-------------------+-----------------------+----------------------+
| openSUSE Leap 15    | PASS               | WARN             | SKIPPED           | SKIPPED               | SKIPPED              |
+---------------------+--------------------+------------------+-------------------+-----------------------+----------------------+
| RHEL8               | PASS               | PASS             | SKIPPED           | SKIPPED               | SKIPPED              |
+---------------------+--------------------+------------------+-------------------+-----------------------+----------------------+
| RHEL9               | PASS               | PASS             | SKIPPED           | SKIPPED               | SKIPPED              |
+---------------------+--------------------+------------------+-------------------+-----------------------+----------------------+
| Ubuntu 20.04        | PASS               | WARN             | SKIPPED           | SKIPPED               | SKIPPED              |
+---------------------+--------------------+------------------+-------------------+-----------------------+----------------------+
| Ubuntu 22.04        | PASS               | PASS             | PASS              | SKIPPED               | SKIPPED              |
+---------------------+--------------------+------------------+-------------------+-----------------------+----------------------+
| Ubuntu 24.04        | PASS               | PASS             | PASS              | SKIPPED               | SKIPPED              |
+---------------------+--------------------+------------------+-------------------+-----------------------+----------------------+
| FreeBSD 13.4        | PASS               | SKIPPED          | SKIPPED           | SKIPPED               | SKIPPED              |
+---------------------+--------------------+------------------+-------------------+-----------------------+----------------------+
| Alpine              | PASS               | PASS             | SKIPPED           | SKIPPED               | SKIPPED              |
+---------------------+--------------------+------------------+-------------------+-----------------------+----------------------+
| FreeBSD 14.2        | PASS               | SKIPPED          | SKIPPED           | SKIPPED               | SKIPPED              |
+---------------------+--------------------+------------------+-------------------+-----------------------+----------------------+
| Windows Server 2022 | SKIPPED            | SKIPPED          | SKIPPED           | PASS                  | PASS                 |
+---------------------+--------------------+------------------+-------------------+-----------------------+----------------------+

==== 20 line log output for Ubuntu 20.04 (dpdk_compile_ovs): ====
 --- Failed to get log output --- 
==== End log output ====

CentOS Stream 9
	Kernel: Depends on container host
	Compiler: gcc 11.4.1 20231218 (Red Hat 11.4.1-3)

Debian 12
	Kernel: Depends on container host
	Compiler: gcc (Debian 12.2.0-14) 12.2.0

Fedora 39 (Clang)
	Kernel: Depends on container host
	Compiler: clang 17.0.6 (Fedora 17.0.6-2.fc39)

Fedora 39
	Kernel: Depends on container host
	Compiler: gcc 13.3.1 20240522 (Red Hat 13.3.1-1)

Fedora 40 (Clang)
	Kernel: Depends on container host
	Compiler: clang 18.1.6 (Fedora 18.1.6-3.fc40)

Fedora 40
	Kernel: Depends on container host
	Compiler: gcc 14.2.1 20240801 (Red Hat 14.2.1-1)

openSUSE Leap 15
	Kernel: Depends on container host
	Compiler: gcc (SUSE Linux) 7.5.0

RHEL8
	Kernel: Depends on container host
	Compiler: gcc 8.5.0 20210514 (Red Hat 8.5.0-22)

RHEL9
	Kernel: Depends on container host
	Compiler: gcc 11.4.1 20231218 (Red Hat 11.4.1-3)

Ubuntu 20.04
	Kernel: Depends on container host
	Compiler: gcc (Ubuntu 9.4.0-1ubuntu1~20.04.2) 9.4.0

Ubuntu 22.04
	Kernel: Depends on container host
	Compiler: gcc (Ubuntu 11.4.0-1ubuntu1~22.04) 11.4.0

Ubuntu 24.04
	Kernel: Depends on container host
	Compiler: gcc (Ubuntu 13.2.0-23ubuntu4) 13.2.0

FreeBSD 13.4
	Kernel: 13.4-RELEASE-p1
	Compiler: clang 18.1.6

Alpine
	Kernel: Depends on container host
	Compiler: gcc (Alpine 13.2.1_git20240309) 13.2.1 20240309

FreeBSD 14.2
	Kernel: 14.2-RELEASE
	Compiler: clang 18.1.6

Windows Server 2022
	Kernel: 10.0.20348.2031
	Compiler: clang 15.0.7, gcc 14.1.0 (MinGW), and MSVC VS 19.39.33521

To view detailed results, visit:
https://lab.dpdk.org/results/dashboard/patchsets/32149/

UNH-IOL DPDK Community Lab

To manage your email subscriptions, visit: 
https://lab.dpdk.org/results/dashboard/preferences/subscriptions/