From mboxrd@z Thu Jan 1 00:00:00 1970 Return-Path: Received: from mails.dpdk.org (mails.dpdk.org [217.70.189.124]) by inbox.dpdk.org (Postfix) with ESMTP id 56F4145ED5 for ; Wed, 18 Dec 2024 04:12:23 +0100 (CET) Received: from mails.dpdk.org (localhost [127.0.0.1]) by mails.dpdk.org (Postfix) with ESMTP id 526024066E; Wed, 18 Dec 2024 04:12:23 +0100 (CET) Received: from mail-qv1-f99.google.com (mail-qv1-f99.google.com [209.85.219.99]) by mails.dpdk.org (Postfix) with ESMTP id 74846402AE for ; Wed, 18 Dec 2024 04:12:22 +0100 (CET) Received: by mail-qv1-f99.google.com with SMTP id 6a1803df08f44-6d88cb85987so3064566d6.1 for ; Tue, 17 Dec 2024 19:12:22 -0800 (PST) DKIM-Signature: v=1; a=rsa-sha256; c=relaxed/relaxed; d=iol.unh.edu; s=unh-iol; t=1734491542; x=1735096342; darn=dpdk.org; h=cc:to:from:subject:message-id:date:from:to:cc:subject:date :message-id:reply-to; bh=FpnX7CixS93rOdogOgLlTYvZziVSy6GnKXTR66OVDDg=; b=Tn28VlQjHU1ddUn94Nb5oE8UC4ZLkJ4avjEH4WZBgDBPPAByX0+jSH2/j95PddMMTp eO0b7D7cF7Yhbj4IRjXs2LF2uwFo3tq3JeMp0ClCiVbl2+vSa3fejfe+gZ5f1tfKT+hz H6Llk8J7JejyQzKjauUMwN6Mh5TtbfFDEdPQo= X-Google-DKIM-Signature: v=1; a=rsa-sha256; c=relaxed/relaxed; d=1e100.net; s=20230601; t=1734491542; x=1735096342; h=cc:to:from:subject:message-id:date:x-gm-message-state:from:to:cc :subject:date:message-id:reply-to; bh=FpnX7CixS93rOdogOgLlTYvZziVSy6GnKXTR66OVDDg=; b=siiQ3qbweA/6QbB+ZPAMugUWZEtWKEVKKh6/6VZzPuI2s6cDBzjiv6vbhlWzglM7i9 jcCHOFrRYPWfSmqlmmi096QfsAtHJM+LozBWwLjftrGWGOZWzKyDf1tYbHCpz3SBAptv gRTt1ZAV0G05C499CDP/tQmwQu1136CFj/e5XPfvLL/nyrGvxRcvbcXHNGJ3TGRE19Iz uqaE5uEDBAdmEpFbsnF0nCaRBuCuH1gTQtBPrgFk3SGl/BpP3YE0CRFF0BLSDGMhA4mP hDWdgW/p4trezDL5X+coinAxNfCCNSRyX941GutJaurxjwJivF4wCMy4OruaVUI226OA H8VA== X-Gm-Message-State: AOJu0YygUFRfLSZGl/sQxYgljJ+SWsHobZALy/L8qOWXGHRuyXiNT3n2 rnsxmVPdNrCyl1ZG7/QhWhsJ+YRRqIlXKgkHrLW/jKnFC1uETpX6nRipivzlO9Up+MNXMWzRYzP EYhPrbZhMothfthWfUEOAb5zwpU+MO5LVChJeQWSLYz6E0rd3 X-Gm-Gg: ASbGnctXWw1HoH1DRcUluccVohGqU5Eg8o+kUkGJmcTHimQk+xMgmEY1VrbmO40qY3U 5LH5XynUyrHl9SzUaQeikxkmFA7CwDmK64Oljl6Wwab82Xl0PZTOnhS5qdwD10oL+qj2aLeHgXU vHTlsELuem5ad+kvILrC8It+Prp8HUlAFqJACwiuFzs3/8asw1iuXpYuO+nQrlGqTOY4qpDstnR O+mw+HYpAPfohJTwINHcMg6jCPyEj5cIVfoZquZM7LZyiFH2vKrH/fmcN29ss7Yqq9CZFvRsffT FXmAmg== X-Google-Smtp-Source: AGHT+IGlpGej+iasaARCc/Nh9uvCMaag/3cC5VDU5S3l3vOt0MqLt9ZNBDxRwVHFCfBWDRvzeRxuN7ZWZ0b6 X-Received: by 2002:ad4:4ea1:0:b0:6d8:98a0:23b6 with SMTP id 6a1803df08f44-6dd09967a9dmr19664846d6.4.1734491541848; Tue, 17 Dec 2024 19:12:21 -0800 (PST) Received: from postal.iol.unh.edu (postal.iol.unh.edu. [2606:4100:3880:1234::84]) by smtp-relay.gmail.com with ESMTPS id 6a1803df08f44-6dccd1b93desm4428566d6.2.2024.12.17.19.12.21 (version=TLS1_2 cipher=ECDHE-ECDSA-AES128-GCM-SHA256 bits=128/128); Tue, 17 Dec 2024 19:12:21 -0800 (PST) X-Relaying-Domain: iol.unh.edu Date: Tue, 17 Dec 2024 19:12:21 -0800 (PST) Message-ID: <67623d95.050a0220.203cc0.c9a1SMTPIN_ADDED_MISSING@mx.google.com> Received: from [172.17.0.3] (unknown [172.18.0.217]) by postal.iol.unh.edu (Postfix) with ESMTP id 8F4E16052471; Tue, 17 Dec 2024 22:12:21 -0500 (EST) Subject: |SUCCESS| [GIT MASTER] 78d0246a2e2fb14cba220d507192d12d2ce896ac From: dpdklab@iol.unh.edu To: Test Report Cc: dpdk-test-reports@iol.unh.edu, Andrew Rybchenko , Ferruh Yigit Content-Type: text/plain X-BeenThere: test-report@dpdk.org X-Mailman-Version: 2.1.29 Precedence: list List-Id: automatic DPDK test reports List-Unsubscribe: , List-Archive: List-Post: List-Help: List-Subscribe: , Errors-To: test-report-bounces@dpdk.org _Testing PASS_ Branch: dpdk-next-net 78d0246a2e2fb14cba220d507192d12d2ce896ac --> testing pass Upstream job id: Generic-Unit-Test-DPDK#299982 Test environment and result as below: +-----------------------+----------------+--------------+------------------------------+---------------------------+ | Environment | dpdk_unit_test | lpm_autotest | cryptodev_sw_snow3g_autotest | cryptodev_sw_zuc_autotest | +=======================+================+==============+==============================+===========================+ | CentOS Stream 9 (ARM) | PASS | SKIPPED | SKIPPED | SKIPPED | +-----------------------+----------------+--------------+------------------------------+---------------------------+ | Debian 12 (arm) | PASS | SKIPPED | PASS | PASS | +-----------------------+----------------+--------------+------------------------------+---------------------------+ | Fedora 39 (ARM) | PASS | SKIPPED | SKIPPED | SKIPPED | +-----------------------+----------------+--------------+------------------------------+---------------------------+ | Fedora 39 (ARM Clang) | PASS | SKIPPED | SKIPPED | SKIPPED | +-----------------------+----------------+--------------+------------------------------+---------------------------+ | Fedora 40 (ARM) | PASS | SKIPPED | SKIPPED | SKIPPED | +-----------------------+----------------+--------------+------------------------------+---------------------------+ | Fedora 40 (ARM Clang) | PASS | SKIPPED | SKIPPED | SKIPPED | +-----------------------+----------------+--------------+------------------------------+---------------------------+ | RHEL9 (ARM) | PASS | SKIPPED | SKIPPED | SKIPPED | +-----------------------+----------------+--------------+------------------------------+---------------------------+ | Ubuntu 20.04 (ARM) | PASS | SKIPPED | SKIPPED | SKIPPED | +-----------------------+----------------+--------------+------------------------------+---------------------------+ | Ubuntu 22.04 (ARM) | PASS | SKIPPED | SKIPPED | SKIPPED | +-----------------------+----------------+--------------+------------------------------+---------------------------+ | Ubuntu 24.04 (ARM) | PASS | SKIPPED | SKIPPED | SKIPPED | +-----------------------+----------------+--------------+------------------------------+---------------------------+ | Ubuntu 20.04 ARM SVE | SKIPPED | PASS | SKIPPED | SKIPPED | +-----------------------+----------------+--------------+------------------------------+---------------------------+ CentOS Stream 9 (ARM) Kernel: Depends on container host Compiler: gcc 11.4.1 20231218 (Red Hat 11.4.1-3) Debian 12 (arm) Kernel: Depends on container host Compiler: gcc (Debian 12.2.0-14) 12.2.0 Fedora 39 (ARM) Kernel: Depends on container host Compiler: gcc 13.3.1 20240522 (Red Hat 13.3.1-1) Fedora 39 (ARM Clang) Kernel: Depends on container host Compiler: clang 17.0.6 (Fedora 17.0.6-2.fc39) Fedora 40 (ARM) Kernel: Depends on container host Compiler: gcc 14.2.1 20240801 (Red Hat 14.2.1-1) Fedora 40 (ARM Clang) Kernel: Depends on container host Compiler: clang 18.1.6 (Fedora 18.1.6-3.fc40) RHEL9 (ARM) Kernel: Depends on container host Compiler: gcc 11.4.1 20231218 (Red Hat 11.4.1-3) Ubuntu 20.04 (ARM) Kernel: Depends on container host Compiler: gcc (Ubuntu 9.4.0-1ubuntu1~20.04.2) 9.4.0 Ubuntu 22.04 (ARM) Kernel: Depends on container host Compiler: gcc (Ubuntu 11.4.0-1ubuntu1~22.04) 11.4.0 Ubuntu 24.04 (ARM) Kernel: Depends on container host Compiler: gcc (Ubuntu 13.2.0-23ubuntu4) 13.2.0 Ubuntu 20.04 ARM SVE Kernel: Depends on container host Compiler: gcc (Ubuntu 10.5.0-1ubuntu1~20.04) 10.5.0 To view detailed results, visit: https://lab.dpdk.org/results/dashboard/tarballs/31957/ UNH-IOL DPDK Community Lab To manage your email subscriptions, visit: https://lab.dpdk.org/results/dashboard/preferences/subscriptions/