From mboxrd@z Thu Jan  1 00:00:00 1970
Return-Path: <test-report-bounces@dpdk.org>
Received: from mails.dpdk.org (mails.dpdk.org [217.70.189.124])
	by inbox.dpdk.org (Postfix) with ESMTP id 35C9445EDC
	for <public@inbox.dpdk.org>; Wed, 18 Dec 2024 14:54:44 +0100 (CET)
Received: from mails.dpdk.org (localhost [127.0.0.1])
	by mails.dpdk.org (Postfix) with ESMTP id 2A02D40DF5;
	Wed, 18 Dec 2024 14:54:44 +0100 (CET)
Received: from mail-yw1-f227.google.com (mail-yw1-f227.google.com
 [209.85.128.227])
 by mails.dpdk.org (Postfix) with ESMTP id 4B72C40DDE
 for <test-report@dpdk.org>; Wed, 18 Dec 2024 14:54:42 +0100 (CET)
Received: by mail-yw1-f227.google.com with SMTP id
 00721157ae682-6efe4324f96so54575497b3.1
 for <test-report@dpdk.org>; Wed, 18 Dec 2024 05:54:42 -0800 (PST)
DKIM-Signature: v=1; a=rsa-sha256; c=relaxed/relaxed;
 d=iol.unh.edu; s=unh-iol; t=1734530081; x=1735134881; darn=dpdk.org;
 h=references:in-reply-to:cc:to:from:subject:message-id:date:from:to
 :cc:subject:date:message-id:reply-to;
 bh=abNAqs0n4CDynim0KQk7OZjLp1Dop3HBpSULEhx0bAA=;
 b=g0BHNQP3pCgcNMQzjfRJKi3zQPthz9WtA8UHsL7ToMq/9C87fbt+ojws3w2v9zEhjh
 eFJnGTQJn0mpBCn8JxrR1vKU0dpj1eEhatVAlespr2ROqJ53QxG/XzkmuUYqIQEauuRe
 amfzQPix5NT/SdwZdopiDFgi/f6pmGOt4Nz4M=
X-Google-DKIM-Signature: v=1; a=rsa-sha256; c=relaxed/relaxed;
 d=1e100.net; s=20230601; t=1734530081; x=1735134881;
 h=references:in-reply-to:cc:to:from:subject:message-id:date
 :x-gm-message-state:from:to:cc:subject:date:message-id:reply-to;
 bh=abNAqs0n4CDynim0KQk7OZjLp1Dop3HBpSULEhx0bAA=;
 b=mFnw0zMZV3Wo9FdCVfkxg/Tvl84hgwoWcwkPNFz7nCkrBeMTIiKEZAPrdkCdZxO9T3
 crW1SEjKeiPQ/ircOxW1im6Wieg7yMs4/h03p5U83XlKgmimdF43nfiWfe0zuv8Yi4/v
 1yp0b+sQ927NGY4bS76lbkKljlHxbnMjI27Gwn9+mrINk9Z6UkW2jgWK9YU/3Dm7wuoV
 nvUEtFDA+i88D/wkpW8cXZ/CFHdo6sTOfCoZH3SQak/jtacThm7NkLekIh1hyWtcqemZ
 RuC3AD4UP8Qfh5LOuoZtRtQZmExQEgTyi9Dk8NDFQIgblak3t3QQCbALqYQxs6/nKscM
 pPpA==
X-Gm-Message-State: AOJu0Yyu2lnvypOQQjRv+0vCVd3At4Y48cdOj1RiD/dDChxOAMVwp65F
 Uff55VkgvwbOCZ6y6/dQIFuhXxYCs+6u4UjvGGPJU6aE/PEZr3iJBQRJnquOxD2sJyXVG7kLNEI
 bB+8xjg6BYY9Ukq+XH4i707P0U6w52Ex/W1pyGKBZ
X-Gm-Gg: ASbGncsqJ5leCa9ECIr9+ktgW2Ch4OVSFTWo6FuYdifYVCLDvlnNcqqoJ+P6H4QJEfT
 dOQOU27z9cZjiWP66IqKgg3cH8NBtX1P5OdKDrL70QV6Gd6mil4L52OGjdxtXJyU1kC36QHjRjT
 j/mpD6PrtjlyeJqCuo0f1o/0imzuZykWYACSwadbQ2m21GKKyJXo71wzMKGaeoaeZmc97snHg7E
 mFWA65gp3e0Cmpru+fqe2X6TQTP4/yJU8Dc/HIy6+l28DQrBlyj2db718YbrFkWslgQKsGgSCbT
 bg==
X-Google-Smtp-Source: AGHT+IH9NjdMriepk9pR3PrtT/PLihi+4nJembjBJDd7zgl4Jnw6KHLSDLudZqfzJn2aHOvPGLI6QSBJeSEm
X-Received: by 2002:a05:690c:6f06:b0:6ef:aaa4:6d53 with SMTP id
 00721157ae682-6f3d26c4039mr19033347b3.42.1734530081457; 
 Wed, 18 Dec 2024 05:54:41 -0800 (PST)
Received: from postal.iol.unh.edu (postal.iol.unh.edu. [132.177.123.84])
 by smtp-relay.gmail.com with ESMTPS id
 00721157ae682-6f28900ae92sm3542697b3.26.2024.12.18.05.54.41
 (version=TLS1_2 cipher=ECDHE-ECDSA-AES128-GCM-SHA256 bits=128/128);
 Wed, 18 Dec 2024 05:54:41 -0800 (PST)
X-Relaying-Domain: iol.unh.edu
Date: Wed, 18 Dec 2024 05:54:41 -0800 (PST)
Message-ID: <6762d421.050a0220.1d3466.6d91SMTPIN_ADDED_MISSING@mx.google.com>
Received: from [172.21.0.5] (unknown [172.18.0.240])
 by postal.iol.unh.edu (Postfix) with ESMTP id 1DD566052471;
 Wed, 18 Dec 2024 08:54:41 -0500 (EST)
Subject: |WARNING| pw149289-149303 [PATCH] [v4,15/15] net/zxdh: mtu update op
From: dpdklab@iol.unh.edu
To: Test Report <test-report@dpdk.org>
Cc: dpdk-test-reports@iol.unh.edu
In-Reply-To: <20241218092603.1218855-16-wang.junlong1@zte.com.cn>
References: <20241218092603.1218855-16-wang.junlong1@zte.com.cn>
Content-Type: text/plain
X-BeenThere: test-report@dpdk.org
X-Mailman-Version: 2.1.29
Precedence: list
List-Id: automatic DPDK test reports <test-report.dpdk.org>
List-Unsubscribe: <https://mails.dpdk.org/options/test-report>,
 <mailto:test-report-request@dpdk.org?subject=unsubscribe>
List-Archive: <http://mails.dpdk.org/archives/test-report/>
List-Post: <mailto:test-report@dpdk.org>
List-Help: <mailto:test-report-request@dpdk.org?subject=help>
List-Subscribe: <https://mails.dpdk.org/listinfo/test-report>,
 <mailto:test-report-request@dpdk.org?subject=subscribe>
Errors-To: test-report-bounces@dpdk.org

Test-Label: iol-compile-amd64-testing
Test-Status: WARNING
http://dpdk.org/patch/149303

_Testing issues_

Submitter: Junlong Wang <wang.junlong1@zte.com.cn>
Date: Wednesday, December 18 2024 09:26:02 
DPDK git baseline: Repo:dpdk
  Branch: master
  CommitID:78d0246a2e2fb14cba220d507192d12d2ce896ac

149289-149303 --> testing issues

Upstream job id: Generic-DPDK-Compile-Meson#344381

Test environment and result as below:

+---------------------+--------------------+------------------+-------------------+-------------------+
|     Environment     | dpdk_meson_compile | dpdk_compile_ovs | dpdk_compile_spdk | dpdk_msvc_compile |
+=====================+====================+==================+===================+===================+
| CentOS Stream 9     | PASS               | PASS             | PASS              | SKIPPED           |
+---------------------+--------------------+------------------+-------------------+-------------------+
| Fedora 39           | PASS               | PASS             | PASS              | SKIPPED           |
+---------------------+--------------------+------------------+-------------------+-------------------+
| Debian 12           | PASS               | PASS             | PASS              | SKIPPED           |
+---------------------+--------------------+------------------+-------------------+-------------------+
| Fedora 40 (Clang)   | PASS               | PASS             | PASS              | SKIPPED           |
+---------------------+--------------------+------------------+-------------------+-------------------+
| openSUSE Leap 15    | PASS               | WARN             | SKIPPED           | SKIPPED           |
+---------------------+--------------------+------------------+-------------------+-------------------+
| Fedora 40           | PASS               | PASS             | PASS              | SKIPPED           |
+---------------------+--------------------+------------------+-------------------+-------------------+
| RHEL8               | PASS               | PASS             | SKIPPED           | SKIPPED           |
+---------------------+--------------------+------------------+-------------------+-------------------+
| RHEL9               | PASS               | PASS             | SKIPPED           | SKIPPED           |
+---------------------+--------------------+------------------+-------------------+-------------------+
| Ubuntu 20.04        | PASS               | WARN             | SKIPPED           | SKIPPED           |
+---------------------+--------------------+------------------+-------------------+-------------------+
| Ubuntu 22.04        | PASS               | PASS             | PASS              | SKIPPED           |
+---------------------+--------------------+------------------+-------------------+-------------------+
| Ubuntu 24.04        | PASS               | PASS             | PASS              | SKIPPED           |
+---------------------+--------------------+------------------+-------------------+-------------------+
| FreeBSD 13.4        | PASS               | SKIPPED          | SKIPPED           | SKIPPED           |
+---------------------+--------------------+------------------+-------------------+-------------------+
| FreeBSD 14.2        | PASS               | SKIPPED          | SKIPPED           | SKIPPED           |
+---------------------+--------------------+------------------+-------------------+-------------------+
| Fedora 39 (Clang)   | PASS               | PASS             | PASS              | SKIPPED           |
+---------------------+--------------------+------------------+-------------------+-------------------+
| Alpine              | PASS               | PASS             | SKIPPED           | SKIPPED           |
+---------------------+--------------------+------------------+-------------------+-------------------+
| Windows Server 2022 | SKIPPED            | SKIPPED          | SKIPPED           | PASS              |
+---------------------+--------------------+------------------+-------------------+-------------------+

==== 20 line log output for Ubuntu 20.04 (dpdk_compile_ovs): ====
 --- Failed to get log output --- 
==== End log output ====

CentOS Stream 9
	Kernel: Depends on container host
	Compiler: gcc 11.4.1 20231218 (Red Hat 11.4.1-3)

Fedora 39
	Kernel: Depends on container host
	Compiler: gcc 13.3.1 20240522 (Red Hat 13.3.1-1)

Debian 12
	Kernel: Depends on container host
	Compiler: gcc (Debian 12.2.0-14) 12.2.0

Fedora 40 (Clang)
	Kernel: Depends on container host
	Compiler: clang 18.1.6 (Fedora 18.1.6-3.fc40)

openSUSE Leap 15
	Kernel: Depends on container host
	Compiler: gcc (SUSE Linux) 7.5.0

Fedora 40
	Kernel: Depends on container host
	Compiler: gcc 14.2.1 20240801 (Red Hat 14.2.1-1)

RHEL8
	Kernel: Depends on container host
	Compiler: gcc 8.5.0 20210514 (Red Hat 8.5.0-22)

RHEL9
	Kernel: Depends on container host
	Compiler: gcc 11.4.1 20231218 (Red Hat 11.4.1-3)

Ubuntu 20.04
	Kernel: Depends on container host
	Compiler: gcc (Ubuntu 9.4.0-1ubuntu1~20.04.2) 9.4.0

Ubuntu 22.04
	Kernel: Depends on container host
	Compiler: gcc (Ubuntu 11.4.0-1ubuntu1~22.04) 11.4.0

Ubuntu 24.04
	Kernel: Depends on container host
	Compiler: gcc (Ubuntu 13.2.0-23ubuntu4) 13.2.0

FreeBSD 13.4
	Kernel: 13.4-RELEASE-p1
	Compiler: clang 18.1.6

FreeBSD 14.2
	Kernel: 14.2-RELEASE
	Compiler: clang 18.1.6

Fedora 39 (Clang)
	Kernel: Depends on container host
	Compiler: clang 17.0.6 (Fedora 17.0.6-2.fc39)

Alpine
	Kernel: Depends on container host
	Compiler: gcc (Alpine 13.2.1_git20240309) 13.2.1 20240309

Windows Server 2022
	Kernel: 10.0.20348.2031
	Compiler: clang 15.0.7, gcc 14.1.0 (MinGW), and MSVC VS 19.39.33521

To view detailed results, visit:
https://lab.dpdk.org/results/dashboard/patchsets/32158/

UNH-IOL DPDK Community Lab

To manage your email subscriptions, visit: 
https://lab.dpdk.org/results/dashboard/preferences/subscriptions/