From mboxrd@z Thu Jan  1 00:00:00 1970
Return-Path: <test-report-bounces@dpdk.org>
Received: from mails.dpdk.org (mails.dpdk.org [217.70.189.124])
	by inbox.dpdk.org (Postfix) with ESMTP id 6A0BE45EDD
	for <public@inbox.dpdk.org>; Wed, 18 Dec 2024 16:46:19 +0100 (CET)
Received: from mails.dpdk.org (localhost [127.0.0.1])
	by mails.dpdk.org (Postfix) with ESMTP id 49E3F40DF5;
	Wed, 18 Dec 2024 16:46:19 +0100 (CET)
Received: from mail-io1-f97.google.com (mail-io1-f97.google.com
 [209.85.166.97]) by mails.dpdk.org (Postfix) with ESMTP id 7FE2940DDE
 for <test-report@dpdk.org>; Wed, 18 Dec 2024 16:46:18 +0100 (CET)
Received: by mail-io1-f97.google.com with SMTP id
 ca18e2360f4ac-844ee166150so170588439f.2
 for <test-report@dpdk.org>; Wed, 18 Dec 2024 07:46:18 -0800 (PST)
DKIM-Signature: v=1; a=rsa-sha256; c=relaxed/relaxed;
 d=iol.unh.edu; s=unh-iol; t=1734536777; x=1735141577; darn=dpdk.org;
 h=references:in-reply-to:cc:to:from:subject:message-id:date:from:to
 :cc:subject:date:message-id:reply-to;
 bh=zkig+U97AGKQ4nJbSciqOE0jmmbwL4I8OwZ2Izta4VY=;
 b=Pobnv8wAKhxWECkAva36q/v8rEgY/4R48r6NnqDhZLqrkjZhg8ZQvr2MCVGKM90ACa
 xTRs5fcY4Q0tM9ONwQyBqxmo7d2zUx9IwtckUFvBdp+cFuAZIkGxW96t63mgHnEJqk5X
 CgZMy2xyKqc5vr67qlB/m2bvV6O8TxF7xBSR8=
X-Google-DKIM-Signature: v=1; a=rsa-sha256; c=relaxed/relaxed;
 d=1e100.net; s=20230601; t=1734536777; x=1735141577;
 h=references:in-reply-to:cc:to:from:subject:message-id:date
 :x-gm-message-state:from:to:cc:subject:date:message-id:reply-to;
 bh=zkig+U97AGKQ4nJbSciqOE0jmmbwL4I8OwZ2Izta4VY=;
 b=Fww9D89HlqUvDa2dwt0CtqlnEnlilUj+zrutvb1wUdi57uUKnMzQMGfPYldGlMcdR0
 vTZlWDpExklPPaz4PpV5mAnbRy2fZITdBHwuU8ahYggAGrXd5DPFzbPyNZEm5aNZD1KA
 aFANe33Uh5edG50SVqAWn7KYvrTBBlpGLh6hzqSU/rVoT+BX12nVNwpn7Kt/3tY+zYJq
 2i6K7fEbwqgdgHaSmbNn0glGyQ3TF9CU6IFzLe5Xxqfls4EOHO7w2i93NklDFOpBJ1mq
 U91bdSvD+kdLwRFUHiv9HVVBeofQTo1mG8gV1hZ0ms7PAwl/nMFr8TBmbBDZJdtus+8z
 ID7Q==
X-Gm-Message-State: AOJu0YzV5nyt3ZxWMc1NK3DEiLm3FYP+Ix66ShfKTuR6blb5q99KurCN
 OqtpVHz0VEWeIbWcyfZGMoXGwXeySG1vA6ooYBwvaUGdpQHcVyOurKIUU72gqCwFwvezb/RcGr+
 XWj3Wue9t4H9oy9PE6RuPFGKAzazU3zot2pPGbnmxbXTFPa5sFOZ+8dy9
X-Gm-Gg: ASbGncv/ezQo+tkuEh4pieNL+cB4fl7NbU23LAkG77gNyURwSN1DpAXgRyfq1EHcUx7
 mNf9wTmgGtf9MXSZKFNwNRAceMdq54ClRKDJXBPQ0c3iI74PNoPjF5n1OQNItUfnHI3DWBq54ic
 yPwb8TWTDuobQuyk+aWvJ8Xq/L5QbuI9FbL7jlnOgmK2jeBLT/hE/m7pk9eEWLyMeAnweb2/VPH
 Ww+Ro2hxlCjY9p4owC311bFHgYAAsGRi9AuWiYTMl2yzy2WBLTT1PXGLpdoMFqsvstaiizLM6di
 apu2fw==
X-Google-Smtp-Source: AGHT+IEfW50oSfdkAUytT7lmmxTyAbdVT5OS6ac3fx7B5XIFLh/WUGs07fSgpz33b8VgNlujDM2v9UCPGKYZ
X-Received: by 2002:a05:6e02:99:b0:3a7:be5e:e22d with SMTP id
 e9e14a558f8ab-3bdc013324fmr29411885ab.2.1734536777702; 
 Wed, 18 Dec 2024 07:46:17 -0800 (PST)
Received: from postal.iol.unh.edu (postal.iol.unh.edu.
 [2606:4100:3880:1234::84]) by smtp-relay.gmail.com with ESMTPS id
 e9e14a558f8ab-3b24a3fa01asm5378205ab.38.2024.12.18.07.46.17
 (version=TLS1_2 cipher=ECDHE-ECDSA-AES128-GCM-SHA256 bits=128/128);
 Wed, 18 Dec 2024 07:46:17 -0800 (PST)
X-Relaying-Domain: iol.unh.edu
Date: Wed, 18 Dec 2024 07:46:17 -0800 (PST)
Message-ID: <6762ee49.050a0220.159d31.3a60SMTPIN_ADDED_MISSING@mx.google.com>
Received: from [172.17.0.3] (unknown [172.18.0.217])
 by postal.iol.unh.edu (Postfix) with ESMTP id 35A946052471;
 Wed, 18 Dec 2024 10:46:17 -0500 (EST)
Subject: |SUCCESS| pw149289-149303 [PATCH] [v4,15/15] net/zxdh: mtu update op
From: dpdklab@iol.unh.edu
To: Test Report <test-report@dpdk.org>
Cc: dpdk-test-reports@iol.unh.edu
In-Reply-To: <20241218092603.1218855-16-wang.junlong1@zte.com.cn>
References: <20241218092603.1218855-16-wang.junlong1@zte.com.cn>
Content-Type: text/plain
X-BeenThere: test-report@dpdk.org
X-Mailman-Version: 2.1.29
Precedence: list
List-Id: automatic DPDK test reports <test-report.dpdk.org>
List-Unsubscribe: <https://mails.dpdk.org/options/test-report>,
 <mailto:test-report-request@dpdk.org?subject=unsubscribe>
List-Archive: <http://mails.dpdk.org/archives/test-report/>
List-Post: <mailto:test-report@dpdk.org>
List-Help: <mailto:test-report-request@dpdk.org?subject=help>
List-Subscribe: <https://mails.dpdk.org/listinfo/test-report>,
 <mailto:test-report-request@dpdk.org?subject=subscribe>
Errors-To: test-report-bounces@dpdk.org

Test-Label: iol-compile-arm64-testing
Test-Status: SUCCESS
http://dpdk.org/patch/149303

_Testing PASS_

Submitter: Junlong Wang <wang.junlong1@zte.com.cn>
Date: Wednesday, December 18 2024 09:26:02 
DPDK git baseline: Repo:dpdk
  Branch: master
  CommitID:78d0246a2e2fb14cba220d507192d12d2ce896ac

149289-149303 --> testing pass

Upstream job id: Generic-DPDK-Compile-Meson#344397

Test environment and result as below:

+----------------------------------------+--------------------+
|              Environment               | dpdk_meson_compile |
+========================================+====================+
| RHEL9 (ARM)                            | PASS               |
+----------------------------------------+--------------------+
| Fedora 39 (ARM)                        | PASS               |
+----------------------------------------+--------------------+
| Fedora 40 (ARM)                        | PASS               |
+----------------------------------------+--------------------+
| Ubuntu 20.04 (ARM)                     | PASS               |
+----------------------------------------+--------------------+
| Fedora 40 (ARM Clang)                  | PASS               |
+----------------------------------------+--------------------+
| Ubuntu 22.04 (ARM)                     | PASS               |
+----------------------------------------+--------------------+
| CentOS Stream 9 (ARM)                  | PASS               |
+----------------------------------------+--------------------+
| Debian 12 (arm)                        | PASS               |
+----------------------------------------+--------------------+
| Ubuntu 20.04 ARM Clang Cross Compile   | PASS               |
+----------------------------------------+--------------------+
| Ubuntu 20.04 aarch32 GCC Cross Compile | PASS               |
+----------------------------------------+--------------------+
| Ubuntu 20.04 ARM SVE                   | PASS               |
+----------------------------------------+--------------------+
| Ubuntu 24.04 (ARM)                     | PASS               |
+----------------------------------------+--------------------+
| Fedora 39 (ARM Clang)                  | PASS               |
+----------------------------------------+--------------------+
| Ubuntu 20.04 ARM GCC Cross Compile     | PASS               |
+----------------------------------------+--------------------+
| Debian 12 with MUSDK                   | PASS               |
+----------------------------------------+--------------------+


RHEL9 (ARM)
	Kernel: Depends on container host
	Compiler: gcc 11.4.1 20231218 (Red Hat 11.4.1-3)

Fedora 39 (ARM)
	Kernel: Depends on container host
	Compiler: gcc 13.3.1 20240522 (Red Hat 13.3.1-1)

Fedora 40 (ARM)
	Kernel: Depends on container host
	Compiler: gcc 14.2.1 20240801 (Red Hat 14.2.1-1)

Ubuntu 20.04 (ARM)
	Kernel: Depends on container host
	Compiler: gcc (Ubuntu 9.4.0-1ubuntu1~20.04.2) 9.4.0

Fedora 40 (ARM Clang)
	Kernel: Depends on container host
	Compiler: clang 18.1.6 (Fedora 18.1.6-3.fc40)

Ubuntu 22.04 (ARM)
	Kernel: Depends on container host
	Compiler: gcc (Ubuntu 11.4.0-1ubuntu1~22.04) 11.4.0

CentOS Stream 9 (ARM)
	Kernel: Depends on container host
	Compiler: gcc 11.4.1 20231218 (Red Hat 11.4.1-3)

Debian 12 (arm)
	Kernel: Depends on container host
	Compiler: gcc (Debian 12.2.0-14) 12.2.0

Ubuntu 20.04 ARM Clang Cross Compile
	Kernel: Depends on container host
	Compiler: clang 10.0.0-4ubuntu1

Ubuntu 20.04 aarch32 GCC Cross Compile
	Kernel: Depends on container host
	Compiler: gcc 9.4.0

Ubuntu 20.04 ARM SVE
	Kernel: Depends on container host
	Compiler: gcc (Ubuntu 10.5.0-1ubuntu1~20.04) 10.5.0

Ubuntu 24.04 (ARM)
	Kernel: Depends on container host
	Compiler: gcc (Ubuntu 13.2.0-23ubuntu4) 13.2.0

Fedora 39 (ARM Clang)
	Kernel: Depends on container host
	Compiler: clang 17.0.6 (Fedora 17.0.6-2.fc39)

Ubuntu 20.04 ARM GCC Cross Compile
	Kernel: Depends on container host
	Compiler: aarch64-linux-gnu-gcc (Ubuntu 9.4.0-1ubuntu1~20.04.2) 9.4.0

Debian 12 with MUSDK
	Kernel: Depends on container host
	Compiler: gcc (Debian 12.2.0-14) 12.2.0

To view detailed results, visit:
https://lab.dpdk.org/results/dashboard/patchsets/32158/

UNH-IOL DPDK Community Lab

To manage your email subscriptions, visit: 
https://lab.dpdk.org/results/dashboard/preferences/subscriptions/