From mboxrd@z Thu Jan  1 00:00:00 1970
Return-Path: <test-report-bounces@dpdk.org>
Received: from mails.dpdk.org (mails.dpdk.org [217.70.189.124])
	by inbox.dpdk.org (Postfix) with ESMTP id 4698D45EDF
	for <public@inbox.dpdk.org>; Wed, 18 Dec 2024 20:47:47 +0100 (CET)
Received: from mails.dpdk.org (localhost [127.0.0.1])
	by mails.dpdk.org (Postfix) with ESMTP id 282A740EE2;
	Wed, 18 Dec 2024 20:47:47 +0100 (CET)
Received: from mail-pf1-f228.google.com (mail-pf1-f228.google.com
 [209.85.210.228])
 by mails.dpdk.org (Postfix) with ESMTP id A83F840DF5
 for <test-report@dpdk.org>; Wed, 18 Dec 2024 20:47:45 +0100 (CET)
Received: by mail-pf1-f228.google.com with SMTP id
 d2e1a72fcca58-728d1a2f180so52116b3a.1
 for <test-report@dpdk.org>; Wed, 18 Dec 2024 11:47:45 -0800 (PST)
DKIM-Signature: v=1; a=rsa-sha256; c=relaxed/relaxed;
 d=iol.unh.edu; s=unh-iol; t=1734551265; x=1735156065; darn=dpdk.org;
 h=references:in-reply-to:cc:to:from:subject:message-id:date:from:to
 :cc:subject:date:message-id:reply-to;
 bh=7V2vGfq/w0j4I+McicFyk/Ll9LQtm59tT7P3Qnmj00M=;
 b=ZtG+WXJ4DhjmKTmoAUJ/hZIOl5sKPdvDdTYs/x6NM8h4xyx+ZOcBpQTQR7+qr/bXy4
 wmK5FkTgkq/TYPmaEJv59zDm/I2FLxXaMoSPJh2eSEZ36G3pbMUQo0ylHVjCC42tJ2e/
 JNDEe0gqtKe66LaFQcBkVFlPvbQ7voNcGfJ4g=
X-Google-DKIM-Signature: v=1; a=rsa-sha256; c=relaxed/relaxed;
 d=1e100.net; s=20230601; t=1734551265; x=1735156065;
 h=references:in-reply-to:cc:to:from:subject:message-id:date
 :x-gm-message-state:from:to:cc:subject:date:message-id:reply-to;
 bh=7V2vGfq/w0j4I+McicFyk/Ll9LQtm59tT7P3Qnmj00M=;
 b=C9gunzIyfDpZOVSlnIM/iWkoyoMtDoatWBqy5p58VK5AuzvmbTwC7I37H3xhyTIEIq
 ouAZ9WH4lto9u/CucoCARbWKWu1hAK5CC08NH+GrSjjtlj9hafI5JtTcPU43y+YCQ69o
 cMKxNKpGcbfoE9TjJqNfxlu6270gnjLAx6XcpUB67EaIYRh7uaxJq7dKoELlH1ZmDzjY
 6Sn/2mxvWfoYkYtoP0Ar2jeFVsQt7AtuwFlCpJJUpH9aGwh7lJPGtoRhihWPKOMVAbTY
 3pXE6Rl8FAVbfwfZfI6hav05uUCUuSUAwmcS+f2XB5dsJx3KcPFRHFTyhwQRMz13SFt8
 SXCw==
X-Gm-Message-State: AOJu0Yzs9agJbY2u6HG+JCJGvXmyMm4WZZ2Sg4GyR5SaIkZkYwUg5yOK
 eFdFB8KRiWYQVyriURBEPSToWqs9n159Db/DAwalC+Z8Xa/y2As03qEhnVLYt1i2sx17RGKN9zJ
 Ha/cAAwY1/phSSToZkChzuUK3Vzrboa7v4EseNOziE5sXD1GprUJ5x4c2
X-Gm-Gg: ASbGncuyBid+UntBd2AbtguQLeh3mhyPJe0cZzJhLRFBN6Mr1aOrnmdQYR7pKLBGiQ6
 tJ5a0bq0XWbZE7ezay9D75HWOLVr8O8rDHRWIUfChp9zfjIRc3jijeXzXP4KE8oxPVgeJ7relNe
 HdQjkUTzm9uZvl7+w3+3Yrly1y8lLrPMPZIil2vsUpqPYb6V2whVB7t+b0VXNXRRJtnno91/Rsh
 ZZqRr3yACXxVzT0PjByJeWneIuQrvwxAcn3eLRJRlLWYWdbNQs8Wh/6lNzIqkw/u2Fg91CTCPyz
 PATUGw==
X-Google-Smtp-Source: AGHT+IG7XtLNGUd2jufxpuo0jyyDV7z8Io/pmRgJAJgdIZB135NX9UDloHQ0PFOf49srY/mrpsMvapjktsjV
X-Received: by 2002:a05:6a00:a81:b0:725:41c4:dbc7 with SMTP id
 d2e1a72fcca58-72aa9a32100mr984459b3a.4.1734551264774; 
 Wed, 18 Dec 2024 11:47:44 -0800 (PST)
Received: from postal.iol.unh.edu (postal.iol.unh.edu.
 [2606:4100:3880:1234::84]) by smtp-relay.gmail.com with ESMTPS id
 d2e1a72fcca58-7291876abdcsm568156b3a.0.2024.12.18.11.47.44
 (version=TLS1_2 cipher=ECDHE-ECDSA-AES128-GCM-SHA256 bits=128/128);
 Wed, 18 Dec 2024 11:47:44 -0800 (PST)
X-Relaying-Domain: iol.unh.edu
Date: Wed, 18 Dec 2024 11:47:44 -0800 (PST)
Message-ID: <676326e0.050a0220.23d12d.3af2SMTPIN_ADDED_MISSING@mx.google.com>
Received: from [172.17.0.3] (unknown [172.18.0.217])
 by postal.iol.unh.edu (Postfix) with ESMTP id 01E216052471;
 Wed, 18 Dec 2024 14:47:44 -0500 (EST)
Subject: |WARNING| pw149306 [PATCH] bus/fslmc: fix use after rte_free
From: dpdklab@iol.unh.edu
To: Test Report <test-report@dpdk.org>
Cc: dpdk-test-reports@iol.unh.edu
In-Reply-To: <20241218170530.140747-1-stephen@networkplumber.org>
References: <20241218170530.140747-1-stephen@networkplumber.org>
Content-Type: text/plain
X-BeenThere: test-report@dpdk.org
X-Mailman-Version: 2.1.29
Precedence: list
List-Id: automatic DPDK test reports <test-report.dpdk.org>
List-Unsubscribe: <https://mails.dpdk.org/options/test-report>,
 <mailto:test-report-request@dpdk.org?subject=unsubscribe>
List-Archive: <http://mails.dpdk.org/archives/test-report/>
List-Post: <mailto:test-report@dpdk.org>
List-Help: <mailto:test-report-request@dpdk.org?subject=help>
List-Subscribe: <https://mails.dpdk.org/listinfo/test-report>,
 <mailto:test-report-request@dpdk.org?subject=subscribe>
Errors-To: test-report-bounces@dpdk.org

Test-Label: iol-compile-amd64-testing
Test-Status: WARNING
http://dpdk.org/patch/149306

_Testing issues_

Submitter: Stephen Hemminger <stephen@networkplumber.org>
Date: Wednesday, December 18 2024 17:05:30 
DPDK git baseline: Repo:dpdk
  Branch: master
  CommitID:4dc4e33ffa108e945fc8a1e2bbc7819791faa61e

149306 --> testing issues

Upstream job id: Generic-DPDK-Compile-Meson#344523

Test environment and result as below:

+---------------------+--------------------+------------------+-------------------+-------------------+
|     Environment     | dpdk_meson_compile | dpdk_compile_ovs | dpdk_compile_spdk | dpdk_msvc_compile |
+=====================+====================+==================+===================+===================+
| CentOS Stream 9     | PASS               | PASS             | PASS              | SKIPPED           |
+---------------------+--------------------+------------------+-------------------+-------------------+
| Fedora 39 (Clang)   | PASS               | PASS             | PASS              | SKIPPED           |
+---------------------+--------------------+------------------+-------------------+-------------------+
| Debian 12           | PASS               | PASS             | PASS              | SKIPPED           |
+---------------------+--------------------+------------------+-------------------+-------------------+
| Fedora 39           | PASS               | PASS             | PASS              | SKIPPED           |
+---------------------+--------------------+------------------+-------------------+-------------------+
| Fedora 40           | PASS               | PASS             | PASS              | SKIPPED           |
+---------------------+--------------------+------------------+-------------------+-------------------+
| openSUSE Leap 15    | PASS               | WARN             | SKIPPED           | SKIPPED           |
+---------------------+--------------------+------------------+-------------------+-------------------+
| RHEL9               | PASS               | PASS             | SKIPPED           | SKIPPED           |
+---------------------+--------------------+------------------+-------------------+-------------------+
| Ubuntu 20.04        | PASS               | WARN             | SKIPPED           | SKIPPED           |
+---------------------+--------------------+------------------+-------------------+-------------------+
| Ubuntu 22.04        | PASS               | PASS             | PASS              | SKIPPED           |
+---------------------+--------------------+------------------+-------------------+-------------------+
| Ubuntu 24.04        | PASS               | PASS             | PASS              | SKIPPED           |
+---------------------+--------------------+------------------+-------------------+-------------------+
| Alpine              | PASS               | PASS             | SKIPPED           | SKIPPED           |
+---------------------+--------------------+------------------+-------------------+-------------------+
| FreeBSD 13.4        | PASS               | SKIPPED          | SKIPPED           | SKIPPED           |
+---------------------+--------------------+------------------+-------------------+-------------------+
| RHEL8               | PASS               | PASS             | SKIPPED           | SKIPPED           |
+---------------------+--------------------+------------------+-------------------+-------------------+
| FreeBSD 14.2        | PASS               | SKIPPED          | SKIPPED           | SKIPPED           |
+---------------------+--------------------+------------------+-------------------+-------------------+
| Fedora 40 (Clang)   | PASS               | PASS             | PASS              | SKIPPED           |
+---------------------+--------------------+------------------+-------------------+-------------------+
| Windows Server 2022 | SKIPPED            | SKIPPED          | SKIPPED           | PASS              |
+---------------------+--------------------+------------------+-------------------+-------------------+

==== 20 line log output for Ubuntu 20.04 (dpdk_compile_ovs): ====
 --- Failed to get log output --- 
==== End log output ====

CentOS Stream 9
	Kernel: Depends on container host
	Compiler: gcc 11.4.1 20231218 (Red Hat 11.4.1-3)

Fedora 39 (Clang)
	Kernel: Depends on container host
	Compiler: clang 17.0.6 (Fedora 17.0.6-2.fc39)

Debian 12
	Kernel: Depends on container host
	Compiler: gcc (Debian 12.2.0-14) 12.2.0

Fedora 39
	Kernel: Depends on container host
	Compiler: gcc 13.3.1 20240522 (Red Hat 13.3.1-1)

Fedora 40
	Kernel: Depends on container host
	Compiler: gcc 14.2.1 20240801 (Red Hat 14.2.1-1)

openSUSE Leap 15
	Kernel: Depends on container host
	Compiler: gcc (SUSE Linux) 7.5.0

RHEL9
	Kernel: Depends on container host
	Compiler: gcc 11.4.1 20231218 (Red Hat 11.4.1-3)

Ubuntu 20.04
	Kernel: Depends on container host
	Compiler: gcc (Ubuntu 9.4.0-1ubuntu1~20.04.2) 9.4.0

Ubuntu 22.04
	Kernel: Depends on container host
	Compiler: gcc (Ubuntu 11.4.0-1ubuntu1~22.04) 11.4.0

Ubuntu 24.04
	Kernel: Depends on container host
	Compiler: gcc (Ubuntu 13.2.0-23ubuntu4) 13.2.0

Alpine
	Kernel: Depends on container host
	Compiler: gcc (Alpine 13.2.1_git20240309) 13.2.1 20240309

FreeBSD 13.4
	Kernel: 13.4-RELEASE-p1
	Compiler: clang 18.1.6

RHEL8
	Kernel: Depends on container host
	Compiler: gcc 8.5.0 20210514 (Red Hat 8.5.0-22)

FreeBSD 14.2
	Kernel: 14.2-RELEASE
	Compiler: clang 18.1.6

Fedora 40 (Clang)
	Kernel: Depends on container host
	Compiler: clang 18.1.6 (Fedora 18.1.6-3.fc40)

Windows Server 2022
	Kernel: 10.0.20348.2031
	Compiler: clang 15.0.7, gcc 14.1.0 (MinGW), and MSVC VS 19.39.33521

To view detailed results, visit:
https://lab.dpdk.org/results/dashboard/patchsets/32161/

UNH-IOL DPDK Community Lab

To manage your email subscriptions, visit: 
https://lab.dpdk.org/results/dashboard/preferences/subscriptions/