From mboxrd@z Thu Jan  1 00:00:00 1970
Return-Path: <test-report-bounces@dpdk.org>
Received: from mails.dpdk.org (mails.dpdk.org [217.70.189.124])
	by inbox.dpdk.org (Postfix) with ESMTP id 51E3545EDF
	for <public@inbox.dpdk.org>; Wed, 18 Dec 2024 21:03:37 +0100 (CET)
Received: from mails.dpdk.org (localhost [127.0.0.1])
	by mails.dpdk.org (Postfix) with ESMTP id 409C2410DD;
	Wed, 18 Dec 2024 21:03:37 +0100 (CET)
Received: from mail-pf1-f226.google.com (mail-pf1-f226.google.com
 [209.85.210.226])
 by mails.dpdk.org (Postfix) with ESMTP id 021CF40DF5
 for <test-report@dpdk.org>; Wed, 18 Dec 2024 21:03:36 +0100 (CET)
Received: by mail-pf1-f226.google.com with SMTP id
 d2e1a72fcca58-728f28744c5so85184b3a.1
 for <test-report@dpdk.org>; Wed, 18 Dec 2024 12:03:35 -0800 (PST)
DKIM-Signature: v=1; a=rsa-sha256; c=relaxed/relaxed;
 d=iol.unh.edu; s=unh-iol; t=1734552215; x=1735157015; darn=dpdk.org;
 h=references:in-reply-to:cc:to:from:subject:message-id:date:from:to
 :cc:subject:date:message-id:reply-to;
 bh=TTL+4Ep6enim+w0jlAuanGANcsnuhJs27QJqbWRtr34=;
 b=WlLk/429nOoOOXDEIDpWxaBcLP83sJ0Dxse+WCSb1grDIuGpJ6TcFoZ5/LcbztvXis
 E++VhuVaeCK+Oa+Ub0HXlMzokVjInSn+dR591sprVDq9m+9fDwR6KEjTJpkVNhe2Ekpc
 qoaV4NhGXYA/rbo0cw/BCe9ZSXNzc8N+s/2/4=
X-Google-DKIM-Signature: v=1; a=rsa-sha256; c=relaxed/relaxed;
 d=1e100.net; s=20230601; t=1734552215; x=1735157015;
 h=references:in-reply-to:cc:to:from:subject:message-id:date
 :x-gm-message-state:from:to:cc:subject:date:message-id:reply-to;
 bh=TTL+4Ep6enim+w0jlAuanGANcsnuhJs27QJqbWRtr34=;
 b=BkC068ZvS2Y3CKZ3uNu9+rFgV7QRWQnzft+owlcTaBYKtTJgaW+S6ocRbbUFGZBm7j
 8Mr7TPegsE7W0pgomv+4/9LuP4nt4AIbDgI48rpYXa1+VKKl31tHBl22T1AXxAOilwIc
 Hl/Ly9Cyz/6LHxT1U0BnMWHt3y9zKlNum5WMhz7TuRsxB3ucZoTXrC91iNiA+V96QSHT
 WHWM9UtTNfX/Q7HKzc1ni/HJWx1JnyjPR8h9AimRbr7gGRQqM54eCmaqJ4rVddwPYe6I
 rWqsA8y1WTTBg5U7URAtefdnMT7UOYL1sg7oj1cyc1YKpuBGpR8Gek/yf6mJflxxHdVD
 tvyg==
X-Gm-Message-State: AOJu0Yyh0Lov5MqCA+LpeIRrMKROVeXC5SRWWRKbzutbHwREYaZil29k
 elV16zPOTZ32Ke0XYJkp217+id43dAtGpm5O7Po6fyzD0e1Q4q2syis8R3ZFgxPXWw9w93VsF4l
 ghTITnmiBeAfPi5GbQeXLekDsnYb5eaHAomTcaMO7/410seEMl4366cVj
X-Gm-Gg: ASbGncswHLOwBGFXg0W4gTIfKDiXVQ/XIkDowy4UzTbQoh/xojii/WBao5s7JQShUOg
 Lr9QZeG+9uQfOJbci8d46rkHCRFjjfUlGKSxIO9ifEF8GEEf/jTaenDBymzV+T/5FKpORNQz70e
 cu9mdY1jVJtMv39cPouxY8J+zfEx/pfIZ37WPTuQMXssuDBMLH8oP/3nMAqi/8N3ZbR5vgJh2bC
 t+8zNO6ljNp9ocKYxzKVx7MAKA1IiIc/TRpPmpf6z+DJT+c22FJsmW99KFUN16dvR/F1WpbmwYE
 24xINw==
X-Google-Smtp-Source: AGHT+IFDhxWJ8SR+IVvuWV3xzSvJdLxaECvB7VTr0JnVBzcdU01kDQUVlA8tEucLe9S5cvgNAe5NY5nRqp65
X-Received: by 2002:a05:6a21:6d99:b0:1e1:becc:1c9c with SMTP id
 adf61e73a8af0-1e5b487e693mr6580665637.28.1734552215138; 
 Wed, 18 Dec 2024 12:03:35 -0800 (PST)
Received: from postal.iol.unh.edu (postal.iol.unh.edu.
 [2606:4100:3880:1234::84]) by smtp-relay.gmail.com with ESMTPS id
 d2e1a72fcca58-72918ac7618sm551653b3a.4.2024.12.18.12.03.35
 (version=TLS1_2 cipher=ECDHE-ECDSA-AES128-GCM-SHA256 bits=128/128);
 Wed, 18 Dec 2024 12:03:35 -0800 (PST)
X-Relaying-Domain: iol.unh.edu
Date: Wed, 18 Dec 2024 12:03:35 -0800 (PST)
Message-ID: <67632a97.050a0220.2c922e.271dSMTPIN_ADDED_MISSING@mx.google.com>
Received: from [172.17.0.3] (unknown [172.18.0.217])
 by postal.iol.unh.edu (Postfix) with ESMTP id 63F836052471;
 Wed, 18 Dec 2024 15:03:34 -0500 (EST)
Subject: |WARNING| pw149289-149303 [PATCH] [v4,15/15] net/zxdh: mtu update op
From: dpdklab@iol.unh.edu
To: Test Report <test-report@dpdk.org>
Cc: dpdk-test-reports@iol.unh.edu
In-Reply-To: <20241218092603.1218855-16-wang.junlong1@zte.com.cn>
References: <20241218092603.1218855-16-wang.junlong1@zte.com.cn>
Content-Type: text/plain
X-BeenThere: test-report@dpdk.org
X-Mailman-Version: 2.1.29
Precedence: list
List-Id: automatic DPDK test reports <test-report.dpdk.org>
List-Unsubscribe: <https://mails.dpdk.org/options/test-report>,
 <mailto:test-report-request@dpdk.org?subject=unsubscribe>
List-Archive: <http://mails.dpdk.org/archives/test-report/>
List-Post: <mailto:test-report@dpdk.org>
List-Help: <mailto:test-report-request@dpdk.org?subject=help>
List-Subscribe: <https://mails.dpdk.org/listinfo/test-report>,
 <mailto:test-report-request@dpdk.org?subject=subscribe>
Errors-To: test-report-bounces@dpdk.org

Test-Label: iol-compile-amd64-testing
Test-Status: WARNING
http://dpdk.org/patch/149303

_Testing issues_

Submitter: Junlong Wang <wang.junlong1@zte.com.cn>
Date: Wednesday, December 18 2024 09:26:02 
DPDK git baseline: Repo:dpdk
  Branch: master
  CommitID:78d0246a2e2fb14cba220d507192d12d2ce896ac

149289-149303 --> testing issues

Upstream job id: Windows-Compile-DPDK-Native#25409

Test environment and result as below:

+---------------------+--------------------+------------------+-------------------+-------------------+-----------------------+
|     Environment     | dpdk_meson_compile | dpdk_compile_ovs | dpdk_compile_spdk | dpdk_msvc_compile | dpdk_win_llvm_compile |
+=====================+====================+==================+===================+===================+=======================+
| CentOS Stream 9     | PASS               | PASS             | PASS              | SKIPPED           | SKIPPED               |
+---------------------+--------------------+------------------+-------------------+-------------------+-----------------------+
| Fedora 39           | PASS               | PASS             | PASS              | SKIPPED           | SKIPPED               |
+---------------------+--------------------+------------------+-------------------+-------------------+-----------------------+
| Debian 12           | PASS               | PASS             | PASS              | SKIPPED           | SKIPPED               |
+---------------------+--------------------+------------------+-------------------+-------------------+-----------------------+
| Fedora 40 (Clang)   | PASS               | PASS             | PASS              | SKIPPED           | SKIPPED               |
+---------------------+--------------------+------------------+-------------------+-------------------+-----------------------+
| openSUSE Leap 15    | PASS               | WARN             | SKIPPED           | SKIPPED           | SKIPPED               |
+---------------------+--------------------+------------------+-------------------+-------------------+-----------------------+
| Fedora 40           | PASS               | PASS             | PASS              | SKIPPED           | SKIPPED               |
+---------------------+--------------------+------------------+-------------------+-------------------+-----------------------+
| RHEL8               | PASS               | PASS             | SKIPPED           | SKIPPED           | SKIPPED               |
+---------------------+--------------------+------------------+-------------------+-------------------+-----------------------+
| RHEL9               | PASS               | PASS             | SKIPPED           | SKIPPED           | SKIPPED               |
+---------------------+--------------------+------------------+-------------------+-------------------+-----------------------+
| Ubuntu 20.04        | PASS               | WARN             | SKIPPED           | SKIPPED           | SKIPPED               |
+---------------------+--------------------+------------------+-------------------+-------------------+-----------------------+
| Ubuntu 22.04        | PASS               | PASS             | PASS              | SKIPPED           | SKIPPED               |
+---------------------+--------------------+------------------+-------------------+-------------------+-----------------------+
| Ubuntu 24.04        | PASS               | PASS             | PASS              | SKIPPED           | SKIPPED               |
+---------------------+--------------------+------------------+-------------------+-------------------+-----------------------+
| FreeBSD 13.4        | PASS               | SKIPPED          | SKIPPED           | SKIPPED           | SKIPPED               |
+---------------------+--------------------+------------------+-------------------+-------------------+-----------------------+
| FreeBSD 14.2        | PASS               | SKIPPED          | SKIPPED           | SKIPPED           | SKIPPED               |
+---------------------+--------------------+------------------+-------------------+-------------------+-----------------------+
| Fedora 39 (Clang)   | PASS               | PASS             | PASS              | SKIPPED           | SKIPPED               |
+---------------------+--------------------+------------------+-------------------+-------------------+-----------------------+
| Alpine              | PASS               | PASS             | SKIPPED           | SKIPPED           | SKIPPED               |
+---------------------+--------------------+------------------+-------------------+-------------------+-----------------------+
| Windows Server 2022 | SKIPPED            | SKIPPED          | SKIPPED           | PASS              | PASS                  |
+---------------------+--------------------+------------------+-------------------+-------------------+-----------------------+

==== 20 line log output for Ubuntu 20.04 (dpdk_compile_ovs): ====
 --- Failed to get log output --- 
==== End log output ====

CentOS Stream 9
	Kernel: Depends on container host
	Compiler: gcc 11.4.1 20231218 (Red Hat 11.4.1-3)

Fedora 39
	Kernel: Depends on container host
	Compiler: gcc 13.3.1 20240522 (Red Hat 13.3.1-1)

Debian 12
	Kernel: Depends on container host
	Compiler: gcc (Debian 12.2.0-14) 12.2.0

Fedora 40 (Clang)
	Kernel: Depends on container host
	Compiler: clang 18.1.6 (Fedora 18.1.6-3.fc40)

openSUSE Leap 15
	Kernel: Depends on container host
	Compiler: gcc (SUSE Linux) 7.5.0

Fedora 40
	Kernel: Depends on container host
	Compiler: gcc 14.2.1 20240801 (Red Hat 14.2.1-1)

RHEL8
	Kernel: Depends on container host
	Compiler: gcc 8.5.0 20210514 (Red Hat 8.5.0-22)

RHEL9
	Kernel: Depends on container host
	Compiler: gcc 11.4.1 20231218 (Red Hat 11.4.1-3)

Ubuntu 20.04
	Kernel: Depends on container host
	Compiler: gcc (Ubuntu 9.4.0-1ubuntu1~20.04.2) 9.4.0

Ubuntu 22.04
	Kernel: Depends on container host
	Compiler: gcc (Ubuntu 11.4.0-1ubuntu1~22.04) 11.4.0

Ubuntu 24.04
	Kernel: Depends on container host
	Compiler: gcc (Ubuntu 13.2.0-23ubuntu4) 13.2.0

FreeBSD 13.4
	Kernel: 13.4-RELEASE-p1
	Compiler: clang 18.1.6

FreeBSD 14.2
	Kernel: 14.2-RELEASE
	Compiler: clang 18.1.6

Fedora 39 (Clang)
	Kernel: Depends on container host
	Compiler: clang 17.0.6 (Fedora 17.0.6-2.fc39)

Alpine
	Kernel: Depends on container host
	Compiler: gcc (Alpine 13.2.1_git20240309) 13.2.1 20240309

Windows Server 2022
	Kernel: 10.0.20348.2031
	Compiler: clang 15.0.7, gcc 14.1.0 (MinGW), and MSVC VS 19.39.33521

To view detailed results, visit:
https://lab.dpdk.org/results/dashboard/patchsets/32158/

UNH-IOL DPDK Community Lab

To manage your email subscriptions, visit: 
https://lab.dpdk.org/results/dashboard/preferences/subscriptions/