From mboxrd@z Thu Jan 1 00:00:00 1970 Return-Path: Received: from mails.dpdk.org (mails.dpdk.org [217.70.189.124]) by inbox.dpdk.org (Postfix) with ESMTP id 43D4945EE2 for ; Thu, 19 Dec 2024 01:06:54 +0100 (CET) Received: from mails.dpdk.org (localhost [127.0.0.1]) by mails.dpdk.org (Postfix) with ESMTP id 3DE9D40299; Thu, 19 Dec 2024 01:06:54 +0100 (CET) Received: from mail-io1-f100.google.com (mail-io1-f100.google.com [209.85.166.100]) by mails.dpdk.org (Postfix) with ESMTP id C36D4400EF for ; Thu, 19 Dec 2024 01:06:52 +0100 (CET) Received: by mail-io1-f100.google.com with SMTP id ca18e2360f4ac-844ee166150so8521539f.2 for ; Wed, 18 Dec 2024 16:06:52 -0800 (PST) DKIM-Signature: v=1; a=rsa-sha256; c=relaxed/relaxed; d=iol.unh.edu; s=unh-iol; t=1734566812; x=1735171612; darn=dpdk.org; h=cc:to:from:subject:message-id:date:from:to:cc:subject:date :message-id:reply-to; bh=4Xzyc2FWBROHKQwWRsB7n/5wQcsPPLqmhXW06ZudRTg=; b=MZEHRHWJ3j2CBkTGCLG8aJivFuLzfEpfYU/JdZvW62j/tu5zZ5MFhJch2jAK4k9JJZ XZ7LqLwhCQi4Zz1h2qpWHHZI3AwbuNlaKHnYuQzq8VFvFnfDjHhkYV4e8TVPotc+u+GJ aA1W3g/qP3Vn6UVmNBVUJjXXxK9Rwvbd8e9C4= X-Google-DKIM-Signature: v=1; a=rsa-sha256; c=relaxed/relaxed; d=1e100.net; s=20230601; t=1734566812; x=1735171612; h=cc:to:from:subject:message-id:date:x-gm-message-state:from:to:cc :subject:date:message-id:reply-to; bh=4Xzyc2FWBROHKQwWRsB7n/5wQcsPPLqmhXW06ZudRTg=; b=BA1MkSfX72UqVWz+d+rv+To39UgzKplN73EjyIldrNWTztRQzFbTusRVPagFs/OcxE kR4Y/Vxz4j29JLiPdJAXx5FKIwVDm7U/ZLZG+MJVfhYfOb+j/eTLhONFTdGwI5UG/XVR QsstCXGyw7kRJ0Cko3LcNXNC7fl46c9LmkKAL74q4Eo5HKJ6ze4+KfVxJ8ZJgPyGiB3L fP3tGvvZXCVGKoqthidbPmKSy3pmCpPQsVX7cRrKoERQFNlE3wLkuyLc86eS0FDaWo3o +TWH4UgBTDQpohTQsOsJylJTrEsnROzW4H47v0NzZtp76hB6beTtmmrYpvV7cMc7aQda IVMQ== X-Gm-Message-State: AOJu0YyfImQXi2s1UYzcw2iSg5kRPDiHZc0dKRi8iIE7NZchYfWtsH7H Bv4Sw6pwyVk72H1+0/rH7jo9UT1KkMtnAB9zxd8kS6bKJS/Jvtyh78gS/d2V46EHOpQVZsU2n9Y dxuhQcIuKEEfoc6qDiYDUBvt0gPNn2DHQh3fMDEFY X-Gm-Gg: ASbGncsBkXVLgAowmudPo3avF/g1WH9bKmuudjQikUsoT/iGd+1+SHqBXsWpi+8BdUz +ojwqw4pYI4kyK4YaQWRIMQyeYRQRtokOU7cJMcKOwCot55yy4vorzztZQAah03tlV7q5PZf+3q L5uw/vb6wJKK1Ep5ufUaTL68Rjy87MwNOfM1l2Gws0xqiVFhIfg0/gMuAHy9oqAUfxKW6GOWlH5 InWY6jccDQ18ZAFSV412d1scirvW7hBYqd3YrybbvP14qjZYFrGFe9zCWuPjBw3Wh8mIxMVJkLa 1g== X-Google-Smtp-Source: AGHT+IEMaRwfXerBG4N2RAlYyC47nA84FHYVQdRHNOSjt8MUfTrzAxOlvJMt5EN1uE2cy1rKgoGhTN/EZRnm X-Received: by 2002:a05:6602:1555:b0:837:7d54:acf1 with SMTP id ca18e2360f4ac-847584de2a1mr599971039f.2.1734566812025; Wed, 18 Dec 2024 16:06:52 -0800 (PST) Received: from postal.iol.unh.edu (postal.iol.unh.edu. [132.177.123.84]) by smtp-relay.gmail.com with ESMTPS id ca18e2360f4ac-8498d823ba7sm181739f.15.2024.12.18.16.06.51 (version=TLS1_2 cipher=ECDHE-ECDSA-AES128-GCM-SHA256 bits=128/128); Wed, 18 Dec 2024 16:06:52 -0800 (PST) X-Relaying-Domain: iol.unh.edu Date: Wed, 18 Dec 2024 16:06:52 -0800 (PST) Message-ID: <6763639c.050a0220.115b69.0409SMTPIN_ADDED_MISSING@mx.google.com> Received: from [172.21.0.6] (unknown [172.18.0.240]) by postal.iol.unh.edu (Postfix) with ESMTP id 87F2C6052471; Wed, 18 Dec 2024 19:06:51 -0500 (EST) Subject: |SUCCESS| [GIT MASTER] 07604f264417959d76aa9fcb8cb0c3665f62f0d3 From: dpdklab@iol.unh.edu To: Test Report Cc: dpdk-test-reports@iol.unh.edu Content-Type: text/plain X-BeenThere: test-report@dpdk.org X-Mailman-Version: 2.1.29 Precedence: list List-Id: automatic DPDK test reports List-Unsubscribe: , List-Archive: List-Post: List-Help: List-Subscribe: , Errors-To: test-report-bounces@dpdk.org _Testing PASS_ Branch: dpdk 07604f264417959d76aa9fcb8cb0c3665f62f0d3 --> testing pass Upstream job id: Aarch32-Unit-Test#4687 Test environment and result as below: +-----------------------------+----------------+--------------+---------------------------+------------------------------+ | Environment | dpdk_unit_test | lpm_autotest | cryptodev_sw_zuc_autotest | cryptodev_sw_snow3g_autotest | +=============================+================+==============+===========================+==============================+ | Debian 12 (arm) | PASS | SKIPPED | PASS | PASS | +-----------------------------+----------------+--------------+---------------------------+------------------------------+ | CentOS Stream 9 (ARM) | PASS | SKIPPED | SKIPPED | SKIPPED | +-----------------------------+----------------+--------------+---------------------------+------------------------------+ | Fedora 40 (ARM) | PASS | SKIPPED | SKIPPED | SKIPPED | +-----------------------------+----------------+--------------+---------------------------+------------------------------+ | Fedora 39 (ARM) | PASS | SKIPPED | SKIPPED | SKIPPED | +-----------------------------+----------------+--------------+---------------------------+------------------------------+ | Fedora 39 (ARM Clang) | PASS | SKIPPED | SKIPPED | SKIPPED | +-----------------------------+----------------+--------------+---------------------------+------------------------------+ | RHEL9 (ARM) | PASS | SKIPPED | SKIPPED | SKIPPED | +-----------------------------+----------------+--------------+---------------------------+------------------------------+ | Ubuntu 20.04 (ARM) | PASS | SKIPPED | SKIPPED | SKIPPED | +-----------------------------+----------------+--------------+---------------------------+------------------------------+ | Fedora 40 (ARM Clang) | PASS | SKIPPED | SKIPPED | SKIPPED | +-----------------------------+----------------+--------------+---------------------------+------------------------------+ | Ubuntu 22.04 (ARM) | PASS | SKIPPED | SKIPPED | SKIPPED | +-----------------------------+----------------+--------------+---------------------------+------------------------------+ | Ubuntu 24.04 (ARM) | PASS | SKIPPED | SKIPPED | SKIPPED | +-----------------------------+----------------+--------------+---------------------------+------------------------------+ | 32-bit Ubuntu 22.04.4 (ARM) | PASS | SKIPPED | SKIPPED | SKIPPED | +-----------------------------+----------------+--------------+---------------------------+------------------------------+ | Ubuntu 20.04 ARM SVE | SKIPPED | PASS | SKIPPED | SKIPPED | +-----------------------------+----------------+--------------+---------------------------+------------------------------+ Debian 12 (arm) Kernel: Depends on container host Compiler: gcc (Debian 12.2.0-14) 12.2.0 CentOS Stream 9 (ARM) Kernel: Depends on container host Compiler: gcc 11.4.1 20231218 (Red Hat 11.4.1-3) Fedora 40 (ARM) Kernel: Depends on container host Compiler: gcc 14.2.1 20240801 (Red Hat 14.2.1-1) Fedora 39 (ARM) Kernel: Depends on container host Compiler: gcc 13.3.1 20240522 (Red Hat 13.3.1-1) Fedora 39 (ARM Clang) Kernel: Depends on container host Compiler: clang 17.0.6 (Fedora 17.0.6-2.fc39) RHEL9 (ARM) Kernel: Depends on container host Compiler: gcc 11.4.1 20231218 (Red Hat 11.4.1-3) Ubuntu 20.04 (ARM) Kernel: Depends on container host Compiler: gcc (Ubuntu 9.4.0-1ubuntu1~20.04.2) 9.4.0 Fedora 40 (ARM Clang) Kernel: Depends on container host Compiler: clang 18.1.6 (Fedora 18.1.6-3.fc40) Ubuntu 22.04 (ARM) Kernel: Depends on container host Compiler: gcc (Ubuntu 11.4.0-1ubuntu1~22.04) 11.4.0 Ubuntu 24.04 (ARM) Kernel: Depends on container host Compiler: gcc (Ubuntu 13.2.0-23ubuntu4) 13.2.0 32-bit Ubuntu 22.04.4 (ARM) Kernel: 5.15.83+ aarch64 Compiler: gcc (Ubuntu 11.4.0-1ubuntu1~22.04) 11.4.0 Ubuntu 20.04 ARM SVE Kernel: Depends on container host Compiler: gcc (Ubuntu 10.5.0-1ubuntu1~20.04) 10.5.0 To view detailed results, visit: https://lab.dpdk.org/results/dashboard/tarballs/31977/ UNH-IOL DPDK Community Lab To manage your email subscriptions, visit: https://lab.dpdk.org/results/dashboard/preferences/subscriptions/