From mboxrd@z Thu Jan 1 00:00:00 1970 Return-Path: Received: from mails.dpdk.org (mails.dpdk.org [217.70.189.124]) by inbox.dpdk.org (Postfix) with ESMTP id A5A2245EEC for ; Thu, 19 Dec 2024 15:51:26 +0100 (CET) Received: from mails.dpdk.org (localhost [127.0.0.1]) by mails.dpdk.org (Postfix) with ESMTP id 7FE2640265; Thu, 19 Dec 2024 15:51:26 +0100 (CET) Received: from mail-oo1-f98.google.com (mail-oo1-f98.google.com [209.85.161.98]) by mails.dpdk.org (Postfix) with ESMTP id 6641D4025F for ; Thu, 19 Dec 2024 15:51:24 +0100 (CET) Received: by mail-oo1-f98.google.com with SMTP id 006d021491bc7-5ee8eaa1694so315362eaf.0 for ; Thu, 19 Dec 2024 06:51:24 -0800 (PST) DKIM-Signature: v=1; a=rsa-sha256; c=relaxed/relaxed; d=iol.unh.edu; s=unh-iol; t=1734619883; x=1735224683; darn=dpdk.org; h=references:in-reply-to:cc:to:from:subject:message-id:date:from:to :cc:subject:date:message-id:reply-to; bh=FHSOHrs+tNcuVfAs7QYq7AjI9Tg4nS/R6NL6+MFWlVQ=; b=HNTnvyacNO2cdOdgZCdaRpgjHQP8N5u4IIeFW+/CiQ1+sjFJop8yBP7ZQbljVHEScp HCFrMdvNo3muoe+jfYtZGHygCP8sRPmmTcBkBeqPnDfXaFVuLgS96/zvzs214D9JpZzh 8GRB0Bs0daykzueTnuRxJQAkKYuGxDEUreQ14= X-Google-DKIM-Signature: v=1; a=rsa-sha256; c=relaxed/relaxed; d=1e100.net; s=20230601; t=1734619883; x=1735224683; h=references:in-reply-to:cc:to:from:subject:message-id:date :x-gm-message-state:from:to:cc:subject:date:message-id:reply-to; bh=FHSOHrs+tNcuVfAs7QYq7AjI9Tg4nS/R6NL6+MFWlVQ=; b=CzXDB4asSDo7x3l+oteAqZTyIXteUhvo6jHd0m6d3AJhLfxaOWRad2R8mU65HpBeU/ LbokwjWyik3k/zwGUi+4DBNLEgvxpNNuNceKwfO3/LAcrc2JNYuBjGtykQBd34c4B8eD DdFubVJJX5m65z82fFsuEEhIVeKh0KUzTjESjR0OuZLjsyTXibxSe+/uwJQSurgkCzjx bY+GkOkdWlBDwe94DTVVghWitMoAnIT8HGHpomdgHmjcnci815mQ8jKpqRxfY9H96kMI 1c9gp6r5jvv/ABMz+t2bO3TxvCClPzHIGri81/4GlWZBmDU1Ji8GHozKU2pxdv+pbtsS DYGQ== X-Gm-Message-State: AOJu0YxrsvSDYz4b9Hwz7Ofv4o4LPsBztP+XktMWSlxxxsJKHQGYscy5 Yadq5YHq6BaNzhijD4HlLeuW3laS+dwD5PSw5SAahz9Gzpz1q33ycfdda5OFo33yN2J8Ja3kYgT AsIOhoiK0ROHRsSgnTuYgKTY36QniVysvZY5Bqi1K X-Gm-Gg: ASbGncs004uiHMjx41mia7wSfBS0ra1Vl4imqiqtkaSXY+nft2XBvM1xUPcnD2EzGgY 6sPQsKhz7La82B0C8Q/XtDS3jEs2juZVjbh/4MCopalWiDQc+Ye8MqLPeg5QHwyNxLtu4Gul/Eq n648rZLCffvbRbJXrira9JkeZK0/2Yw/ThKIYdEcotvBAF+gJX+dtbTU1CEvG/Jogy+2IIW9nKB U/j+S/IKjKOqRlRN6KqpzKwDV/HKhuThtTcAnbh9Plvf37wfRS0+u/WU0aT2I3C8yz7964HtcR3 0g== X-Google-Smtp-Source: AGHT+IFnkZsWWyxZQ3ubleMUXVrxC+SnMKajchMSBFjgKfcuWortPozJCECqne5ubpBnz993O79oMdi5GtaK X-Received: by 2002:a05:6870:1e8d:b0:29e:5522:8eea with SMTP id 586e51a60fabf-2a7b347cde8mr3729692fac.38.1734619883337; Thu, 19 Dec 2024 06:51:23 -0800 (PST) Received: from postal.iol.unh.edu (postal.iol.unh.edu. [132.177.123.84]) by smtp-relay.gmail.com with ESMTPS id 586e51a60fabf-2a7d74c92d3sm57159fac.14.2024.12.19.06.51.23 (version=TLS1_2 cipher=ECDHE-ECDSA-AES128-GCM-SHA256 bits=128/128); Thu, 19 Dec 2024 06:51:23 -0800 (PST) X-Relaying-Domain: iol.unh.edu Date: Thu, 19 Dec 2024 06:51:23 -0800 (PST) Message-ID: <676432eb.050a0220.336320.3db2SMTPIN_ADDED_MISSING@mx.google.com> Received: from [172.17.0.3] (unknown [172.18.0.217]) by postal.iol.unh.edu (Postfix) with ESMTP id C73656052471; Thu, 19 Dec 2024 09:51:22 -0500 (EST) Subject: |SUCCESS| pw149315 [PATCH] [v2] cryptodev: fix C++ include From: dpdklab@iol.unh.edu To: Test Report Cc: dpdk-test-reports@iol.unh.edu In-Reply-To: <20241219133139.420001-1-thomas@monjalon.net> References: <20241219133139.420001-1-thomas@monjalon.net> Content-Type: text/plain X-BeenThere: test-report@dpdk.org X-Mailman-Version: 2.1.29 Precedence: list List-Id: automatic DPDK test reports List-Unsubscribe: , List-Archive: List-Post: List-Help: List-Subscribe: , Errors-To: test-report-bounces@dpdk.org Test-Label: iol-unit-amd64-testing Test-Status: SUCCESS http://dpdk.org/patch/149315 _Testing PASS_ Submitter: Thomas Monjalon Date: Thursday, December 19 2024 13:30:50 DPDK git baseline: Repo:dpdk Branch: master CommitID:7df61db6c387703a36306c1aea92225921e2eeb2 149315 --> testing pass Upstream job id: Generic-VM-Unit-Test-DPDK#26656 Test environment and result as below: +---------------------+----------------+ | Environment | dpdk_unit_test | +=====================+================+ | Debian 12 | PASS | +---------------------+----------------+ | Fedora 40 | PASS | +---------------------+----------------+ | CentOS Stream 9 | PASS | +---------------------+----------------+ | Fedora 39 | PASS | +---------------------+----------------+ | Fedora 39 (Clang) | PASS | +---------------------+----------------+ | Fedora 40 (Clang) | PASS | +---------------------+----------------+ | Ubuntu 22.04 | PASS | +---------------------+----------------+ | Ubuntu 24.04 | PASS | +---------------------+----------------+ | RHEL8 | PASS | +---------------------+----------------+ | Ubuntu 20.04 | PASS | +---------------------+----------------+ | RHEL9 | PASS | +---------------------+----------------+ | Windows Server 2022 | PASS | +---------------------+----------------+ Debian 12 Kernel: Depends on container host Compiler: gcc (Debian 12.2.0-14) 12.2.0 Fedora 40 Kernel: Depends on container host Compiler: gcc 14.2.1 20240801 (Red Hat 14.2.1-1) CentOS Stream 9 Kernel: Depends on container host Compiler: gcc 11.4.1 20231218 (Red Hat 11.4.1-3) Fedora 39 Kernel: Depends on container host Compiler: gcc 13.3.1 20240522 (Red Hat 13.3.1-1) Fedora 39 (Clang) Kernel: Depends on container host Compiler: clang 17.0.6 (Fedora 17.0.6-2.fc39) Fedora 40 (Clang) Kernel: Depends on container host Compiler: clang 18.1.6 (Fedora 18.1.6-3.fc40) Ubuntu 22.04 Kernel: Depends on container host Compiler: gcc (Ubuntu 11.4.0-1ubuntu1~22.04) 11.4.0 Ubuntu 24.04 Kernel: Depends on container host Compiler: gcc (Ubuntu 13.2.0-23ubuntu4) 13.2.0 RHEL8 Kernel: Depends on container host Compiler: gcc 8.5.0 20210514 (Red Hat 8.5.0-22) Ubuntu 20.04 Kernel: Depends on container host Compiler: gcc (Ubuntu 9.4.0-1ubuntu1~20.04.2) 9.4.0 RHEL9 Kernel: Depends on container host Compiler: gcc 11.4.1 20231218 (Red Hat 11.4.1-3) Windows Server 2022 Kernel: 10.0.20348.2031 Compiler: clang 15.0.7, gcc 14.1.0 (MinGW), and MSVC VS 19.39.33521 To view detailed results, visit: https://lab.dpdk.org/results/dashboard/patchsets/32170/ UNH-IOL DPDK Community Lab To manage your email subscriptions, visit: https://lab.dpdk.org/results/dashboard/preferences/subscriptions/