From mboxrd@z Thu Jan 1 00:00:00 1970 Return-Path: Received: from mails.dpdk.org (mails.dpdk.org [217.70.189.124]) by inbox.dpdk.org (Postfix) with ESMTP id 1A24645EF8 for ; Fri, 20 Dec 2024 11:25:23 +0100 (CET) Received: from mails.dpdk.org (localhost [127.0.0.1]) by mails.dpdk.org (Postfix) with ESMTP id DAA3C40263; Fri, 20 Dec 2024 11:25:22 +0100 (CET) Received: from mail-yw1-f227.google.com (mail-yw1-f227.google.com [209.85.128.227]) by mails.dpdk.org (Postfix) with ESMTP id 3D4FC4003C for ; Fri, 20 Dec 2024 11:25:21 +0100 (CET) Received: by mail-yw1-f227.google.com with SMTP id 00721157ae682-6f14626c5d3so14617497b3.3 for ; Fri, 20 Dec 2024 02:25:21 -0800 (PST) DKIM-Signature: v=1; a=rsa-sha256; c=relaxed/relaxed; d=iol.unh.edu; s=unh-iol; t=1734690320; x=1735295120; darn=dpdk.org; h=references:in-reply-to:cc:to:from:subject:message-id:date:from:to :cc:subject:date:message-id:reply-to; bh=ARBf5ZRPEtNVaROKw7vqvmblDr5cp5PseI8JdQXgNN8=; b=gjFyQu2qxiu49DIDQCjnktvR7dOIS6Ux+7Inr4an+SfianZ/3PlT+GKMrFIl29jbt4 CLnrA+/bvCJSfECJYvirVoxC0oUODqjm1nHDL9ai208o3DiTEI+bCzXXjuLR5CGaD/1W wM8IzHjxA7vcYEc1vb25SKFTJyzONX1/Awa+E= X-Google-DKIM-Signature: v=1; a=rsa-sha256; c=relaxed/relaxed; d=1e100.net; s=20230601; t=1734690320; x=1735295120; h=references:in-reply-to:cc:to:from:subject:message-id:date :x-gm-message-state:from:to:cc:subject:date:message-id:reply-to; bh=ARBf5ZRPEtNVaROKw7vqvmblDr5cp5PseI8JdQXgNN8=; b=NYA4q24+13dshitlfKOzYAWsCI+k7Op3w9DJ+hIh2CaZxxdKehyg4aEjiuldP2TM5S Iv8o5615nLlCn1NVG+ZSlWagzks3AwDy+AH4wg+kUQ+CmdWvO94hZJVMtif1apxeEdWn vq0dxi7vzqs8Q+OffFPCbF6ApXD8DUQDGh6z0BFPgN/VPm0fbK+LEFepuPl+WQWMXD1Q NHvGSWtET/toZPjOjRWz60Y+a8YhEbzXz5UgwxDUY/rSju7Vlo6D25uT9t7ejB2pT9Zi mzYpYvjbFQqLLT1/xY5xXJUvtxXVIXQivYaJMkBudXisroimd0/IMOxerRYRgBFtbEUp s51A== X-Gm-Message-State: AOJu0Ywp+FHTaM7cPe7mrN3dQFPttuW2BsXpoFMAglVUT2GS0ERQgrzB zpFMZBxQTUmqitJ2vFLKKalaRkwpbKTL+0KSOAJypJyImin5t9DIOtDqYyj5SQaIy1t1KN8eTzo DV3mPpGhlSadOsjp3nP8UbcBLO3ejoWlphU6k+aYda9El7YVuHH8sSqd3 X-Gm-Gg: ASbGnctpKKd9et0YN5Ng4oqYto+neWDq/XnXpqmK3N8H1rWb5k00mh5sLkxUA3rYucD m0ZEG7QH5x64TZSZ3/lPmBcIrWo7L8jNuWq3Zy77J4r0IKaCecv6SFJVukJ6Tfdx/BvnwlHvOO9 ABW5SfYZwd3ABcS2TF25Z9Tbg7fG6loH08VytO0TI5HqihoMPIhUNHzlGLlI1mvrfetxh/FCrr/ ljL0XgbScma/SU3vD+SoZL3ddLYY84phu+pX3IPHVu9Y/tziVY1s3ZKW7NsjeGRjUxWH9t6tlip sk7GgQ== X-Google-Smtp-Source: AGHT+IGbfL8Vbwc5RiqcdrGK0Bx4o8hD88IgfYlTKBZBQzQSNntgSn8WrTE+SuKkmTdlbIYWyyUb/X59FCwu X-Received: by 2002:a05:690c:4807:b0:6f3:e027:bea3 with SMTP id 00721157ae682-6f3f811ace7mr16041797b3.17.1734690320563; Fri, 20 Dec 2024 02:25:20 -0800 (PST) Received: from postal.iol.unh.edu (postal.iol.unh.edu. [2606:4100:3880:1234::84]) by smtp-relay.gmail.com with ESMTPS id 00721157ae682-6f3e73caecesm1244027b3.7.2024.12.20.02.25.20 (version=TLS1_2 cipher=ECDHE-ECDSA-AES128-GCM-SHA256 bits=128/128); Fri, 20 Dec 2024 02:25:20 -0800 (PST) X-Relaying-Domain: iol.unh.edu Date: Fri, 20 Dec 2024 02:25:20 -0800 (PST) Message-ID: <67654610.050a0220.313c65.91dfSMTPIN_ADDED_MISSING@mx.google.com> Received: from [172.17.0.4] (unknown [172.18.0.217]) by postal.iol.unh.edu (Postfix) with ESMTP id 36C9B6052471; Fri, 20 Dec 2024 05:25:20 -0500 (EST) Subject: |SUCCESS| pw149329 [PATCH] net/bonding: check return value when enab From: dpdklab@iol.unh.edu To: Test Report Cc: dpdk-test-reports@iol.unh.edu In-Reply-To: <20241220070811.40124-1-sunyang.wu@jaguarmicro.com> References: <20241220070811.40124-1-sunyang.wu@jaguarmicro.com> Content-Type: text/plain X-BeenThere: test-report@dpdk.org X-Mailman-Version: 2.1.29 Precedence: list List-Id: automatic DPDK test reports List-Unsubscribe: , List-Archive: List-Post: List-Help: List-Subscribe: , Errors-To: test-report-bounces@dpdk.org Test-Label: iol-unit-arm64-testing Test-Status: SUCCESS http://dpdk.org/patch/149329 _Testing PASS_ Submitter: Sunyang Wu Date: Friday, December 20 2024 07:08:11 DPDK git baseline: Repo:dpdk Branch: master CommitID:94ad302b4ebba4a5b6706a1c43ea0505e5098169 149329 --> testing pass Upstream job id: Aarch32-Unit-Test#4714 Test environment and result as below: +-----------------------------+---------------------------+--------------+------------------------------+----------------+ | Environment | cryptodev_sw_zuc_autotest | lpm_autotest | cryptodev_sw_snow3g_autotest | dpdk_unit_test | +=============================+===========================+==============+==============================+================+ | Debian 12 (arm) | PASS | SKIPPED | PASS | SKIPPED | +-----------------------------+---------------------------+--------------+------------------------------+----------------+ | Ubuntu 20.04 ARM SVE | SKIPPED | PASS | SKIPPED | SKIPPED | +-----------------------------+---------------------------+--------------+------------------------------+----------------+ | 32-bit Ubuntu 22.04.4 (ARM) | SKIPPED | SKIPPED | SKIPPED | PASS | +-----------------------------+---------------------------+--------------+------------------------------+----------------+ Debian 12 (arm) Kernel: Depends on container host Compiler: gcc (Debian 12.2.0-14) 12.2.0 Ubuntu 20.04 ARM SVE Kernel: Depends on container host Compiler: gcc (Ubuntu 10.5.0-1ubuntu1~20.04) 10.5.0 32-bit Ubuntu 22.04.4 (ARM) Kernel: 5.15.83+ aarch64 Compiler: gcc (Ubuntu 11.4.0-1ubuntu1~22.04) 11.4.0 To view detailed results, visit: https://lab.dpdk.org/results/dashboard/patchsets/32180/ UNH-IOL DPDK Community Lab To manage your email subscriptions, visit: https://lab.dpdk.org/results/dashboard/preferences/subscriptions/