From mboxrd@z Thu Jan  1 00:00:00 1970
Return-Path: <test-report-bounces@dpdk.org>
Received: from mails.dpdk.org (mails.dpdk.org [217.70.189.124])
	by inbox.dpdk.org (Postfix) with ESMTP id E927C45EFD
	for <public@inbox.dpdk.org>; Fri, 20 Dec 2024 20:50:35 +0100 (CET)
Received: from mails.dpdk.org (localhost [127.0.0.1])
	by mails.dpdk.org (Postfix) with ESMTP id CAFB840156;
	Fri, 20 Dec 2024 20:50:35 +0100 (CET)
Received: from mail-io1-f98.google.com (mail-io1-f98.google.com
 [209.85.166.98]) by mails.dpdk.org (Postfix) with ESMTP id 763994003C
 for <test-report@dpdk.org>; Fri, 20 Dec 2024 20:50:34 +0100 (CET)
Received: by mail-io1-f98.google.com with SMTP id
 ca18e2360f4ac-844d555491eso78828839f.0
 for <test-report@dpdk.org>; Fri, 20 Dec 2024 11:50:34 -0800 (PST)
DKIM-Signature: v=1; a=rsa-sha256; c=relaxed/relaxed;
 d=iol.unh.edu; s=unh-iol; t=1734724234; x=1735329034; darn=dpdk.org;
 h=references:in-reply-to:cc:to:from:subject:message-id:date:from:to
 :cc:subject:date:message-id:reply-to;
 bh=v2lV/z9M5WMCx2O6tJSfO0DGrGWwsWP4wC5TB1BvV1A=;
 b=Rc0GgQ1oMbVIkaOa0f5pZYbnoYrEmkgkbf/j5tww3/2j6L9dSNP95qrmXrbUse+4Ou
 FA/Ka5nAt5HuhBoSObH/sZCg8MS3Jidkj/O7FlXqytHoi9JU8l4RIiU9beL2anZZ7PvH
 7LnEFDIh13ieHYd1sdB9zaL+ZpS+p+WFEUIEA=
X-Google-DKIM-Signature: v=1; a=rsa-sha256; c=relaxed/relaxed;
 d=1e100.net; s=20230601; t=1734724234; x=1735329034;
 h=references:in-reply-to:cc:to:from:subject:message-id:date
 :x-gm-message-state:from:to:cc:subject:date:message-id:reply-to;
 bh=v2lV/z9M5WMCx2O6tJSfO0DGrGWwsWP4wC5TB1BvV1A=;
 b=dZYbARinFuaVxsvWZ8OnkxkpQ9ixt7cY9bY1oYTZZ7tO68qC1tWnM2wMKwWrgybbky
 aF6NiJIyF6lVMrG+nZh+znX7zC1bUnX3X9xRrs2DDH/ea6DLx22lcbgM9HtkXeI48LX6
 Jm5n3Fw2ByTfcoVJohWxmj20IvV0w66nnoN0/7U4Db+ncBS0QeGOPDrIaMo/v/BYV+wU
 XkSAmJmP2Rz4DjSzxz98cd5ndayK7C9nMpOALkf34JFkhbTYEeBDdEkKQ4/Ia0mE53g9
 oXbwDgz3RPZcfRCqyn8CauAawzHdHLcQ7FTWQ/5Mbv1xth6IhyV/iNHIHOVkW6BjER7q
 /V4Q==
X-Gm-Message-State: AOJu0Ywc2+yRwqZJk8wsUYw+H2EiQSu1/AkIZHEd/uZ1s2EmlUt8Hi1B
 bcSG0fvmqxXkoy9ZNOG2smIsinZdxYrL+Ih/lOG6v7CQc6AtCNLk8+qr8Z0bMfLq5KGcaby198w
 jO7if5AENGNj6X+OX5QHSjtZX8TMNlqIs9kfjTpHK
X-Gm-Gg: ASbGncsaRi6kwiVW66BvIasCtjsnRkG8GxYzxsqgcwV9RHKxvrCUufFzbGKy/x6oVWQ
 +zPhj4gVaEoUjfDJ2PECoZQPT2v9HfkaggsH7QdLXbHY9fNbN6wYx5nYD168rLtP7AR6dkJRne4
 lhct9sWPgzjk6+6dylN18leT0dtgh0JeDc1SVPHjPlb6fYpZRFuwz1bVtp1s1vinQQDQbh631Lz
 f0rZurY+aT1nRDzhe35IIv2na3uAzcg1//iswHdekH087EL3BSRRtmOW67gJ0dAB8V4BbjFD4Ai
 CQ==
X-Google-Smtp-Source: AGHT+IEVi+3ZDG4xteaVNSTnIEqSuHfmd5eo3bbuehqIfJiA1KZdtvcj6QZrIuC2nI4ntBNLXTviao9A8sv1
X-Received: by 2002:a05:6e02:3201:b0:3a7:be5e:e22d with SMTP id
 e9e14a558f8ab-3c2d1aa3e86mr39365175ab.2.1734724233820; 
 Fri, 20 Dec 2024 11:50:33 -0800 (PST)
Received: from postal.iol.unh.edu (postal.iol.unh.edu. [132.177.123.84])
 by smtp-relay.gmail.com with ESMTPS id
 e9e14a558f8ab-3c0de3359ccsm2230575ab.5.2024.12.20.11.50.33
 (version=TLS1_2 cipher=ECDHE-ECDSA-AES128-GCM-SHA256 bits=128/128);
 Fri, 20 Dec 2024 11:50:33 -0800 (PST)
X-Relaying-Domain: iol.unh.edu
Date: Fri, 20 Dec 2024 11:50:33 -0800 (PST)
Message-ID: <6765ca89.050a0220.56a2e.0ad3SMTPIN_ADDED_MISSING@mx.google.com>
Received: from [172.17.0.3] (unknown [172.18.0.217])
 by postal.iol.unh.edu (Postfix) with ESMTP id 16D7D6052471;
 Fri, 20 Dec 2024 14:50:33 -0500 (EST)
Subject: |SUCCESS| pw149331-149354 [PATCH] [v4,24/24] net/_common_intel: extr
From: dpdklab@iol.unh.edu
To: Test Report <test-report@dpdk.org>
Cc: dpdk-test-reports@iol.unh.edu
In-Reply-To: <20241220143925.609044-25-bruce.richardson@intel.com>
References: <20241220143925.609044-25-bruce.richardson@intel.com>
Content-Type: text/plain
X-BeenThere: test-report@dpdk.org
X-Mailman-Version: 2.1.29
Precedence: list
List-Id: automatic DPDK test reports <test-report.dpdk.org>
List-Unsubscribe: <https://mails.dpdk.org/options/test-report>,
 <mailto:test-report-request@dpdk.org?subject=unsubscribe>
List-Archive: <http://mails.dpdk.org/archives/test-report/>
List-Post: <mailto:test-report@dpdk.org>
List-Help: <mailto:test-report-request@dpdk.org?subject=help>
List-Subscribe: <https://mails.dpdk.org/listinfo/test-report>,
 <mailto:test-report-request@dpdk.org?subject=subscribe>
Errors-To: test-report-bounces@dpdk.org

Test-Label: iol-sample-apps-testing
Test-Status: SUCCESS
http://dpdk.org/patch/149354

_Testing PASS_

Submitter: Bruce Richardson <bruce.richardson@intel.com>
Date: Friday, December 20 2024 14:39:21 
DPDK git baseline: Repo:dpdk
  Branch: master
  CommitID:07604f264417959d76aa9fcb8cb0c3665f62f0d3

149331-149354 --> testing pass

Upstream job id: ACVP-FIPS-testing#8357

Test environment and result as below:

+--------------------+----------------------+----------------------+
|    Environment     | compressdev_zlib_pmd | dpdk_fips_validation |
+====================+======================+======================+
| Ubuntu 22.04 (ARM) | PASS                 | SKIPPED              |
+--------------------+----------------------+----------------------+
| Ubuntu 22.04       | PASS                 | SKIPPED              |
+--------------------+----------------------+----------------------+
| Ubuntu 20.04       | SKIPPED              | PASS                 |
+--------------------+----------------------+----------------------+


Ubuntu 22.04 (ARM)
	Kernel: 5.15.0-97-generic
	Compiler: gcc gcc (Ubuntu 11.4.0-1ubuntu1~22.04) 11.4.0

Ubuntu 22.04
	Kernel: 5.15.0-100-generic
	Compiler: gcc gcc (Ubuntu 11.4.0-1ubuntu1~22.04) 11.4.0

Ubuntu 20.04
	Kernel: Depends on container host
	Compiler: gcc (Ubuntu 9.4.0-1ubuntu1~20.04.2) 9.4.0

To view detailed results, visit:
https://lab.dpdk.org/results/dashboard/patchsets/32182/

UNH-IOL DPDK Community Lab

To manage your email subscriptions, visit: 
https://lab.dpdk.org/results/dashboard/preferences/subscriptions/