From mboxrd@z Thu Jan  1 00:00:00 1970
Return-Path: <test-report-bounces@dpdk.org>
Received: from mails.dpdk.org (mails.dpdk.org [217.70.189.124])
	by inbox.dpdk.org (Postfix) with ESMTP id 6EB0145F14
	for <public@inbox.dpdk.org>; Sun, 22 Dec 2024 15:19:53 +0100 (CET)
Received: from mails.dpdk.org (localhost [127.0.0.1])
	by mails.dpdk.org (Postfix) with ESMTP id 2F7DA40263;
	Sun, 22 Dec 2024 15:19:53 +0100 (CET)
Received: from mail-pl1-f228.google.com (mail-pl1-f228.google.com
 [209.85.214.228])
 by mails.dpdk.org (Postfix) with ESMTP id A31E140156
 for <test-report@dpdk.org>; Sun, 22 Dec 2024 15:19:51 +0100 (CET)
Received: by mail-pl1-f228.google.com with SMTP id
 d9443c01a7336-21683192bf9so34724505ad.3
 for <test-report@dpdk.org>; Sun, 22 Dec 2024 06:19:51 -0800 (PST)
DKIM-Signature: v=1; a=rsa-sha256; c=relaxed/relaxed;
 d=iol.unh.edu; s=unh-iol; t=1734877191; x=1735481991; darn=dpdk.org;
 h=references:in-reply-to:cc:to:from:subject:message-id:date:from:to
 :cc:subject:date:message-id:reply-to;
 bh=Zq4edV7g7uZ/H43YQ84G7YsiHJ4NPdyslrJPps1uQd0=;
 b=KYEbgi/Ich7XxMKWks+3asCdPjM/32Qvv/8tt/8EGmbS2fugKLEnN8PUFXXaO84EwN
 PJHUyjj6IVsj74mglk5vRNOeOnLZIZEeb/Sgo3gUZdwcOPsyHe/IrFyNyPmTng29yaiA
 m7ivietk1ZwU5bydutWAUQytIzUv6nlgtv+3Q=
X-Google-DKIM-Signature: v=1; a=rsa-sha256; c=relaxed/relaxed;
 d=1e100.net; s=20230601; t=1734877191; x=1735481991;
 h=references:in-reply-to:cc:to:from:subject:message-id:date
 :x-gm-message-state:from:to:cc:subject:date:message-id:reply-to;
 bh=Zq4edV7g7uZ/H43YQ84G7YsiHJ4NPdyslrJPps1uQd0=;
 b=TfEOCorFbm+CvDQjhQan2vENkKIs4crN8VHqFv8LA9R8heCholHZtBNtQ85Ohge0je
 RC89TkX/eRp+ucb6sCyhVYEXzj5Oh4I2ojqm9ix/t3c/guVINEEokkOjVQKDRaqB1vab
 uwwDQZje64iQXIrYaEN6V7upAyb/hSeXcQwMf6Bh6MnlMi33OpAk4cl4bhAADK05mG9Q
 qJ357+nwj1dAGDZL/PoOfzUQneoeP+N1ohPCBB5bEE/BeSJGljn4FhIXs5UctJnCfGIn
 YHDPqd52EdHFrlhqQmzkblS/viEFG6zbau0uWSFR5g3G+8imQXRISf5WKF/98Vn4u2vI
 RiSg==
X-Gm-Message-State: AOJu0YxpkKYkizZH7rEHFLh1xOWyYS/KEcFVoBHTX7wmOU4gBj53ULs8
 E4zAFsb/+ES63yM/QQyAmGMiRZv9S/svaxGuUeYKzz9sIN/LCaUXa2IpLlPm2u8B/U8Gob/WB+p
 MW1OFHb9McmwJ93RXMExIwEwUzb63bWdeE9crPgdVOxd4CvMkEedb0Lyy
X-Gm-Gg: ASbGncuIuYPVsAeQNANNCKPqt+LmbkOee+6oRXdSHQC3y1yQVt2VhQd7rOMyP8zV9IA
 faqZQeNeDHzgnDn1Q+yhLCEcx9z0IVNfYY+7OwgAdm8wuf6/Cv1nfWLcsRq/z8MZ/h4r7TNw1ks
 3YQlsARBiBaSJ9OKZ7yQM/dm1NFsd/uCzpnBkTQHbFxbdhr288IG/yBln/Drk00cfvtEH2RP+PN
 GRWdEt18dtuHshvhRxZTR1EgYsrh4WRJq2x7OiB0lU6kLsmZ9FXRgwnrzh6SoexhCVDHh9k7V4a
 vwaJtA==
X-Google-Smtp-Source: AGHT+IHIiJveyPTuzTlvo3ZyDHdiz28XIFRJ3+MTQLvKaNiccHNlvBf2hUwoKZw9cXKrRZ8dBCGx82KpzsGy
X-Received: by 2002:a17:902:e80b:b0:215:7cd0:758d with SMTP id
 d9443c01a7336-219e70bf2femr144650325ad.36.1734877190586; 
 Sun, 22 Dec 2024 06:19:50 -0800 (PST)
Received: from postal.iol.unh.edu (postal.iol.unh.edu.
 [2606:4100:3880:1234::84]) by smtp-relay.gmail.com with ESMTPS id
 d9443c01a7336-219dc98960csm3054535ad.8.2024.12.22.06.19.50
 (version=TLS1_2 cipher=ECDHE-ECDSA-AES128-GCM-SHA256 bits=128/128);
 Sun, 22 Dec 2024 06:19:50 -0800 (PST)
X-Relaying-Domain: iol.unh.edu
Date: Sun, 22 Dec 2024 06:19:50 -0800 (PST)
Message-ID: <67682006.170a0220.86d43.82e7SMTPIN_ADDED_MISSING@mx.google.com>
Received: from [172.17.0.3] (unknown [172.18.0.217])
 by postal.iol.unh.edu (Postfix) with ESMTP id F38566052471;
 Sun, 22 Dec 2024 09:19:49 -0500 (EST)
Subject: |SUCCESS| pw149370-149380 [PATCH] [v4,11/11] {common,net}/cnxk: remo
From: dpdklab@iol.unh.edu
To: Test Report <test-report@dpdk.org>
Cc: dpdk-test-reports@iol.unh.edu
In-Reply-To: <20241222125725.1532157-12-otilibil@eurecom.fr>
References: <20241222125725.1532157-12-otilibil@eurecom.fr>
Content-Type: text/plain
X-BeenThere: test-report@dpdk.org
X-Mailman-Version: 2.1.29
Precedence: list
List-Id: automatic DPDK test reports <test-report.dpdk.org>
List-Unsubscribe: <https://mails.dpdk.org/options/test-report>,
 <mailto:test-report-request@dpdk.org?subject=unsubscribe>
List-Archive: <http://mails.dpdk.org/archives/test-report/>
List-Post: <mailto:test-report@dpdk.org>
List-Help: <mailto:test-report-request@dpdk.org?subject=help>
List-Subscribe: <https://mails.dpdk.org/listinfo/test-report>,
 <mailto:test-report-request@dpdk.org?subject=subscribe>
Errors-To: test-report-bounces@dpdk.org

Test-Label: iol-sample-apps-testing
Test-Status: SUCCESS
http://dpdk.org/patch/149380

_Testing PASS_

Submitter: Ariel Otilibili <otilibil@eurecom.fr>
Date: Sunday, December 22 2024 12:49:31 
DPDK git baseline: Repo:dpdk
  Branch: master
  CommitID:07604f264417959d76aa9fcb8cb0c3665f62f0d3

149370-149380 --> testing pass

Upstream job id: ACVP-FIPS-testing#8365

Test environment and result as below:

+--------------------+----------------------+----------------------+
|    Environment     | dpdk_fips_validation | compressdev_zlib_pmd |
+====================+======================+======================+
| Ubuntu 20.04       | PASS                 | SKIPPED              |
+--------------------+----------------------+----------------------+
| Ubuntu 22.04 (ARM) | SKIPPED              | PASS                 |
+--------------------+----------------------+----------------------+
| Ubuntu 22.04       | SKIPPED              | PASS                 |
+--------------------+----------------------+----------------------+


Ubuntu 20.04
	Kernel: Depends on container host
	Compiler: gcc (Ubuntu 9.4.0-1ubuntu1~20.04.2) 9.4.0

Ubuntu 22.04 (ARM)
	Kernel: 5.15.0-97-generic
	Compiler: gcc gcc (Ubuntu 11.4.0-1ubuntu1~22.04) 11.4.0

Ubuntu 22.04
	Kernel: 5.15.0-100-generic
	Compiler: gcc gcc (Ubuntu 11.4.0-1ubuntu1~22.04) 11.4.0

To view detailed results, visit:
https://lab.dpdk.org/results/dashboard/patchsets/32188/

UNH-IOL DPDK Community Lab

To manage your email subscriptions, visit: 
https://lab.dpdk.org/results/dashboard/preferences/subscriptions/