From mboxrd@z Thu Jan  1 00:00:00 1970
Return-Path: <test-report-bounces@dpdk.org>
Received: from mails.dpdk.org (mails.dpdk.org [217.70.189.124])
	by inbox.dpdk.org (Postfix) with ESMTP id 3C21A45F20
	for <public@inbox.dpdk.org>; Mon, 23 Dec 2024 12:28:32 +0100 (CET)
Received: from mails.dpdk.org (localhost [127.0.0.1])
	by mails.dpdk.org (Postfix) with ESMTP id 0ECC740DD0;
	Mon, 23 Dec 2024 12:28:32 +0100 (CET)
Received: from mail-pl1-f227.google.com (mail-pl1-f227.google.com
 [209.85.214.227])
 by mails.dpdk.org (Postfix) with ESMTP id 9C350406BC
 for <test-report@dpdk.org>; Mon, 23 Dec 2024 12:28:31 +0100 (CET)
Received: by mail-pl1-f227.google.com with SMTP id
 d9443c01a7336-21670dce0a7so47252295ad.1
 for <test-report@dpdk.org>; Mon, 23 Dec 2024 03:28:31 -0800 (PST)
DKIM-Signature: v=1; a=rsa-sha256; c=relaxed/relaxed;
 d=iol.unh.edu; s=unh-iol; t=1734953311; x=1735558111; darn=dpdk.org;
 h=references:in-reply-to:cc:to:from:subject:message-id:date:from:to
 :cc:subject:date:message-id:reply-to;
 bh=uCH2LhLr9QYcOro6gUiRZDERJMFmHSmFBXHEKI/Z2/w=;
 b=HqJH9kRU3TpKc2/jMjapC2m0kinsXujxdYtEiwmjMz8jHESo2OP/KEBHTx0vT3eB+v
 lB+R7Xhinr8WnZyk2YyGjZQL1oYW+3273+pFqXBkHUFMoY0qq/3Z1/a4hxg9eX3i7ygc
 8Q0jSNfHnSiCSsHIodLVdOhr+jPexfboH3VRw=
X-Google-DKIM-Signature: v=1; a=rsa-sha256; c=relaxed/relaxed;
 d=1e100.net; s=20230601; t=1734953311; x=1735558111;
 h=references:in-reply-to:cc:to:from:subject:message-id:date
 :x-gm-message-state:from:to:cc:subject:date:message-id:reply-to;
 bh=uCH2LhLr9QYcOro6gUiRZDERJMFmHSmFBXHEKI/Z2/w=;
 b=RtMtUnOQyJBYUWwbV6pMoG4/UXHTmo/reP34CGUEs1tvTe3spQOlpFvl6NmMAtjt47
 bZNy6+kQ1Vjf2YwylaAUCACHKbe6KSEwUKYvt/Fx83S9m1vN8w16QJZEjF5eZpLvCfmD
 teBz2PQTuZn90EyqTPOx8215h2dM88KsCUpMNjVGvUZ/c7ZGQ1D+qpSZukBgTNeGujqb
 ZLBODg9ONAACza467y6ed/sA4Rtr+2Jsj9Z8JOF+kGpcGVApDEKTxm3R2jtq8Bp5aT7+
 1y0nm/fd7EZRbFlbkquQlJe3KrWLH4qgRRZJlk7Zoc347JLw24McDc+R3I3CvUrG8AAq
 V1ZQ==
X-Gm-Message-State: AOJu0YwBLWqw6/+73RHUdOQLS9biBY8r4RQeFR3+iE10Gqwr62CCSdOq
 DnOSDYvLYlg8skbRxhgVDhswU/0l0WF59XyK1QGaq8a5j4AscygNqkNuAzkjThfccJrFjX9iB8H
 2FtBd+zqbEa+kWmD5INlkqVMAyykfX2jf43SBa1JqAf3wa15bRO8bP/3y
X-Gm-Gg: ASbGnct13Y17FGR+vI9sIqefj95f/L9PidFZAvKyufTtDJY78UJD2NMbkpi5YQ0SfnO
 79cbhm3vNRmdkJWQzCfBMWtyekmUkhqNwbVOQvPNPW0avCnvBW1xhPuBJMDO7UZ6VG6mpXKzAO/
 wMDFCKSmUEaIBLRvkNYXmLLIP4kYZWzqz610LIA/AXXtReQkXRom/1ZOEhnz3oUaQmaJpqunsPL
 W8RBxJanbsyV6GcZWF23SpMjWW8NzRlWHxkEHPRSBrU8fj81NriOHnRYFoKlI0PVrbNieWnY2Jx
 lxye6Q==
X-Google-Smtp-Source: AGHT+IH/br8bOUBYE9ai8TjSKape/V/LXd8CkrXB1T7uJcKiFf8+FQghTAzmZae2hT3qW4CHDcbRwaxEeG7o
X-Received: by 2002:a17:902:f681:b0:216:1357:8df8 with SMTP id
 d9443c01a7336-219e6f117femr133866675ad.43.1734953310803; 
 Mon, 23 Dec 2024 03:28:30 -0800 (PST)
Received: from postal.iol.unh.edu (postal.iol.unh.edu.
 [2606:4100:3880:1234::84]) by smtp-relay.gmail.com with ESMTPS id
 d9443c01a7336-219dca1a6a3sm3561825ad.98.2024.12.23.03.28.30
 (version=TLS1_2 cipher=ECDHE-ECDSA-AES128-GCM-SHA256 bits=128/128);
 Mon, 23 Dec 2024 03:28:30 -0800 (PST)
X-Relaying-Domain: iol.unh.edu
Date: Mon, 23 Dec 2024 03:28:30 -0800 (PST)
Message-ID: <6769495e.170a0220.26a990.c1a0SMTPIN_ADDED_MISSING@mx.google.com>
Received: from [172.17.0.3] (unknown [172.18.0.217])
 by postal.iol.unh.edu (Postfix) with ESMTP id 415126052471;
 Mon, 23 Dec 2024 06:28:30 -0500 (EST)
Subject: |SUCCESS| pw149386-149391 [PATCH] [7/7] mlx5: add backward compatibi
From: dpdklab@iol.unh.edu
To: Test Report <test-report@dpdk.org>
Cc: dpdk-test-reports@iol.unh.edu
In-Reply-To: <20241223101101.677449-8-gavinl@nvidia.com>
References: <20241223101101.677449-8-gavinl@nvidia.com>
Content-Type: text/plain
X-BeenThere: test-report@dpdk.org
X-Mailman-Version: 2.1.29
Precedence: list
List-Id: automatic DPDK test reports <test-report.dpdk.org>
List-Unsubscribe: <https://mails.dpdk.org/options/test-report>,
 <mailto:test-report-request@dpdk.org?subject=unsubscribe>
List-Archive: <http://mails.dpdk.org/archives/test-report/>
List-Post: <mailto:test-report@dpdk.org>
List-Help: <mailto:test-report-request@dpdk.org?subject=help>
List-Subscribe: <https://mails.dpdk.org/listinfo/test-report>,
 <mailto:test-report-request@dpdk.org?subject=subscribe>
Errors-To: test-report-bounces@dpdk.org

Test-Label: iol-unit-amd64-testing
Test-Status: SUCCESS
http://dpdk.org/patch/149391

_Testing PASS_

Submitter: Minggang Li(Gavin) <gavinl@nvidia.com>
Date: Monday, December 23 2024 10:11:01 
DPDK git baseline: Repo:dpdk
  Branch: master
  CommitID:1b3bf1128d9bda5595861814792f74b8f57160c8

149386-149391 --> testing pass

Upstream job id: Generic-Unit-Test-DPDK#301318

Test environment and result as below:

+---------------------+----------------+
|     Environment     | dpdk_unit_test |
+=====================+================+
| CentOS Stream 9     | PASS           |
+---------------------+----------------+
| Fedora 39 (Clang)   | PASS           |
+---------------------+----------------+
| Debian 12           | PASS           |
+---------------------+----------------+
| Debian Bullseye     | PASS           |
+---------------------+----------------+
| Fedora 39           | PASS           |
+---------------------+----------------+
| Fedora 40           | PASS           |
+---------------------+----------------+
| Fedora 40 (Clang)   | PASS           |
+---------------------+----------------+
| RHEL8               | PASS           |
+---------------------+----------------+
| RHEL9               | PASS           |
+---------------------+----------------+
| Ubuntu 22.04        | PASS           |
+---------------------+----------------+
| Ubuntu 24.04        | PASS           |
+---------------------+----------------+
| Ubuntu 20.04        | PASS           |
+---------------------+----------------+
| Windows Server 2022 | PASS           |
+---------------------+----------------+


CentOS Stream 9
	Kernel: Depends on container host
	Compiler: gcc 11.4.1 20231218 (Red Hat 11.4.1-3)

Fedora 39 (Clang)
	Kernel: Depends on container host
	Compiler: clang 17.0.6 (Fedora 17.0.6-2.fc39)

Debian 12
	Kernel: Depends on container host
	Compiler: gcc (Debian 12.2.0-14) 12.2.0

Debian Bullseye
	Kernel: Depends on container host
	Compiler: gcc (Debian 10.2.1-6) 10.2.1 20210110

Fedora 39
	Kernel: Depends on container host
	Compiler: gcc 13.3.1 20240522 (Red Hat 13.3.1-1)

Fedora 40
	Kernel: Depends on container host
	Compiler: gcc 14.2.1 20240801 (Red Hat 14.2.1-1)

Fedora 40 (Clang)
	Kernel: Depends on container host
	Compiler: clang 18.1.6 (Fedora 18.1.6-3.fc40)

RHEL8
	Kernel: Depends on container host
	Compiler: gcc 8.5.0 20210514 (Red Hat 8.5.0-22)

RHEL9
	Kernel: Depends on container host
	Compiler: gcc 11.4.1 20231218 (Red Hat 11.4.1-3)

Ubuntu 22.04
	Kernel: Depends on container host
	Compiler: gcc (Ubuntu 11.4.0-1ubuntu1~22.04) 11.4.0

Ubuntu 24.04
	Kernel: Depends on container host
	Compiler: gcc (Ubuntu 13.2.0-23ubuntu4) 13.2.0

Ubuntu 20.04
	Kernel: Depends on container host
	Compiler: gcc (Ubuntu 9.4.0-1ubuntu1~20.04.2) 9.4.0

Windows Server 2022
	Kernel: 10.0.20348.2031
	Compiler: clang 15.0.7, gcc 14.1.0 (MinGW), and MSVC VS 19.39.33521

To view detailed results, visit:
https://lab.dpdk.org/results/dashboard/patchsets/32194/

UNH-IOL DPDK Community Lab

To manage your email subscriptions, visit: 
https://lab.dpdk.org/results/dashboard/preferences/subscriptions/