From mboxrd@z Thu Jan  1 00:00:00 1970
Return-Path: <test-report-bounces@dpdk.org>
Received: from mails.dpdk.org (mails.dpdk.org [217.70.189.124])
	by inbox.dpdk.org (Postfix) with ESMTP id 7437245F23
	for <public@inbox.dpdk.org>; Mon, 23 Dec 2024 16:31:45 +0100 (CET)
Received: from mails.dpdk.org (localhost [127.0.0.1])
	by mails.dpdk.org (Postfix) with ESMTP id 6C9A54026C;
	Mon, 23 Dec 2024 16:31:45 +0100 (CET)
Received: from mail-pf1-f227.google.com (mail-pf1-f227.google.com
 [209.85.210.227])
 by mails.dpdk.org (Postfix) with ESMTP id A427740263
 for <test-report@dpdk.org>; Mon, 23 Dec 2024 16:31:44 +0100 (CET)
Received: by mail-pf1-f227.google.com with SMTP id
 d2e1a72fcca58-725f3594965so3620747b3a.3
 for <test-report@dpdk.org>; Mon, 23 Dec 2024 07:31:44 -0800 (PST)
DKIM-Signature: v=1; a=rsa-sha256; c=relaxed/relaxed;
 d=iol.unh.edu; s=unh-iol; t=1734967903; x=1735572703; darn=dpdk.org;
 h=references:in-reply-to:cc:to:from:subject:message-id:date:from:to
 :cc:subject:date:message-id:reply-to;
 bh=ArXrYPK/wSngx0Y4Ul3G9fS0K0UWkY+d189hS7JhubA=;
 b=LnvvGm5R8OJbxTlbWzBCxy7Jiu1tpSaMhNqiW8Xn9kPRWE0yTg15mAY5nBPVwq3Tom
 5FKq/+zdOkbm9KZjSxbPDJO+mdhD31yVq9cqO4n8v9KwdHKkCy96LvrDhZWArtdB5ZOd
 4OEEwR0CO3kN72uwWUkRemZMB3rzURSh7jPBU=
X-Google-DKIM-Signature: v=1; a=rsa-sha256; c=relaxed/relaxed;
 d=1e100.net; s=20230601; t=1734967903; x=1735572703;
 h=references:in-reply-to:cc:to:from:subject:message-id:date
 :x-gm-message-state:from:to:cc:subject:date:message-id:reply-to;
 bh=ArXrYPK/wSngx0Y4Ul3G9fS0K0UWkY+d189hS7JhubA=;
 b=RtlsSNIEbEPaseVni/bG0LvT27/jMQAuc1sSNPxppJcsHSVLaatEFjla8gPh+WMWzg
 SXWXm+hmwUMEYqA0D96fIxRgtLKrPWHVGiO037QyHTSrF/iqQNNgBH8EVMxe8W2eToTT
 ITEFKUoM8PAYs8RY69k6BcTQXdk3acKmaa/IROGLucLScARjwTmnx/o1j/yeaY+7UHaa
 xdlR96XL2shBnrN71XNO177qkpfKvu3cuAmet3YHscfqH+jkFwNRO0ohNnm9S7ec2JNM
 2wCc1Q3ay2ViuJuHjuwaooA8CPuoq2SYdQf4X3D1u2STf/dPS8qSttaYiVsewOeXEsNw
 s0cQ==
X-Gm-Message-State: AOJu0YwuX6kKiGqzkXrwllnXaLToCWWUtDV9baZDFVdua20nMArRauAp
 DGQxLFjnBdNL0bk4hkYqMoYXs4kSoj7ozgQyWBH2s20RAOpFcO4bJG2jP47TeJR3MKvLpGvp5IT
 es9CS6aCKRsbXpHnSOItkn+cgTMvRzUr+pCJWX4lN
X-Gm-Gg: ASbGncuR2MAiN5LlxGa+cWOEnld4p2C9LEjtlji/lpF3H9zgq76yw7UE+bJvyX6LCSA
 U6DZPnY8AWTyWffPVntzxydzWI+syexhxmzJnJnFEx2SYbNS3d5bQyVghrNmTBT4USXqvgwQ96+
 ntyo2HQUQdKpsxit3u9sd90knbaAT9ARf/QNByBIYQtkJsSiVxftj9w+gJYbTRAAFtw9GYGhMqW
 O0kQSQMqZI0arCNwqZPgtpza02edm2xpFgnmUdMwVyEbFZctbxyIVyxOJm58SBxcnBOefJGqcRW
 HA==
X-Google-Smtp-Source: AGHT+IGAbKWtqXxHVxmAcT1kQz0JZTNJwngaDcG3AZULC1pWr5kUrmmGAefMjlyynhgWyX/jdxsVabWRbGjq
X-Received: by 2002:a17:90b:2d88:b0:2ea:7fd8:9dc1 with SMTP id
 98e67ed59e1d1-2f452e4c515mr18657743a91.18.1734967903552; 
 Mon, 23 Dec 2024 07:31:43 -0800 (PST)
Received: from postal.iol.unh.edu (postal.iol.unh.edu. [132.177.123.84])
 by smtp-relay.gmail.com with ESMTPS id
 d9443c01a7336-219dca2acd4sm3973025ad.108.2024.12.23.07.31.43
 (version=TLS1_2 cipher=ECDHE-ECDSA-AES128-GCM-SHA256 bits=128/128);
 Mon, 23 Dec 2024 07:31:43 -0800 (PST)
X-Relaying-Domain: iol.unh.edu
Date: Mon, 23 Dec 2024 07:31:43 -0800 (PST)
Message-ID: <6769825f.170a0220.9b22b.f748SMTPIN_ADDED_MISSING@mx.google.com>
Received: from [172.17.0.3] (unknown [172.18.0.217])
 by postal.iol.unh.edu (Postfix) with ESMTP id C72016052471;
 Mon, 23 Dec 2024 10:31:42 -0500 (EST)
Subject: |SUCCESS| pw149408 [PATCH] doc: add install_tag to meson
From: dpdklab@iol.unh.edu
To: Test Report <test-report@dpdk.org>
Cc: dpdk-test-reports@iol.unh.edu
In-Reply-To: <20241223132220.138227-1-luca.boccassi@gmail.com>
References: <20241223132220.138227-1-luca.boccassi@gmail.com>
Content-Type: text/plain
X-BeenThere: test-report@dpdk.org
X-Mailman-Version: 2.1.29
Precedence: list
List-Id: automatic DPDK test reports <test-report.dpdk.org>
List-Unsubscribe: <https://mails.dpdk.org/options/test-report>,
 <mailto:test-report-request@dpdk.org?subject=unsubscribe>
List-Archive: <http://mails.dpdk.org/archives/test-report/>
List-Post: <mailto:test-report@dpdk.org>
List-Help: <mailto:test-report-request@dpdk.org?subject=help>
List-Subscribe: <https://mails.dpdk.org/listinfo/test-report>,
 <mailto:test-report-request@dpdk.org?subject=subscribe>
Errors-To: test-report-bounces@dpdk.org

Test-Label: iol-sample-apps-testing
Test-Status: SUCCESS
http://dpdk.org/patch/149408

_Testing PASS_

Submitter: Luca Boccassi <luca.boccassi@gmail.com>
Date: Monday, December 23 2024 13:21:13 
DPDK git baseline: Repo:dpdk
  Branch: master
  CommitID:fd51012de5369679e807be1d6a81d63ef15015ce

149408 --> testing pass

Upstream job id: ACVP-FIPS-testing#8374

Test environment and result as below:

+--------------------+----------------------+----------------------+
|    Environment     | compressdev_zlib_pmd | dpdk_fips_validation |
+====================+======================+======================+
| Ubuntu 22.04 (ARM) | PASS                 | SKIPPED              |
+--------------------+----------------------+----------------------+
| Ubuntu 22.04       | PASS                 | SKIPPED              |
+--------------------+----------------------+----------------------+
| Ubuntu 20.04       | SKIPPED              | PASS                 |
+--------------------+----------------------+----------------------+


Ubuntu 22.04 (ARM)
	Kernel: 5.15.0-97-generic
	Compiler: gcc gcc (Ubuntu 11.4.0-1ubuntu1~22.04) 11.4.0

Ubuntu 22.04
	Kernel: 5.15.0-100-generic
	Compiler: gcc gcc (Ubuntu 11.4.0-1ubuntu1~22.04) 11.4.0

Ubuntu 20.04
	Kernel: Depends on container host
	Compiler: gcc (Ubuntu 9.4.0-1ubuntu1~20.04.2) 9.4.0

To view detailed results, visit:
https://lab.dpdk.org/results/dashboard/patchsets/32196/

UNH-IOL DPDK Community Lab

To manage your email subscriptions, visit: 
https://lab.dpdk.org/results/dashboard/preferences/subscriptions/