From mboxrd@z Thu Jan 1 00:00:00 1970 Return-Path: Received: from mails.dpdk.org (mails.dpdk.org [217.70.189.124]) by inbox.dpdk.org (Postfix) with ESMTP id 75EF145F24 for ; Mon, 23 Dec 2024 18:12:56 +0100 (CET) Received: from mails.dpdk.org (localhost [127.0.0.1]) by mails.dpdk.org (Postfix) with ESMTP id 7075D4026C; Mon, 23 Dec 2024 18:12:56 +0100 (CET) Received: from mail-il1-f227.google.com (mail-il1-f227.google.com [209.85.166.227]) by mails.dpdk.org (Postfix) with ESMTP id C29B640263 for ; Mon, 23 Dec 2024 18:12:54 +0100 (CET) Received: by mail-il1-f227.google.com with SMTP id e9e14a558f8ab-3a9caa3726fso15008055ab.1 for ; Mon, 23 Dec 2024 09:12:54 -0800 (PST) DKIM-Signature: v=1; a=rsa-sha256; c=relaxed/relaxed; d=iol.unh.edu; s=unh-iol; t=1734973974; x=1735578774; darn=dpdk.org; h=references:in-reply-to:cc:to:from:subject:message-id:date:from:to :cc:subject:date:message-id:reply-to; bh=QKVRVuf0XKZn+pbmo1oS13EKac7n86GAp50cs33M8PM=; b=i7IeKpSsrPE6F4sZOQtVg2QlH0cE9bznhb6NjdFFUwHv3OEJoxaxDVI/cozWMFABk0 02D51hP66Ly+RT+dousS+fuILLj0UmFOirNkshTDXF6K+HSGu+/tx2YrTTySiw2rwaD9 RJS9zfaLmTreCKehgo+GqX4AQnqvG2XTDgq1A= X-Google-DKIM-Signature: v=1; a=rsa-sha256; c=relaxed/relaxed; d=1e100.net; s=20230601; t=1734973974; x=1735578774; h=references:in-reply-to:cc:to:from:subject:message-id:date :x-gm-message-state:from:to:cc:subject:date:message-id:reply-to; bh=QKVRVuf0XKZn+pbmo1oS13EKac7n86GAp50cs33M8PM=; b=VDnqwo5gTK36zD/xBIaNh5SgS06gCOraHFKUQT/ZTFhMbKXT5YOE6Yr7OZHh9+mvRC MKWhmMj5Fp5IxswNrclcyDuCPTUJGCaDUTg9jVLJ/WzlGzrGZQJYdH8M3zNHDy+IFxQb zCTr0FZtF771+jNhJhLt3YFSej8gHsuwSXKRUJTdFbm2PLXjS3yRPiN9rN5g7uAy+fdw lLmVcJg3YvFyljWWJfTbYFHkelRhGWr40T9wM3pzDsl68tjr/3NVWau0McanLFyscU9j CGWlvglefXPoqMTAki9revBBDg9RepjdOnY02OtK3RwOPHddhYHs8ASPASqC51U3qaOX xLRQ== X-Gm-Message-State: AOJu0YxwU/yh6txUtROwImJcMAGsHZzayxHm8hEZfGwbuXkLOThPWuAm 50vFEB11/26NBM7C4UtA1zKqj32MOiSUkz1dxrwxmEPAKWeBmj/5Ay2Yy9C7xEkR7AYMd42pSZS J4C3/TUqADhqSDqK0MdfBp5ddgvXQx1KaNK6Rj04E X-Gm-Gg: ASbGnctCLAhYr4VIYnTJXuoSES8XO1TkRW+h6oGqK10ZBJB1xE793lyvcA3mPYEFVI6 C0URMXRM1k7H4n6FSFsc2D6dAULw/9LVnfgxdnVIfrGuYIvkXjgFFteLCA0nYOZRtl6rs44wrkR mjTf/7+456HQTTDu5+bcop+VB1uikeRn0TJH25NN/l3+0IKf0y8lw/kT4qozRs+lVbraJw2Ms8q ZmV3f8q1zuybgzHOJ7fIwQ5IoqmLdzPN8uV5As8jyuy1xv1QNksIu94jnYK3lRsho7G36+vJZzz bw== X-Google-Smtp-Source: AGHT+IFd7FH7Hd5wm1za0nhq16Mi8Wx2VEWlJnb6irOz/hD+vaCkT4m9ba4WMd5lqGh2gpl4Vf0OGVKnXi62 X-Received: by 2002:a05:6e02:1e06:b0:3a7:cff5:16d6 with SMTP id e9e14a558f8ab-3c2fe4458fbmr102705925ab.3.1734973974045; Mon, 23 Dec 2024 09:12:54 -0800 (PST) Received: from postal.iol.unh.edu (postal.iol.unh.edu. [132.177.123.84]) by smtp-relay.gmail.com with ESMTPS id e9e14a558f8ab-3c0df383f55sm5243985ab.27.2024.12.23.09.12.53 (version=TLS1_2 cipher=ECDHE-ECDSA-AES128-GCM-SHA256 bits=128/128); Mon, 23 Dec 2024 09:12:54 -0800 (PST) X-Relaying-Domain: iol.unh.edu Date: Mon, 23 Dec 2024 09:12:54 -0800 (PST) Message-ID: <67699a16.050a0220.24cde9.c59eSMTPIN_ADDED_MISSING@mx.google.com> Received: from [172.17.0.3] (unknown [172.18.0.217]) by postal.iol.unh.edu (Postfix) with ESMTP id 4D6366052471; Mon, 23 Dec 2024 12:12:53 -0500 (EST) Subject: |SUCCESS| pw149394-149406 [PATCH] [v5,15/15] net/zxdh: mtu update op From: dpdklab@iol.unh.edu To: Test Report Cc: dpdk-test-reports@iol.unh.edu In-Reply-To: <20241223110249.1483277-16-wang.junlong1@zte.com.cn> References: <20241223110249.1483277-16-wang.junlong1@zte.com.cn> Content-Type: text/plain X-BeenThere: test-report@dpdk.org X-Mailman-Version: 2.1.29 Precedence: list List-Id: automatic DPDK test reports List-Unsubscribe: , List-Archive: List-Post: List-Help: List-Subscribe: , Errors-To: test-report-bounces@dpdk.org Test-Label: iol-compile-arm64-testing Test-Status: SUCCESS http://dpdk.org/patch/149406 _Testing PASS_ Submitter: Junlong Wang Date: Monday, December 23 2024 11:02:49 DPDK git baseline: Repo:dpdk Branch: master CommitID:94ad302b4ebba4a5b6706a1c43ea0505e5098169 149394-149406 --> testing pass Upstream job id: Generic-DPDK-Compile-Meson#345984 Test environment and result as below: +----------------------------------------+--------------------+ | Environment | dpdk_meson_compile | +========================================+====================+ | Ubuntu 20.04 ARM GCC Cross Compile | PASS | +----------------------------------------+--------------------+ | RHEL9 (ARM) | PASS | +----------------------------------------+--------------------+ | Ubuntu 20.04 ARM SVE | PASS | +----------------------------------------+--------------------+ | Fedora 39 (ARM) | PASS | +----------------------------------------+--------------------+ | Fedora 39 (ARM Clang) | PASS | +----------------------------------------+--------------------+ | Ubuntu 24.04 (ARM) | PASS | +----------------------------------------+--------------------+ | Fedora 40 (ARM) | PASS | +----------------------------------------+--------------------+ | Ubuntu 22.04 (ARM) | PASS | +----------------------------------------+--------------------+ | Ubuntu 20.04 (ARM) | PASS | +----------------------------------------+--------------------+ | Fedora 40 (ARM Clang) | PASS | +----------------------------------------+--------------------+ | CentOS Stream 9 (ARM) | PASS | +----------------------------------------+--------------------+ | Debian 12 (arm) | PASS | +----------------------------------------+--------------------+ | Debian 11 (Buster) (ARM) | PASS | +----------------------------------------+--------------------+ | Ubuntu 20.04 ARM Clang Cross Compile | PASS | +----------------------------------------+--------------------+ | Ubuntu 20.04 aarch32 GCC Cross Compile | PASS | +----------------------------------------+--------------------+ | Debian 12 with MUSDK | PASS | +----------------------------------------+--------------------+ Ubuntu 20.04 ARM GCC Cross Compile Kernel: Depends on container host Compiler: aarch64-linux-gnu-gcc (Ubuntu 9.4.0-1ubuntu1~20.04.2) 9.4.0 RHEL9 (ARM) Kernel: Depends on container host Compiler: gcc 11.4.1 20231218 (Red Hat 11.4.1-3) Ubuntu 20.04 ARM SVE Kernel: Depends on container host Compiler: gcc (Ubuntu 10.5.0-1ubuntu1~20.04) 10.5.0 Fedora 39 (ARM) Kernel: Depends on container host Compiler: gcc 13.3.1 20240522 (Red Hat 13.3.1-1) Fedora 39 (ARM Clang) Kernel: Depends on container host Compiler: clang 17.0.6 (Fedora 17.0.6-2.fc39) Ubuntu 24.04 (ARM) Kernel: Depends on container host Compiler: gcc (Ubuntu 13.2.0-23ubuntu4) 13.2.0 Fedora 40 (ARM) Kernel: Depends on container host Compiler: gcc 14.2.1 20240801 (Red Hat 14.2.1-1) Ubuntu 22.04 (ARM) Kernel: Depends on container host Compiler: gcc (Ubuntu 11.4.0-1ubuntu1~22.04) 11.4.0 Ubuntu 20.04 (ARM) Kernel: Depends on container host Compiler: gcc (Ubuntu 9.4.0-1ubuntu1~20.04.2) 9.4.0 Fedora 40 (ARM Clang) Kernel: Depends on container host Compiler: clang 18.1.6 (Fedora 18.1.6-3.fc40) CentOS Stream 9 (ARM) Kernel: Depends on container host Compiler: gcc 11.4.1 20231218 (Red Hat 11.4.1-3) Debian 12 (arm) Kernel: Depends on container host Compiler: gcc (Debian 12.2.0-14) 12.2.0 Debian 11 (Buster) (ARM) Kernel: Depends on container host Compiler: gcc (Debian 10.2.1-6) 10.2.1 20210110 Ubuntu 20.04 ARM Clang Cross Compile Kernel: Depends on container host Compiler: clang 10.0.0-4ubuntu1 Ubuntu 20.04 aarch32 GCC Cross Compile Kernel: Depends on container host Compiler: gcc 9.4.0 Debian 12 with MUSDK Kernel: Depends on container host Compiler: gcc (Debian 12.2.0-14) 12.2.0 To view detailed results, visit: https://lab.dpdk.org/results/dashboard/patchsets/32195/ UNH-IOL DPDK Community Lab To manage your email subscriptions, visit: https://lab.dpdk.org/results/dashboard/preferences/subscriptions/