From mboxrd@z Thu Jan  1 00:00:00 1970
Return-Path: <test-report-bounces@dpdk.org>
Received: from mails.dpdk.org (mails.dpdk.org [217.70.189.124])
	by inbox.dpdk.org (Postfix) with ESMTP id 6C9F245F27
	for <public@inbox.dpdk.org>; Tue, 24 Dec 2024 06:03:45 +0100 (CET)
Received: from mails.dpdk.org (localhost [127.0.0.1])
	by mails.dpdk.org (Postfix) with ESMTP id 470B4402AD;
	Tue, 24 Dec 2024 06:03:45 +0100 (CET)
Received: from mail-yb1-f227.google.com (mail-yb1-f227.google.com
 [209.85.219.227])
 by mails.dpdk.org (Postfix) with ESMTP id 8DD0740263
 for <test-report@dpdk.org>; Tue, 24 Dec 2024 06:03:44 +0100 (CET)
Received: by mail-yb1-f227.google.com with SMTP id
 3f1490d57ef6-e5372a2fbddso4578492276.3
 for <test-report@dpdk.org>; Mon, 23 Dec 2024 21:03:44 -0800 (PST)
DKIM-Signature: v=1; a=rsa-sha256; c=relaxed/relaxed;
 d=iol.unh.edu; s=unh-iol; t=1735016624; x=1735621424; darn=dpdk.org;
 h=references:in-reply-to:cc:to:from:subject:message-id:date:from:to
 :cc:subject:date:message-id:reply-to;
 bh=yS2bdJuLUoKOCOQMT6fuasZMmDezYUaJVrRKmRYtc64=;
 b=B3bdnsemLOQjiFpZcxLX77E70x127sAmfMbd81HN3wdwYafMQOM1kAltoxonxH5rWt
 Ud0Ra0GtAPeEq7OHTHDGfEmRJ21h11/8dPfvvNEE5SW4dH9/4SBIJggs7bO/UorO0vcQ
 oaSPpatzCohqhV+Yf7ff2v4ZfTGtsEyXxe1z0=
X-Google-DKIM-Signature: v=1; a=rsa-sha256; c=relaxed/relaxed;
 d=1e100.net; s=20230601; t=1735016624; x=1735621424;
 h=references:in-reply-to:cc:to:from:subject:message-id:date
 :x-gm-message-state:from:to:cc:subject:date:message-id:reply-to;
 bh=yS2bdJuLUoKOCOQMT6fuasZMmDezYUaJVrRKmRYtc64=;
 b=v5eOyGsA9Y+Ch7NnE7y53SqA4HvUh2/vhQpgvYqrL3mZoYRehtcLxIZaj4zdOv6qWs
 4fjeLpSKei3Sezwn47MlevNjmmQiYskLUxbyqSh+HsUvx1N/2sVL4ebTfjMDeNI0L1c9
 QJ2uzKW+4O3o5Qu0e8nyP7exPSpFzwFlEIxokgzXjEhsd3Gfctzg4xJ08vfmCoyxHLqv
 iGySumm69uRItbOjH13IPEoe/3mqB2MSNzw0VYdMfO32sXr/Ny7oyv6ci2cQVaWvPx8P
 uVid/JoyoC7osYuDBL+Sh5ylwQlP9wWnJxVqgZxeng+CZzyW781lePvZT0Wb1fn/Pye7
 g6pQ==
X-Gm-Message-State: AOJu0Yy2OPe56UByvCGMNCtXpSV3rRd/va2qAfzB8iK/Dsm87ATbNPhE
 IQXFaBz9TGUXtnOdlHY0qKLci8DEkLrZmILZ/3Ifo7JMK1J9FRWAw5wImC6VjqNvdb+Isu76nm8
 yO7UvNCDwr5qPoLArUx+Q89LvITmkQiHQiCz2rEU6fAwzB0op1VsVDD94
X-Gm-Gg: ASbGncsZh655SAjFoIbdpJvwZfC4x/gYIW8Lb2oG+0AJ4aclXcHgHCADziCdMhWFyyi
 1czn61fBUTsVwO25XaIpUVFEOU4R4+qCc2eh5I5Xib3ehcY5z3fP/3KvPYK/Ib/E4dOVRZ3cQQa
 DV9d/Jb/7TqZlrvKY3dnVbvI3zIu/LDN/Gzd7+lxV5OcjZtezbZnIqTBBXOnfOFzCbJgd08xz/1
 a0upsSOO5IaRmzNIPJTbL4/yiQaxAM7XnlIjnOgBQDvYVSgMYqfF9c/XxbSvDl6sMWVb38J+bSX
 3bB1DA==
X-Google-Smtp-Source: AGHT+IF0D6c8C7nz2mQBxPhLsz+6j3lAaZkYH2n2EFjpbj3zGfczjJoMgSf5L4M+K3DsrgRpLiszQw9G3oqS
X-Received: by 2002:a05:690c:6911:b0:6ef:7fc0:a392 with SMTP id
 00721157ae682-6f3f80e60ebmr148237177b3.2.1735016623738; 
 Mon, 23 Dec 2024 21:03:43 -0800 (PST)
Received: from postal.iol.unh.edu (postal.iol.unh.edu.
 [2606:4100:3880:1234::84]) by smtp-relay.gmail.com with ESMTPS id
 00721157ae682-6f3e7478593sm3477267b3.41.2024.12.23.21.03.43
 (version=TLS1_2 cipher=ECDHE-ECDSA-AES128-GCM-SHA256 bits=128/128);
 Mon, 23 Dec 2024 21:03:43 -0800 (PST)
X-Relaying-Domain: iol.unh.edu
Date: Mon, 23 Dec 2024 21:03:43 -0800 (PST)
Message-ID: <676a40af.050a0220.201d73.c433SMTPIN_ADDED_MISSING@mx.google.com>
Received: from [172.17.0.4] (unknown [172.18.0.217])
 by postal.iol.unh.edu (Postfix) with ESMTP id 516426052471;
 Tue, 24 Dec 2024 00:03:43 -0500 (EST)
Subject: |SUCCESS| pw149446-149450 [PATCH] [5/5] drivers/net: use portable ma
From: dpdklab@iol.unh.edu
To: Test Report <test-report@dpdk.org>
Cc: dpdk-test-reports@iol.unh.edu
In-Reply-To: <1735009552-31906-6-git-send-email-andremue@linux.microsoft.com>
References: <1735009552-31906-6-git-send-email-andremue@linux.microsoft.com>
Content-Type: text/plain
X-BeenThere: test-report@dpdk.org
X-Mailman-Version: 2.1.29
Precedence: list
List-Id: automatic DPDK test reports <test-report.dpdk.org>
List-Unsubscribe: <https://mails.dpdk.org/options/test-report>,
 <mailto:test-report-request@dpdk.org?subject=unsubscribe>
List-Archive: <http://mails.dpdk.org/archives/test-report/>
List-Post: <mailto:test-report@dpdk.org>
List-Help: <mailto:test-report-request@dpdk.org?subject=help>
List-Subscribe: <https://mails.dpdk.org/listinfo/test-report>,
 <mailto:test-report-request@dpdk.org?subject=subscribe>
Errors-To: test-report-bounces@dpdk.org

Test-Label: iol-sample-apps-testing
Test-Status: SUCCESS
http://dpdk.org/patch/149450

_Testing PASS_

Submitter: Andre Muezerie <andremue@linux.microsoft.com>
Date: Tuesday, December 24 2024 03:05:52 
DPDK git baseline: Repo:dpdk
  Branch: master
  CommitID:fd51012de5369679e807be1d6a81d63ef15015ce

149446-149450 --> testing pass

Upstream job id: ACVP-FIPS-testing#8383

Test environment and result as below:

+--------------------+----------------------+----------------------+
|    Environment     | compressdev_zlib_pmd | dpdk_fips_validation |
+====================+======================+======================+
| Ubuntu 22.04 (ARM) | PASS                 | SKIPPED              |
+--------------------+----------------------+----------------------+
| Ubuntu 22.04       | PASS                 | SKIPPED              |
+--------------------+----------------------+----------------------+
| Ubuntu 20.04       | SKIPPED              | PASS                 |
+--------------------+----------------------+----------------------+


Ubuntu 22.04 (ARM)
	Kernel: 5.15.0-97-generic
	Compiler: gcc gcc (Ubuntu 11.4.0-1ubuntu1~22.04) 11.4.0

Ubuntu 22.04
	Kernel: 5.15.0-100-generic
	Compiler: gcc gcc (Ubuntu 11.4.0-1ubuntu1~22.04) 11.4.0

Ubuntu 20.04
	Kernel: Depends on container host
	Compiler: gcc (Ubuntu 9.4.0-1ubuntu1~20.04.2) 9.4.0

To view detailed results, visit:
https://lab.dpdk.org/results/dashboard/patchsets/32206/

UNH-IOL DPDK Community Lab

To manage your email subscriptions, visit: 
https://lab.dpdk.org/results/dashboard/preferences/subscriptions/