From mboxrd@z Thu Jan 1 00:00:00 1970 Return-Path: Received: from mails.dpdk.org (mails.dpdk.org [217.70.189.124]) by inbox.dpdk.org (Postfix) with ESMTP id 2B23E45F43 for ; Thu, 26 Dec 2024 03:01:48 +0100 (CET) Received: from mails.dpdk.org (localhost [127.0.0.1]) by mails.dpdk.org (Postfix) with ESMTP id 0536C402A8; Thu, 26 Dec 2024 03:01:48 +0100 (CET) Received: from mail-io1-f97.google.com (mail-io1-f97.google.com [209.85.166.97]) by mails.dpdk.org (Postfix) with ESMTP id B572C402A5 for ; Thu, 26 Dec 2024 03:01:46 +0100 (CET) Received: by mail-io1-f97.google.com with SMTP id ca18e2360f4ac-83eb38883b5so240086039f.1 for ; Wed, 25 Dec 2024 18:01:46 -0800 (PST) DKIM-Signature: v=1; a=rsa-sha256; c=relaxed/relaxed; d=iol.unh.edu; s=unh-iol; t=1735178506; x=1735783306; darn=dpdk.org; h=cc:to:from:subject:message-id:date:from:to:cc:subject:date :message-id:reply-to; bh=gf68ddbQP5jdpXhEPf1bOfBaOcdL5GCJibfdN0IqkYo=; b=Zu7A3RDHv+SF1QLdBc3es5nVYxQiewVDYh1jdh1FhHezH1IZpk8A0hPJhWFwkZ5c3o u78TSryWWKwgDdNTbh2Q1S5oqmAi/WXIuKuTXGj5XEthF98qLO/cD9XI8WsOPTn4yxLd 2ooZ44+ELFUWxIlBoF3Ev+QAN7zOz7LGEF05g= X-Google-DKIM-Signature: v=1; a=rsa-sha256; c=relaxed/relaxed; d=1e100.net; s=20230601; t=1735178506; x=1735783306; h=cc:to:from:subject:message-id:date:x-gm-message-state:from:to:cc :subject:date:message-id:reply-to; bh=gf68ddbQP5jdpXhEPf1bOfBaOcdL5GCJibfdN0IqkYo=; b=FbOpRES0PC9eC886KbwrXhzUfjeGLe+w3XGnZ7tr5vJylXlbhMcLmsWyNfQLWqzBz9 o4PXAqM+4NIi1jU4DhEJxSMCas+Aj64PPUk9hW9meZtNgMQhvPYXpz1enWpVAsu1T83f ylcnu+BJliP/T0UwtIlpwaz6rrU4mitt7M45UTP0836HZ/MI4wiz4dz5yZWeSbwwYDT2 uqfmQ9fpeCulkLWVchPtBRgBNLob/+vUP2VpfOttqpI0akXHuMfmOJO0dbVfa4bRLwTt 2sZPTeVYJ8wE4WQPO3w9Ypr+e73bII8Nc19vxKJgR9l0IYJIGkLAKZBjZIQVMjMoZNNI Sj5w== X-Gm-Message-State: AOJu0Yy3wytv4aiU2ci8RYvUh9SF4ZQypf7W/am6t3uHFBE0WSW4zOol hlkZlKA8k3qzf6RRx/p6dlyY9oOnuiAfsdZe/hzQgCeC2O0HQbt8DjYt8ERDzqoBHoixclzXk5t YCIUoZiUkMOqYd2CL5PBKXe3U7CwI0Hp4UVCo1qREQAJgKk7mCTaf70FX X-Gm-Gg: ASbGncuWhcj+MFdwottbJVDVau81tr0lO5b1oeALczDWprFUwugnotkmPqm4ipYsoLF cRy1gIWgK585BWVM8osOg2EPQ1hsaneddh5v9XjgENqabWAnbKIICkghxFD74T6HlTlaNyOAc1P zYcjtHmobutb/hjgdWEk5VaLWyy9dTtcC88eP9NQg7ZgWRjiXvErH7oxULrc/811/H61HBxkf1z yXSJ1I09CA7iuLDcPjly4i4T1MCeXHYIGPBWGgiiCo3MuYDEm/geBCLDOPfW1OKnVyzLFTisUIw b6XDjA== X-Google-Smtp-Source: AGHT+IEzlHP9WFiy3OnrbPklyr6pBtH59LCWTKvy48yZNq64M3b1FuINc3qC0v2LhYZfTgXkCWcB3Eb7wooq X-Received: by 2002:a05:6e02:20ed:b0:3a7:e592:55ee with SMTP id e9e14a558f8ab-3c2d5724dbemr187178795ab.20.1735178506021; Wed, 25 Dec 2024 18:01:46 -0800 (PST) Received: from postal.iol.unh.edu (postal.iol.unh.edu. [2606:4100:3880:1234::84]) by smtp-relay.gmail.com with ESMTPS id e9e14a558f8ab-3c0dfe17161sm8300085ab.33.2024.12.25.18.01.45 (version=TLS1_2 cipher=ECDHE-ECDSA-AES128-GCM-SHA256 bits=128/128); Wed, 25 Dec 2024 18:01:46 -0800 (PST) X-Relaying-Domain: iol.unh.edu Date: Wed, 25 Dec 2024 18:01:46 -0800 (PST) Message-ID: <676cb90a.050a0220.8bdb8.e064SMTPIN_ADDED_MISSING@mx.google.com> Received: from [172.17.0.4] (unknown [172.18.0.217]) by postal.iol.unh.edu (Postfix) with ESMTP id 895C46052471; Wed, 25 Dec 2024 21:01:45 -0500 (EST) Subject: |SUCCESS| [GIT MASTER] fd51012de5369679e807be1d6a81d63ef15015ce From: dpdklab@iol.unh.edu To: Test Report Cc: dpdk-test-reports@iol.unh.edu Content-Type: text/plain X-BeenThere: test-report@dpdk.org X-Mailman-Version: 2.1.29 Precedence: list List-Id: automatic DPDK test reports List-Unsubscribe: , List-Archive: List-Post: List-Help: List-Subscribe: , Errors-To: test-report-bounces@dpdk.org _Testing PASS_ Branch: dpdk fd51012de5369679e807be1d6a81d63ef15015ce --> testing pass Upstream job id: Template-DTS-Pipeline#204323 Test environment and result as below: +--------------------+----------------------+----------------------+ | Environment | dpdk_fips_validation | compressdev_zlib_pmd | +====================+======================+======================+ | Ubuntu 20.04 | PASS | SKIPPED | +--------------------+----------------------+----------------------+ | Ubuntu 22.04 (ARM) | SKIPPED | PASS | +--------------------+----------------------+----------------------+ | Ubuntu 22.04 | SKIPPED | PASS | +--------------------+----------------------+----------------------+ Ubuntu 20.04 Kernel: Depends on container host Compiler: gcc (Ubuntu 9.4.0-1ubuntu1~20.04.2) 9.4.0 Ubuntu 22.04 (ARM) Kernel: 5.15.0-97-generic Compiler: gcc gcc (Ubuntu 11.4.0-1ubuntu1~22.04) 11.4.0 Ubuntu 22.04 Kernel: 5.15.0-100-generic Compiler: gcc gcc (Ubuntu 11.4.0-1ubuntu1~22.04) 11.4.0 To view detailed results, visit: https://lab.dpdk.org/results/dashboard/tarballs/32047/ UNH-IOL DPDK Community Lab To manage your email subscriptions, visit: https://lab.dpdk.org/results/dashboard/preferences/subscriptions/