From mboxrd@z Thu Jan 1 00:00:00 1970 Return-Path: Received: from mails.dpdk.org (mails.dpdk.org [217.70.189.124]) by inbox.dpdk.org (Postfix) with ESMTP id 8906F45F45 for ; Thu, 26 Dec 2024 05:51:00 +0100 (CET) Received: from mails.dpdk.org (localhost [127.0.0.1]) by mails.dpdk.org (Postfix) with ESMTP id 841ED402A8; Thu, 26 Dec 2024 05:51:00 +0100 (CET) Received: from mail-yb1-f227.google.com (mail-yb1-f227.google.com [209.85.219.227]) by mails.dpdk.org (Postfix) with ESMTP id 885A7402A5 for ; Thu, 26 Dec 2024 05:50:59 +0100 (CET) Received: by mail-yb1-f227.google.com with SMTP id 3f1490d57ef6-e39779a268bso5740234276.1 for ; Wed, 25 Dec 2024 20:50:59 -0800 (PST) DKIM-Signature: v=1; a=rsa-sha256; c=relaxed/relaxed; d=iol.unh.edu; s=unh-iol; t=1735188659; x=1735793459; darn=dpdk.org; h=references:in-reply-to:cc:to:from:subject:message-id:date:from:to :cc:subject:date:message-id:reply-to; bh=O2Vx3mpPceAbFfORmn0x5qVFmF9C6MtLc7Fqeqw2tds=; b=T8k8kOgWpFmwNZXR8CGLPKPJRtz/kbOBKAhrZ3p9GevEfCDiVKMtW8Fi2jwrbrUy2v eftmrmpcALBXNSjJqBFMMnMYWlXPN+YHoJLNyP/62FRIZqZh4yeEZDzE5A4F6Y3kz4kp g8j/abNdoyoTj0zO63pUsKXwJJtzeLtnWSmMc= X-Google-DKIM-Signature: v=1; a=rsa-sha256; c=relaxed/relaxed; d=1e100.net; s=20230601; t=1735188659; x=1735793459; h=references:in-reply-to:cc:to:from:subject:message-id:date :x-gm-message-state:from:to:cc:subject:date:message-id:reply-to; bh=O2Vx3mpPceAbFfORmn0x5qVFmF9C6MtLc7Fqeqw2tds=; b=pa3DyqFy4+fdoDRLBWgbp1e2cmoofO60d7PTACaa+D4rF8GvgoRm2bCe9zHdhVsOqJ F783xtTuF3NuNqtPfNYesgSnfp9yU3cX7KoK+tYKmnA09GSUNtDicXc1SZSQF28Hi8zm W/XiPYOAVN+UCkU0qMdtMol4Hyce6+jzUB8RnIoiXj/nhxbNLQBrGkERuhk4UC3/f1cR hLnQZcvkkdqVgxmSf1QeolUP9pV7Tu76i9ztv8AY3cPHyp1k4Q5lv4lBEvEnSBnlm009 Rxn7IYw9+2GODcZzsK2nOjpvbMSrNvrZ3ASlbYjpgrxMe8+wOWBy9n85rOJEFYoyHxyy AjuA== X-Gm-Message-State: AOJu0YwKvgYmTIgdkA8RVpVXFpQ0wG+z4IVxnjq8jI+ahJTkPMJ33bk+ 5gHLSaWbChJTHy1s7dPUWT28npW6GLJuUpJlWQJ003IC+bbkXr/twKGDTeeVVMuV41GYX0ThjYg JiFahB545+Lq1jzvK0Nrpoxdp5X2kYu/7VfuktQ+qJqgzw4ehUib9LEi5 X-Gm-Gg: ASbGncuni0lDK7QMRzNILF+/8s5qxP5qEFWfKkTg51XNsgrnfdFXE/TRiaMzcBhXx80 vOoKzakW1z8lxVnMXvJjMa9Nm2JN8QhZ+C6NCVIbB0ZyxfYY6YhJBESfM3uhRdlsFi0erPiqDJA 8bA9PeA/QveCoj0dXuDayhKnfUWg7LK5nLXzGyZ1Z6O4XVnGE4bdMD4Moe2H4DrlQGTtiDmZy0d BsfJ41q+2i3WJHYK+6/qwNl1yEhV7mSUM9n6NXB44AKUtEUGeJM30sGdmLyHhkmZ6R4Kchmqsy4 /tYXtw== X-Google-Smtp-Source: AGHT+IGUVACLln1mqLjYevNuZDa4fEzgMT32vQ/1W4HjtmINn8xzeKNqdXpAFxvwksvOEazEwTRBdgZ7mDhO X-Received: by 2002:a05:6902:2e0d:b0:e46:9e9e:a214 with SMTP id 3f1490d57ef6-e538cea5616mr14997850276.21.1735188658876; Wed, 25 Dec 2024 20:50:58 -0800 (PST) Received: from postal.iol.unh.edu (postal.iol.unh.edu. [2606:4100:3880:1234::84]) by smtp-relay.gmail.com with ESMTPS id 3f1490d57ef6-e537cbda4a5sm769071276.11.2024.12.25.20.50.58 (version=TLS1_2 cipher=ECDHE-ECDSA-AES128-GCM-SHA256 bits=128/128); Wed, 25 Dec 2024 20:50:58 -0800 (PST) X-Relaying-Domain: iol.unh.edu Date: Wed, 25 Dec 2024 20:50:58 -0800 (PST) Message-ID: <676ce0b2.250a0220.65477.6518SMTPIN_ADDED_MISSING@mx.google.com> Received: from [172.17.0.3] (unknown [172.18.0.217]) by postal.iol.unh.edu (Postfix) with ESMTP id 60C286052471; Wed, 25 Dec 2024 23:50:58 -0500 (EST) Subject: |SUCCESS| pw149474-149485 [PATCH] [v6,15/15] net/zxdh: mtu update op From: dpdklab@iol.unh.edu To: Test Report Cc: dpdk-test-reports@iol.unh.edu In-Reply-To: <20241226033719.1629989-16-wang.junlong1@zte.com.cn> References: <20241226033719.1629989-16-wang.junlong1@zte.com.cn> Content-Type: text/plain X-BeenThere: test-report@dpdk.org X-Mailman-Version: 2.1.29 Precedence: list List-Id: automatic DPDK test reports List-Unsubscribe: , List-Archive: List-Post: List-Help: List-Subscribe: , Errors-To: test-report-bounces@dpdk.org Test-Label: iol-sample-apps-testing Test-Status: SUCCESS http://dpdk.org/patch/149485 _Testing PASS_ Submitter: Junlong Wang Date: Thursday, December 26 2024 03:37:19 DPDK git baseline: Repo:dpdk Branch: master CommitID:94ad302b4ebba4a5b6706a1c43ea0505e5098169 149474-149485 --> testing pass Upstream job id: ACVP-FIPS-testing#8397 Test environment and result as below: +--------------------+----------------------+----------------------+ | Environment | dpdk_fips_validation | compressdev_zlib_pmd | +====================+======================+======================+ | Ubuntu 20.04 | PASS | SKIPPED | +--------------------+----------------------+----------------------+ | Ubuntu 22.04 (ARM) | SKIPPED | PASS | +--------------------+----------------------+----------------------+ | Ubuntu 22.04 | SKIPPED | PASS | +--------------------+----------------------+----------------------+ Ubuntu 20.04 Kernel: Depends on container host Compiler: gcc (Ubuntu 9.4.0-1ubuntu1~20.04.2) 9.4.0 Ubuntu 22.04 (ARM) Kernel: 5.15.0-97-generic Compiler: gcc gcc (Ubuntu 11.4.0-1ubuntu1~22.04) 11.4.0 Ubuntu 22.04 Kernel: 5.15.0-100-generic Compiler: gcc gcc (Ubuntu 11.4.0-1ubuntu1~22.04) 11.4.0 To view detailed results, visit: https://lab.dpdk.org/results/dashboard/patchsets/32212/ UNH-IOL DPDK Community Lab To manage your email subscriptions, visit: https://lab.dpdk.org/results/dashboard/preferences/subscriptions/