From mboxrd@z Thu Jan  1 00:00:00 1970
Return-Path: <test-report-bounces@dpdk.org>
Received: from mails.dpdk.org (mails.dpdk.org [217.70.189.124])
	by inbox.dpdk.org (Postfix) with ESMTP id AD71C45F46
	for <public@inbox.dpdk.org>; Thu, 26 Dec 2024 06:42:23 +0100 (CET)
Received: from mails.dpdk.org (localhost [127.0.0.1])
	by mails.dpdk.org (Postfix) with ESMTP id BED39402AF;
	Thu, 26 Dec 2024 06:42:22 +0100 (CET)
Received: from mail-pl1-f227.google.com (mail-pl1-f227.google.com
 [209.85.214.227])
 by mails.dpdk.org (Postfix) with ESMTP id 076F84029D
 for <test-report@dpdk.org>; Thu, 26 Dec 2024 06:42:21 +0100 (CET)
Received: by mail-pl1-f227.google.com with SMTP id
 d9443c01a7336-216426b0865so68197355ad.0
 for <test-report@dpdk.org>; Wed, 25 Dec 2024 21:42:20 -0800 (PST)
DKIM-Signature: v=1; a=rsa-sha256; c=relaxed/relaxed;
 d=iol.unh.edu; s=unh-iol; t=1735191740; x=1735796540; darn=dpdk.org;
 h=references:in-reply-to:cc:to:from:subject:message-id:date:from:to
 :cc:subject:date:message-id:reply-to;
 bh=PeMV2DKFme58BpGKu0UnQB4kKqdVkIzEcqwsB5GgHOs=;
 b=imgVOw56y6KCraloXgAdi2ibpyq23qDYF3dQmWLPJxUHSbHmXVc6aJd2qZuYA5iV2X
 KVnL/ciJIyeKm9hI2baQJH0j6z1a1aBn2eFZxZwb3p5fe4cAFJRiVSf4RTSHVHvYej9T
 68VXXAc0O2DBuGElrRY2cCFHo/QXwfO2Fje8o=
X-Google-DKIM-Signature: v=1; a=rsa-sha256; c=relaxed/relaxed;
 d=1e100.net; s=20230601; t=1735191740; x=1735796540;
 h=references:in-reply-to:cc:to:from:subject:message-id:date
 :x-gm-message-state:from:to:cc:subject:date:message-id:reply-to;
 bh=PeMV2DKFme58BpGKu0UnQB4kKqdVkIzEcqwsB5GgHOs=;
 b=jH9vs+SWPbDEUt5KBGvWnBxYcOaYsXg3IX0NaDoAJW0O2fO0IJ9DZnPB0QSnfi7Dgn
 6Pclhn38Owh6wyD5gpSuv+qqWJM2Z4YdEu9V7xPyy8KuckgLdOH7l3KfAo2OuUAgomG6
 4cgJM/jbRsGcZoP+vkt4mVyfSpjHDdTHHPatwU7058F+/x9xSrk4IH2KHDviCgBOT73Y
 om9veT302VZmOQGMAeovUm3GqvMb4Q7o0F4MwwrA9TExZ18sdMRcWgSehy6E62aRcv+4
 QgoUFpl6u2l7ijBzHfDFy43EuqWJ3MJp9MW6nQ90yPfSXzoD1tDlobSvu+md9qpDwgNT
 Eyiw==
X-Gm-Message-State: AOJu0Yw0EAfMcgyXqus+0wMydEngtCNsNEIr/pIrtHg7EoV182YJIdMB
 35AMgiXneilHev5RpMyjRJdqTpZBYlYe79vYv/eUsuSL4G2ASdGn3kcI4JCA3pCjRKb1AMuPTtb
 xmZiLupgqiExeNpqQgHA9JQUI28HE2P4sPA10ERly
X-Gm-Gg: ASbGncv87u2DfNjJDVPvWhNA4AJ/BqW2cycNYToJLt9bA2fd3j0/hoRJKealxuTipen
 gS6N8+bBE24Cr4Q45fDCAPiAvC4S5dhLfLekeOZ75J/Eaaht/MmypUhe/a5QVQpndAyJmqCO6/1
 Jpz/e7WwwzuMsrYAvGF6mxqctxV6D3QtBo18HsigGWFMpef+s+Ip476rNcvgYjHsXc6j0BiFs7S
 asfUVipWpjmzOB3tiitn4XtwqoJcqFlTKAfLrMsMx6Cw3p5/QLRnDiBaXzci63yM+jf2Bhnxt2Y
 pQ==
X-Google-Smtp-Source: AGHT+IEukXAbTu63H3CrRJ4AH0Dl3xfnPGOFZmDaGH4ssr147RgoI226i7lT6FPSKl78TczY4Yzng4wnzGXq
X-Received: by 2002:a17:902:db0f:b0:215:3849:9275 with SMTP id
 d9443c01a7336-219e6f2831emr352810405ad.49.1735191739868; 
 Wed, 25 Dec 2024 21:42:19 -0800 (PST)
Received: from postal.iol.unh.edu (postal.iol.unh.edu. [132.177.123.84])
 by smtp-relay.gmail.com with ESMTPS id
 d9443c01a7336-219dca32b8csm6517465ad.133.2024.12.25.21.42.19
 (version=TLS1_2 cipher=ECDHE-ECDSA-AES128-GCM-SHA256 bits=128/128);
 Wed, 25 Dec 2024 21:42:19 -0800 (PST)
X-Relaying-Domain: iol.unh.edu
Date: Wed, 25 Dec 2024 21:42:19 -0800 (PST)
Message-ID: <676cecbb.170a0220.35eed8.e987SMTPIN_ADDED_MISSING@mx.google.com>
Received: from [172.21.0.5] (unknown [172.18.0.240])
 by postal.iol.unh.edu (Postfix) with ESMTP id 0781C6052471;
 Thu, 26 Dec 2024 00:42:19 -0500 (EST)
Subject: |SUCCESS| pw149474-149485 [PATCH] [v6,15/15] net/zxdh: mtu update op
From: dpdklab@iol.unh.edu
To: Test Report <test-report@dpdk.org>
Cc: dpdk-test-reports@iol.unh.edu
In-Reply-To: <20241226033719.1629989-16-wang.junlong1@zte.com.cn>
References: <20241226033719.1629989-16-wang.junlong1@zte.com.cn>
Content-Type: text/plain
X-BeenThere: test-report@dpdk.org
X-Mailman-Version: 2.1.29
Precedence: list
List-Id: automatic DPDK test reports <test-report.dpdk.org>
List-Unsubscribe: <https://mails.dpdk.org/options/test-report>,
 <mailto:test-report-request@dpdk.org?subject=unsubscribe>
List-Archive: <http://mails.dpdk.org/archives/test-report/>
List-Post: <mailto:test-report@dpdk.org>
List-Help: <mailto:test-report-request@dpdk.org?subject=help>
List-Subscribe: <https://mails.dpdk.org/listinfo/test-report>,
 <mailto:test-report-request@dpdk.org?subject=subscribe>
Errors-To: test-report-bounces@dpdk.org

Test-Label: iol-unit-arm64-testing
Test-Status: SUCCESS
http://dpdk.org/patch/149485

_Testing PASS_

Submitter: Junlong Wang <wang.junlong1@zte.com.cn>
Date: Thursday, December 26 2024 03:37:19 
DPDK git baseline: Repo:dpdk
  Branch: master
  CommitID:94ad302b4ebba4a5b6706a1c43ea0505e5098169

149474-149485 --> testing pass

Upstream job id: Generic-Unit-Test-DPDK#302035

Test environment and result as below:

+-----------------------------+------------------------------+---------------------------+--------------+----------------+
|         Environment         | cryptodev_sw_snow3g_autotest | cryptodev_sw_zuc_autotest | lpm_autotest | dpdk_unit_test |
+=============================+==============================+===========================+==============+================+
| Debian 12 (arm)             | PASS                         | PASS                      | SKIPPED      | PASS           |
+-----------------------------+------------------------------+---------------------------+--------------+----------------+
| Ubuntu 20.04 ARM SVE        | SKIPPED                      | SKIPPED                   | PASS         | SKIPPED        |
+-----------------------------+------------------------------+---------------------------+--------------+----------------+
| Debian 11 (Buster) (ARM)    | SKIPPED                      | SKIPPED                   | SKIPPED      | PASS           |
+-----------------------------+------------------------------+---------------------------+--------------+----------------+
| CentOS Stream 9 (ARM)       | SKIPPED                      | SKIPPED                   | SKIPPED      | PASS           |
+-----------------------------+------------------------------+---------------------------+--------------+----------------+
| Fedora 40 (ARM)             | SKIPPED                      | SKIPPED                   | SKIPPED      | PASS           |
+-----------------------------+------------------------------+---------------------------+--------------+----------------+
| Fedora 41 (ARM Clang)       | SKIPPED                      | SKIPPED                   | SKIPPED      | PASS           |
+-----------------------------+------------------------------+---------------------------+--------------+----------------+
| RHEL9 (ARM)                 | SKIPPED                      | SKIPPED                   | SKIPPED      | PASS           |
+-----------------------------+------------------------------+---------------------------+--------------+----------------+
| Fedora 41 (ARM)             | SKIPPED                      | SKIPPED                   | SKIPPED      | PASS           |
+-----------------------------+------------------------------+---------------------------+--------------+----------------+
| Ubuntu 22.04 (ARM)          | SKIPPED                      | SKIPPED                   | SKIPPED      | PASS           |
+-----------------------------+------------------------------+---------------------------+--------------+----------------+
| Fedora 40 (ARM Clang)       | SKIPPED                      | SKIPPED                   | SKIPPED      | PASS           |
+-----------------------------+------------------------------+---------------------------+--------------+----------------+
| Ubuntu 20.04 (ARM)          | SKIPPED                      | SKIPPED                   | SKIPPED      | PASS           |
+-----------------------------+------------------------------+---------------------------+--------------+----------------+
| Ubuntu 24.04 (ARM)          | SKIPPED                      | SKIPPED                   | SKIPPED      | PASS           |
+-----------------------------+------------------------------+---------------------------+--------------+----------------+
| 32-bit Ubuntu 22.04.4 (ARM) | SKIPPED                      | SKIPPED                   | SKIPPED      | PASS           |
+-----------------------------+------------------------------+---------------------------+--------------+----------------+


Debian 12 (arm)
	Kernel: Depends on container host
	Compiler: gcc (Debian 12.2.0-14) 12.2.0

Ubuntu 20.04 ARM SVE
	Kernel: Depends on container host
	Compiler: gcc (Ubuntu 10.5.0-1ubuntu1~20.04) 10.5.0

Debian 11 (Buster) (ARM)
	Kernel: Depends on container host
	Compiler: gcc (Debian 10.2.1-6) 10.2.1 20210110

CentOS Stream 9 (ARM)
	Kernel: Depends on container host
	Compiler: gcc 11.5.0 20240719 (Red Hat 11.5.0-2)

Fedora 40 (ARM)
	Kernel: Depends on container host
	Compiler: gcc 14.2.1 20240912 (Red Hat 14.2.1-3)

Fedora 41 (ARM Clang)
	Kernel: Depends on container host
	Compiler: clang 19.1.5 (Fedora 19.1.5-1.fc41)

RHEL9 (ARM)
	Kernel: Depends on container host
	Compiler: gcc 11.5.0 20240719 (Red Hat 11.5.0-2)

Fedora 41 (ARM)
	Kernel: Depends on container host
	Compiler: gcc 14.2.1 20240912 (Red Hat 14.2.1-3)

Ubuntu 22.04 (ARM)
	Kernel: Depends on container host
	Compiler: gcc (Ubuntu 11.4.0-1ubuntu1~22.04) 11.4.0

Fedora 40 (ARM Clang)
	Kernel: Depends on container host
	Compiler: clang 18.1.8 (Fedora 18.1.8-1.fc40)

Ubuntu 20.04 (ARM)
	Kernel: Depends on container host
	Compiler: gcc (Ubuntu 9.4.0-1ubuntu1~20.04.2) 9.4.0

Ubuntu 24.04 (ARM)
	Kernel: Depends on container host
	Compiler: gcc (Ubuntu 13.3.0-6ubuntu2~24.04) 13.3.0

32-bit Ubuntu 22.04.4 (ARM)
	Kernel: 5.15.83+ aarch64
	Compiler: gcc (Ubuntu 11.4.0-1ubuntu1~22.04) 11.4.0

To view detailed results, visit:
https://lab.dpdk.org/results/dashboard/patchsets/32212/

UNH-IOL DPDK Community Lab

To manage your email subscriptions, visit: 
https://lab.dpdk.org/results/dashboard/preferences/subscriptions/