From mboxrd@z Thu Jan 1 00:00:00 1970 Return-Path: Received: from mails.dpdk.org (mails.dpdk.org [217.70.189.124]) by inbox.dpdk.org (Postfix) with ESMTP id E09C545F4A for ; Thu, 26 Dec 2024 10:51:14 +0100 (CET) Received: from mails.dpdk.org (localhost [127.0.0.1]) by mails.dpdk.org (Postfix) with ESMTP id DCA59402AF; Thu, 26 Dec 2024 10:51:14 +0100 (CET) Received: from mail-il1-f228.google.com (mail-il1-f228.google.com [209.85.166.228]) by mails.dpdk.org (Postfix) with ESMTP id 873824029D for ; Thu, 26 Dec 2024 10:51:13 +0100 (CET) Received: by mail-il1-f228.google.com with SMTP id e9e14a558f8ab-3ab29214f45so21291085ab.0 for ; Thu, 26 Dec 2024 01:51:13 -0800 (PST) DKIM-Signature: v=1; a=rsa-sha256; c=relaxed/relaxed; d=iol.unh.edu; s=unh-iol; t=1735206673; x=1735811473; darn=dpdk.org; h=references:in-reply-to:cc:to:from:subject:message-id:date:from:to :cc:subject:date:message-id:reply-to; bh=11pIpBMYHm6lmz8Ps9gOvifasWyFv8pz/4t5FdKiCms=; b=IQaL8FrBT7hTzbDbf44i1RUWUXZ8mfzhbR4YixwClOcicz5qfBk85HhcergBis1XRd vjW5s6ZmDmqfjHfbRgkNKiaTH17jmL5GPJU0YbVhvRi9iPXJ3CrCSxFM2jPFkg6VDrkT /oVVABK9I0+w9o5hslCYOXKYa56tMccKB5cn4= X-Google-DKIM-Signature: v=1; a=rsa-sha256; c=relaxed/relaxed; d=1e100.net; s=20230601; t=1735206673; x=1735811473; h=references:in-reply-to:cc:to:from:subject:message-id:date :x-gm-message-state:from:to:cc:subject:date:message-id:reply-to; bh=11pIpBMYHm6lmz8Ps9gOvifasWyFv8pz/4t5FdKiCms=; b=oRMourDu4DjW01kF7m8CrSDyR+b2E9bl8LG5GWkraXmugAgYvCn8X4n+Jjdd99Ngp+ vo56V5KulDjiac5gF7n/S7/9Bm/xxNPilDnpPMte78M5WpyiJSN5o/u/UlZZ9alZab9Q 0ooGu55w0WyekHaNcE5k9CS8sikx/OJFXsCK3uke55hKA2D190pfrJ8+dFfBl7AFsrCd lEjyrmI7RKaBn1Nx5oIrF7sZXWvX1XSotjrawuOl3zVh4ZFTokDvNC1gPwQqlaaNwSue mXtlpgldCDecg85AnUTymiL1p0DVs5heNj9ew2LwGPWwJcZJDeV0CNAaYMbxQPcj/Ran 16VA== X-Gm-Message-State: AOJu0YxleGg+EQEUGQdlLJF3UOD4X38wzElaVj4Tm0ciAFLp/FmZusx+ 3z3jvHjWz+vVWnQo/vSqRfNhS0SjyjRfzXHKRvR166a5xb8KL/YTg/kgVhZIrr0XPDzQGAU4jWI x2p7nhruNhDXZnZxU5pbojj4GnBfes6T5HSZFN0hjAZdBOl44CXC4m0mQ X-Gm-Gg: ASbGncsdhmBhziMNNPFQZgQKeaEyawpI1NAPCwGDrk99LjurVXjsVXvdRWYIjljkaXS K1Cv43oMh6LRZOBiciOi6DGwTmU25pv+UvFE6PzVDF1LEVsgwIbO4hhP/VPKcZCQkSApNmx0S9g +065WUCkqeaDxzIaELLdMP+xADjY8xzSQ2ryTnfpPsa3DPK71q03etF9+j9Fc13LF4SQ7qOm2rM fW4Wt97I07KbG2nr3h1m1S+I2R6PIhecpEXNgPHjhESXCy2GWqj/dOwXKBoC9P1rhL0y3riBVXm AFkkbQ== X-Google-Smtp-Source: AGHT+IEOxkIk0CUVIFwGM37rWPX1UQhuTJDung1D/MMTMj289UTgeW2awsjNPS/lhWGjjZZrnFcP3xZYJCax X-Received: by 2002:a05:6e02:2384:b0:3a7:fe8c:b014 with SMTP id e9e14a558f8ab-3c2d5917533mr198900965ab.21.1735206672952; Thu, 26 Dec 2024 01:51:12 -0800 (PST) Received: from postal.iol.unh.edu (postal.iol.unh.edu. [2606:4100:3880:1234::84]) by smtp-relay.gmail.com with ESMTPS id e9e14a558f8ab-3c0df383f55sm9125565ab.27.2024.12.26.01.51.12 (version=TLS1_2 cipher=ECDHE-ECDSA-AES128-GCM-SHA256 bits=128/128); Thu, 26 Dec 2024 01:51:12 -0800 (PST) X-Relaying-Domain: iol.unh.edu Date: Thu, 26 Dec 2024 01:51:12 -0800 (PST) Message-ID: <676d2710.050a0220.24cde9.5295SMTPIN_ADDED_MISSING@mx.google.com> Received: from [172.17.0.3] (unknown [172.18.0.217]) by postal.iol.unh.edu (Postfix) with ESMTP id 77C336052471; Thu, 26 Dec 2024 04:51:12 -0500 (EST) Subject: |SUCCESS| pw149488 [PATCH] Fix unused memseg length for memory issue From: dpdklab@iol.unh.edu To: Test Report Cc: dpdk-test-reports@iol.unh.edu In-Reply-To: <20241226081020.3479-1-ming.1.yang@nokia-sbell.com> References: <20241226081020.3479-1-ming.1.yang@nokia-sbell.com> Content-Type: text/plain X-BeenThere: test-report@dpdk.org X-Mailman-Version: 2.1.29 Precedence: list List-Id: automatic DPDK test reports List-Unsubscribe: , List-Archive: List-Post: List-Help: List-Subscribe: , Errors-To: test-report-bounces@dpdk.org Test-Label: iol-sample-apps-testing Test-Status: SUCCESS http://dpdk.org/patch/149488 _Testing PASS_ Submitter: Yang Ming Date: Thursday, December 26 2024 08:10:20 DPDK git baseline: Repo:dpdk Branch: master CommitID:fd51012de5369679e807be1d6a81d63ef15015ce 149488 --> testing pass Upstream job id: ACVP-FIPS-testing#8400 Test environment and result as below: +--------------------+----------------------+----------------------+ | Environment | compressdev_zlib_pmd | dpdk_fips_validation | +====================+======================+======================+ | Ubuntu 22.04 (ARM) | PASS | SKIPPED | +--------------------+----------------------+----------------------+ | Ubuntu 22.04 | PASS | SKIPPED | +--------------------+----------------------+----------------------+ | Ubuntu 20.04 | SKIPPED | PASS | +--------------------+----------------------+----------------------+ Ubuntu 22.04 (ARM) Kernel: 5.15.0-97-generic Compiler: gcc gcc (Ubuntu 11.4.0-1ubuntu1~22.04) 11.4.0 Ubuntu 22.04 Kernel: 5.15.0-100-generic Compiler: gcc gcc (Ubuntu 11.4.0-1ubuntu1~22.04) 11.4.0 Ubuntu 20.04 Kernel: Depends on container host Compiler: gcc (Ubuntu 9.4.0-1ubuntu1~20.04.2) 9.4.0 To view detailed results, visit: https://lab.dpdk.org/results/dashboard/patchsets/32213/ UNH-IOL DPDK Community Lab To manage your email subscriptions, visit: https://lab.dpdk.org/results/dashboard/preferences/subscriptions/