From mboxrd@z Thu Jan 1 00:00:00 1970 Return-Path: Received: from mails.dpdk.org (mails.dpdk.org [217.70.189.124]) by inbox.dpdk.org (Postfix) with ESMTP id 0B64C45F4D for ; Thu, 26 Dec 2024 21:18:00 +0100 (CET) Received: from mails.dpdk.org (localhost [127.0.0.1]) by mails.dpdk.org (Postfix) with ESMTP id D6451402AF; Thu, 26 Dec 2024 21:17:59 +0100 (CET) Received: from mail-pj1-f97.google.com (mail-pj1-f97.google.com [209.85.216.97]) by mails.dpdk.org (Postfix) with ESMTP id 3BF3C4029D for ; Thu, 26 Dec 2024 21:17:59 +0100 (CET) Received: by mail-pj1-f97.google.com with SMTP id 98e67ed59e1d1-2ee51f8c47dso6212648a91.1 for ; Thu, 26 Dec 2024 12:17:59 -0800 (PST) DKIM-Signature: v=1; a=rsa-sha256; c=relaxed/relaxed; d=iol.unh.edu; s=unh-iol; t=1735244278; x=1735849078; darn=dpdk.org; h=references:in-reply-to:cc:to:from:subject:message-id:date:from:to :cc:subject:date:message-id:reply-to; bh=HyCRasLbklpTjLmt038q7wZ9jOBMV0TRro09SxGN+20=; b=i1nQVWyi2kmwiGjNLVvBE93eNacjbaxasJWPJnF8gFjVQiBlfUrUnoQb0hYkcyNl9p izXCGWTRJau6KnhRufZw3OKYPnNRcCUJ1/Yq1+4bHeZ9FUpncWcyL6If50zyjIOIYZ3D E6u3LDnt4EJDHd+bWRRL9wDtQ+/2gcLPckM14= X-Google-DKIM-Signature: v=1; a=rsa-sha256; c=relaxed/relaxed; d=1e100.net; s=20230601; t=1735244278; x=1735849078; h=references:in-reply-to:cc:to:from:subject:message-id:date :x-gm-message-state:from:to:cc:subject:date:message-id:reply-to; bh=HyCRasLbklpTjLmt038q7wZ9jOBMV0TRro09SxGN+20=; b=aYx5R+1dUgNvWqVBwm8hV7mZP1EsQZ2rfSFQYs7dNpmD6Ap3WddtDGsWheIXyfNeYj kOp8m1SWIE4PPVsZkJw1TjfgS6yBY5SbEpDcJVK7TERtPZo9tJPjjkCfDBHCezCR6L1F bzsIKu020JDB/zssD9KrwFO27wzLVvAfV7vp5QfveKIElcdaXQ5lDPYPOLwo/lV6ERuv 8U1mj8sbSSYkuBfYTn//NWj18EmaXhZrnscZz3Dy8I7GNqctvDgkD9S22f8pfXFk9byr 9JU5bRc26o0oUeR9QAM4ejgbfCO4kFpl6dypHUlqB+YPgXeqftF8yjqPVhj0NLxvGAMV T9ew== X-Gm-Message-State: AOJu0Yy4mfF3WWbFbKKjfErjL9KbJJFne92RJiePraf8WjlzxjBKXUl6 bMc29SmPuLtnPJBMAANsACAJaJAiMp1cBJt+KOXR6Bqls1HS3sVN2I5jcMvrI9fu/2fpKwnrYfR iP1VakP2+zLgxIpZIpGmj7ZsyzbwTzp9NaBXpCD44 X-Gm-Gg: ASbGncsmnvJhQt2U6W95tWe2WGl+cjCK5JvWAXuTMbU/lDgEE5GhXdie7SjOWS430q8 Z7zSKNUwWi7hPMGP4j88DU3Q6fa9troU6oGt9FxctNBEfaHPNag8b2UrsiZxc0h04WpcEJs/aCm D0af+f1c0b+OqaX0TQ+w5SgnZubuGo0LvjJGm+AIpcEENUjdBsSbk79b5UuPJuhhsgL6Gl8sKo5 Dye5ZulTu5ATzx089HF78dS8rUoCb6rTkVlZ/RnIzBvhXsswUybrnOGBSWVg9PSBm5i2g5FG35H 3Q== X-Google-Smtp-Source: AGHT+IGNh6ySy6A1wkG2ojy27Lqa5M1rstild78M4d6Fij0QvAF4eQ7ZjPbVA4qAGOucvOLrEVL3IZwi9Ww+ X-Received: by 2002:a17:90b:3d43:b0:2ee:a583:e616 with SMTP id 98e67ed59e1d1-2f452e17cb9mr37712624a91.9.1735244278387; Thu, 26 Dec 2024 12:17:58 -0800 (PST) Received: from postal.iol.unh.edu (postal.iol.unh.edu. [132.177.123.84]) by smtp-relay.gmail.com with ESMTPS id 98e67ed59e1d1-2f2ee26ff02sm981139a91.13.2024.12.26.12.17.58 (version=TLS1_2 cipher=ECDHE-ECDSA-AES128-GCM-SHA256 bits=128/128); Thu, 26 Dec 2024 12:17:58 -0800 (PST) X-Relaying-Domain: iol.unh.edu Date: Thu, 26 Dec 2024 12:17:58 -0800 (PST) Message-ID: <676db9f6.170a0220.2279a8.0a65SMTPIN_ADDED_MISSING@mx.google.com> Received: from [172.17.0.3] (unknown [172.18.0.217]) by postal.iol.unh.edu (Postfix) with ESMTP id 80F666052471; Thu, 26 Dec 2024 15:17:57 -0500 (EST) Subject: |SUCCESS| pw149489-149490 [PATCH] [2/2] drivers/net: remove unused v From: dpdklab@iol.unh.edu To: Test Report Cc: dpdk-test-reports@iol.unh.edu In-Reply-To: <1735238504-15597-3-git-send-email-andremue@linux.microsoft.com> References: <1735238504-15597-3-git-send-email-andremue@linux.microsoft.com> Content-Type: text/plain X-BeenThere: test-report@dpdk.org X-Mailman-Version: 2.1.29 Precedence: list List-Id: automatic DPDK test reports List-Unsubscribe: , List-Archive: List-Post: List-Help: List-Subscribe: , Errors-To: test-report-bounces@dpdk.org Test-Label: iol-unit-arm64-testing Test-Status: SUCCESS http://dpdk.org/patch/149490 _Testing PASS_ Submitter: Andre Muezerie Date: Thursday, December 26 2024 18:41:44 DPDK git baseline: Repo:dpdk Branch: master CommitID:94ad302b4ebba4a5b6706a1c43ea0505e5098169 149489-149490 --> testing pass Upstream job id: Generic-Unit-Test-DPDK#302147 Test environment and result as below: +-----------------------------+--------------+---------------------------+------------------------------+----------------+ | Environment | lpm_autotest | cryptodev_sw_zuc_autotest | cryptodev_sw_snow3g_autotest | dpdk_unit_test | +=============================+==============+===========================+==============================+================+ | Ubuntu 20.04 ARM SVE | PASS | SKIPPED | SKIPPED | SKIPPED | +-----------------------------+--------------+---------------------------+------------------------------+----------------+ | Debian 12 (arm) | SKIPPED | PASS | PASS | PASS | +-----------------------------+--------------+---------------------------+------------------------------+----------------+ | CentOS Stream 9 (ARM) | SKIPPED | SKIPPED | SKIPPED | PASS | +-----------------------------+--------------+---------------------------+------------------------------+----------------+ | Fedora 40 (ARM Clang) | SKIPPED | SKIPPED | SKIPPED | PASS | +-----------------------------+--------------+---------------------------+------------------------------+----------------+ | Fedora 40 (ARM) | SKIPPED | SKIPPED | SKIPPED | PASS | +-----------------------------+--------------+---------------------------+------------------------------+----------------+ | Fedora 41 (ARM) | SKIPPED | SKIPPED | SKIPPED | PASS | +-----------------------------+--------------+---------------------------+------------------------------+----------------+ | RHEL9 (ARM) | SKIPPED | SKIPPED | SKIPPED | PASS | +-----------------------------+--------------+---------------------------+------------------------------+----------------+ | Ubuntu 20.04 (ARM) | SKIPPED | SKIPPED | SKIPPED | PASS | +-----------------------------+--------------+---------------------------+------------------------------+----------------+ | Fedora 41 (ARM Clang) | SKIPPED | SKIPPED | SKIPPED | PASS | +-----------------------------+--------------+---------------------------+------------------------------+----------------+ | Ubuntu 22.04 (ARM) | SKIPPED | SKIPPED | SKIPPED | PASS | +-----------------------------+--------------+---------------------------+------------------------------+----------------+ | Ubuntu 24.04 (ARM) | SKIPPED | SKIPPED | SKIPPED | PASS | +-----------------------------+--------------+---------------------------+------------------------------+----------------+ | Debian 11 (Buster) (ARM) | SKIPPED | SKIPPED | SKIPPED | PASS | +-----------------------------+--------------+---------------------------+------------------------------+----------------+ | 32-bit Ubuntu 22.04.4 (ARM) | SKIPPED | SKIPPED | SKIPPED | PASS | +-----------------------------+--------------+---------------------------+------------------------------+----------------+ Ubuntu 20.04 ARM SVE Kernel: Depends on container host Compiler: gcc (Ubuntu 10.5.0-1ubuntu1~20.04) 10.5.0 Debian 12 (arm) Kernel: Depends on container host Compiler: gcc (Debian 12.2.0-14) 12.2.0 CentOS Stream 9 (ARM) Kernel: Depends on container host Compiler: gcc 11.5.0 20240719 (Red Hat 11.5.0-2) Fedora 40 (ARM Clang) Kernel: Depends on container host Compiler: clang 18.1.8 (Fedora 18.1.8-1.fc40) Fedora 40 (ARM) Kernel: Depends on container host Compiler: gcc 14.2.1 20240912 (Red Hat 14.2.1-3) Fedora 41 (ARM) Kernel: Depends on container host Compiler: gcc 14.2.1 20240912 (Red Hat 14.2.1-3) RHEL9 (ARM) Kernel: Depends on container host Compiler: gcc 11.5.0 20240719 (Red Hat 11.5.0-2) Ubuntu 20.04 (ARM) Kernel: Depends on container host Compiler: gcc (Ubuntu 9.4.0-1ubuntu1~20.04.2) 9.4.0 Fedora 41 (ARM Clang) Kernel: Depends on container host Compiler: clang 19.1.5 (Fedora 19.1.5-1.fc41) Ubuntu 22.04 (ARM) Kernel: Depends on container host Compiler: gcc (Ubuntu 11.4.0-1ubuntu1~22.04) 11.4.0 Ubuntu 24.04 (ARM) Kernel: Depends on container host Compiler: gcc (Ubuntu 13.3.0-6ubuntu2~24.04) 13.3.0 Debian 11 (Buster) (ARM) Kernel: Depends on container host Compiler: gcc (Debian 10.2.1-6) 10.2.1 20210110 32-bit Ubuntu 22.04.4 (ARM) Kernel: 5.15.83+ aarch64 Compiler: gcc (Ubuntu 11.4.0-1ubuntu1~22.04) 11.4.0 To view detailed results, visit: https://lab.dpdk.org/results/dashboard/patchsets/32214/ UNH-IOL DPDK Community Lab To manage your email subscriptions, visit: https://lab.dpdk.org/results/dashboard/preferences/subscriptions/