From mboxrd@z Thu Jan  1 00:00:00 1970
Return-Path: <test-report-bounces@dpdk.org>
Received: from mails.dpdk.org (mails.dpdk.org [217.70.189.124])
	by inbox.dpdk.org (Postfix) with ESMTP id 9C13F45F4E
	for <public@inbox.dpdk.org>; Thu, 26 Dec 2024 22:31:52 +0100 (CET)
Received: from mails.dpdk.org (localhost [127.0.0.1])
	by mails.dpdk.org (Postfix) with ESMTP id 97DFF402AF;
	Thu, 26 Dec 2024 22:31:52 +0100 (CET)
Received: from mail-pj1-f98.google.com (mail-pj1-f98.google.com
 [209.85.216.98]) by mails.dpdk.org (Postfix) with ESMTP id 779964029D
 for <test-report@dpdk.org>; Thu, 26 Dec 2024 22:31:51 +0100 (CET)
Received: by mail-pj1-f98.google.com with SMTP id
 98e67ed59e1d1-2ee397a82f6so8334955a91.2
 for <test-report@dpdk.org>; Thu, 26 Dec 2024 13:31:51 -0800 (PST)
DKIM-Signature: v=1; a=rsa-sha256; c=relaxed/relaxed;
 d=iol.unh.edu; s=unh-iol; t=1735248710; x=1735853510; darn=dpdk.org;
 h=references:in-reply-to:cc:to:from:subject:message-id:date:from:to
 :cc:subject:date:message-id:reply-to;
 bh=KeaN1j8/H2YMjGrgDv3ZxZVSWT9ZpZ26APkXfXjxykg=;
 b=Gn6k1oKfqnNrK6LNo15XydcPpFB7LWzMjxQzzV9TCWi7guikOAXXOdZazNwj9Ea+0h
 1nmOMm91+1YVI6so0yllcanJav7+QeqVeXy+Mwtu1S+pp35ftqBU613+Wd3cFudiX+Y2
 qpyKzk23vD+h/NS2CchkbNU5Ne+znHzWoNR1o=
X-Google-DKIM-Signature: v=1; a=rsa-sha256; c=relaxed/relaxed;
 d=1e100.net; s=20230601; t=1735248710; x=1735853510;
 h=references:in-reply-to:cc:to:from:subject:message-id:date
 :x-gm-message-state:from:to:cc:subject:date:message-id:reply-to;
 bh=KeaN1j8/H2YMjGrgDv3ZxZVSWT9ZpZ26APkXfXjxykg=;
 b=dlgw/GvM4R/rtnsx4z6N3hPRQrT1Xk9WTbdfyzvzrVnO+NUeNyIi2Eys7YC6uZBO0s
 vLe3m0ayiD/ZRw9wKNfGanR1VkUNwxM3r9KaJpLBLWEiPtZRruw90v0zUhLGHm4NAMgj
 T3TSL4FA8UuCwOrpMXhMR0dZ/SFDsuVh4HywN8EoyiXyRfrHCeRGquakVx6TH4/uE3J/
 uMcN4eJ85nMzjzh7382Y1V5c15eq92SQvSMnH98jg8nimoOttgpXbQcutbiqacauaHbt
 xNSlC5Ff5K3TBUXQRD1bI89bdHljruqCsTarOVJ0+vsrX/ZQtCcmIO2ZGryaCfehtF6E
 RUJg==
X-Gm-Message-State: AOJu0YwdB+G+lRDf/ZqRL4pVmo9ciclOCH3ZjQM5tMJEhyCNJoTXwmWF
 aCEmr1Ky8gC3qpeU2oetcT3PNi1UfOHP6+1I1DfEw4Rdx0X/EbL8c1kIPMbTTpm6/2i6aevDUk4
 ZgOyP0PvzmQvwT+6HPLSYerx/PdcHbcVnx9Ei7anO
X-Gm-Gg: ASbGncs9pLiHVHhbZkNSysWjRGeRrSP1ywuqI7zJzw0v/ZRmtPA9fpXL9BJPzuIL5Ja
 zwCx2q8404ZS82Zk838LY3DiPL0gWw3LsyU7u2ashrU12VTKYx0HzgpS7NLmXnbb5+V3wEL1FuE
 hCrhLJMQaJ/GUY6IXHmU8P/2dIKdq1LUKf1RG+zmZE0CkQ80k9eeEBeRo8i/kt+wZl0j9rB9fuc
 FGBiycUZx1MoLT7dVejXeNaMOKa0kxRa+yiZQGsAIvHBqIe1iaVNCClS5SyZ70hgMvbojyORYzY
 Sw==
X-Google-Smtp-Source: AGHT+IE1hl5Sm+F8ARtJBJfKRvHmDxAEyltuhHShjSXSRnXeKYTJZFo17bmX6Cn1veFJjiOAd4C9u/iwv6oO
X-Received: by 2002:a17:90a:d647:b0:2ee:c9dd:b7ea with SMTP id
 98e67ed59e1d1-2f452eb12famr36872892a91.24.1735248710614; 
 Thu, 26 Dec 2024 13:31:50 -0800 (PST)
Received: from postal.iol.unh.edu (postal.iol.unh.edu. [132.177.123.84])
 by smtp-relay.gmail.com with ESMTPS id
 98e67ed59e1d1-2f2ee26ff02sm988015a91.13.2024.12.26.13.31.50
 (version=TLS1_2 cipher=ECDHE-ECDSA-AES128-GCM-SHA256 bits=128/128);
 Thu, 26 Dec 2024 13:31:50 -0800 (PST)
X-Relaying-Domain: iol.unh.edu
Date: Thu, 26 Dec 2024 13:31:50 -0800 (PST)
Message-ID: <676dcb46.170a0220.2279a8.136dSMTPIN_ADDED_MISSING@mx.google.com>
Received: from [172.17.0.3] (unknown [172.18.0.217])
 by postal.iol.unh.edu (Postfix) with ESMTP id C275D6052471;
 Thu, 26 Dec 2024 16:31:49 -0500 (EST)
Subject: |SUCCESS| pw149489-149490 [PATCH] [2/2] drivers/net: remove unused v
From: dpdklab@iol.unh.edu
To: Test Report <test-report@dpdk.org>
Cc: dpdk-test-reports@iol.unh.edu
In-Reply-To: <1735238504-15597-3-git-send-email-andremue@linux.microsoft.com>
References: <1735238504-15597-3-git-send-email-andremue@linux.microsoft.com>
Content-Type: text/plain
X-BeenThere: test-report@dpdk.org
X-Mailman-Version: 2.1.29
Precedence: list
List-Id: automatic DPDK test reports <test-report.dpdk.org>
List-Unsubscribe: <https://mails.dpdk.org/options/test-report>,
 <mailto:test-report-request@dpdk.org?subject=unsubscribe>
List-Archive: <http://mails.dpdk.org/archives/test-report/>
List-Post: <mailto:test-report@dpdk.org>
List-Help: <mailto:test-report-request@dpdk.org?subject=help>
List-Subscribe: <https://mails.dpdk.org/listinfo/test-report>,
 <mailto:test-report-request@dpdk.org?subject=subscribe>
Errors-To: test-report-bounces@dpdk.org

Test-Label: iol-compile-arm64-testing
Test-Status: SUCCESS
http://dpdk.org/patch/149490

_Testing PASS_

Submitter: Andre Muezerie <andremue@linux.microsoft.com>
Date: Thursday, December 26 2024 18:41:44 
DPDK git baseline: Repo:dpdk
  Branch: master
  CommitID:94ad302b4ebba4a5b6706a1c43ea0505e5098169

149489-149490 --> testing pass

Upstream job id: Generic-DPDK-Compile-Meson#346863

Test environment and result as below:

+----------------------------------------+--------------------+
|              Environment               | dpdk_meson_compile |
+========================================+====================+
| Ubuntu 20.04 ARM GCC Cross Compile     | PASS               |
+----------------------------------------+--------------------+
| Ubuntu 20.04 ARM SVE                   | PASS               |
+----------------------------------------+--------------------+
| Fedora 40 (ARM)                        | PASS               |
+----------------------------------------+--------------------+
| Fedora 40 (ARM Clang)                  | PASS               |
+----------------------------------------+--------------------+
| Ubuntu 22.04 (ARM)                     | PASS               |
+----------------------------------------+--------------------+
| Fedora 41 (ARM Clang)                  | PASS               |
+----------------------------------------+--------------------+
| Ubuntu 20.04 (ARM)                     | PASS               |
+----------------------------------------+--------------------+
| Fedora 41 (ARM)                        | PASS               |
+----------------------------------------+--------------------+
| Ubuntu 24.04 (ARM)                     | PASS               |
+----------------------------------------+--------------------+
| CentOS Stream 9 (ARM)                  | PASS               |
+----------------------------------------+--------------------+
| Debian 11 (Buster) (ARM)               | PASS               |
+----------------------------------------+--------------------+
| Debian 12 (arm)                        | PASS               |
+----------------------------------------+--------------------+
| Ubuntu 20.04 ARM Clang Cross Compile   | PASS               |
+----------------------------------------+--------------------+
| Ubuntu 20.04 aarch32 GCC Cross Compile | PASS               |
+----------------------------------------+--------------------+
| RHEL9 (ARM)                            | PASS               |
+----------------------------------------+--------------------+


Ubuntu 20.04 ARM GCC Cross Compile
	Kernel: Depends on container host
	Compiler: aarch64-linux-gnu-gcc (Ubuntu 9.4.0-1ubuntu1~20.04.2) 9.4.0

Ubuntu 20.04 ARM SVE
	Kernel: Depends on container host
	Compiler: gcc (Ubuntu 10.5.0-1ubuntu1~20.04) 10.5.0

Fedora 40 (ARM)
	Kernel: Depends on container host
	Compiler: gcc 14.2.1 20240912 (Red Hat 14.2.1-3)

Fedora 40 (ARM Clang)
	Kernel: Depends on container host
	Compiler: clang 18.1.8 (Fedora 18.1.8-1.fc40)

Ubuntu 22.04 (ARM)
	Kernel: Depends on container host
	Compiler: gcc (Ubuntu 11.4.0-1ubuntu1~22.04) 11.4.0

Fedora 41 (ARM Clang)
	Kernel: Depends on container host
	Compiler: clang 19.1.5 (Fedora 19.1.5-1.fc41)

Ubuntu 20.04 (ARM)
	Kernel: Depends on container host
	Compiler: gcc (Ubuntu 9.4.0-1ubuntu1~20.04.2) 9.4.0

Fedora 41 (ARM)
	Kernel: Depends on container host
	Compiler: gcc 14.2.1 20240912 (Red Hat 14.2.1-3)

Ubuntu 24.04 (ARM)
	Kernel: Depends on container host
	Compiler: gcc (Ubuntu 13.3.0-6ubuntu2~24.04) 13.3.0

CentOS Stream 9 (ARM)
	Kernel: Depends on container host
	Compiler: gcc 11.5.0 20240719 (Red Hat 11.5.0-2)

Debian 11 (Buster) (ARM)
	Kernel: Depends on container host
	Compiler: gcc (Debian 10.2.1-6) 10.2.1 20210110

Debian 12 (arm)
	Kernel: Depends on container host
	Compiler: gcc (Debian 12.2.0-14) 12.2.0

Ubuntu 20.04 ARM Clang Cross Compile
	Kernel: Depends on container host
	Compiler: clang 10.0.0-4ubuntu1

Ubuntu 20.04 aarch32 GCC Cross Compile
	Kernel: Depends on container host
	Compiler: gcc 9.4.0

RHEL9 (ARM)
	Kernel: Depends on container host
	Compiler: gcc 11.5.0 20240719 (Red Hat 11.5.0-2)

To view detailed results, visit:
https://lab.dpdk.org/results/dashboard/patchsets/32214/

UNH-IOL DPDK Community Lab

To manage your email subscriptions, visit: 
https://lab.dpdk.org/results/dashboard/preferences/subscriptions/