From mboxrd@z Thu Jan 1 00:00:00 1970 Return-Path: Received: from mails.dpdk.org (mails.dpdk.org [217.70.189.124]) by inbox.dpdk.org (Postfix) with ESMTP id 90BE945F51 for ; Fri, 27 Dec 2024 01:12:04 +0100 (CET) Received: from mails.dpdk.org (localhost [127.0.0.1]) by mails.dpdk.org (Postfix) with ESMTP id 86E8A40294; Fri, 27 Dec 2024 01:12:04 +0100 (CET) Received: from mail-oa1-f98.google.com (mail-oa1-f98.google.com [209.85.160.98]) by mails.dpdk.org (Postfix) with ESMTP id 2AE5440275 for ; Fri, 27 Dec 2024 01:12:03 +0100 (CET) Received: by mail-oa1-f98.google.com with SMTP id 586e51a60fabf-29fe83208a4so3204902fac.0 for ; Thu, 26 Dec 2024 16:12:03 -0800 (PST) DKIM-Signature: v=1; a=rsa-sha256; c=relaxed/relaxed; d=iol.unh.edu; s=unh-iol; t=1735258322; x=1735863122; darn=dpdk.org; h=references:in-reply-to:cc:to:from:subject:message-id:date:from:to :cc:subject:date:message-id:reply-to; bh=Gza5IoD2QULjHe00ixuNLV6IZMwJ2Y3LX+1QaJpk8TY=; b=evI+FsBJOPbhP9GBropbmwBKyLouBAXvZQx9IOABz73MzpwNftrcZ2qWRuGkPxbqep UcJ2Fqw+18UfEIZcahvP0+dKZlkburs6oiZgyo/hs3rvDaqT+5rg8nUlxwxj17zUf+ON IszQy7eQviODpsFeYVmlxTmuy514PJ1YYQI6U= X-Google-DKIM-Signature: v=1; a=rsa-sha256; c=relaxed/relaxed; d=1e100.net; s=20230601; t=1735258322; x=1735863122; h=references:in-reply-to:cc:to:from:subject:message-id:date :x-gm-message-state:from:to:cc:subject:date:message-id:reply-to; bh=Gza5IoD2QULjHe00ixuNLV6IZMwJ2Y3LX+1QaJpk8TY=; b=fPGfirf8ZqabrAtNRofAsfcZ4MTYEfg69HDqDQgQuh4Cuvwuo2L/pml1KoNauoeoQX RRo7wUtxlkXVMAqyV+Q00ceJ8k2gD6A6AjfH0rRmbhnF9PWNy1bQ2PjgoHvw4E1ArxgE 1/BqPksrq7LTL9qUo2kCnkUNsn8G/JFkal369RoqzmV5ZazhJyPwItBue0AhjiZJc0lx d189i9/tP+TGx6oM6Avr/vnaPv19c4zfWuZDDHdNWzxyE4CTvTGGsP9UTV1cGl+R/wwn zOUPLeCr3VCcRZ6zz110o3QuCVKtjAa5LFaRUtL8NAAVri7FtHyKCEevGHzvRSx/hK6L 3zRQ== X-Gm-Message-State: AOJu0YzoL+EiMru/xA79afADg8MM/xS3GJnKhZm0Irfqf9eqyu5e7wKn 9KlaOwv3oW/0Oae07J/lSjBo3A4p7F5De3DCndkcCCKSqpcIVHaIa2rrTqC8jMjCBLjzAFfUelz YBDBmfqamMnBRa8BOZG5NxJkVC8ELd09z4x+C2du8 X-Gm-Gg: ASbGncsrIaP8cP0u8Ds0grs+bTUP5AIyPGfZOk4d88eE5ESwKEPqCVoX3npw0oPRpqE lZZU1LWkb5BwbZHNikb9WRb56HwZIEwj9dQqGXJnAEMilIPKPrNgXLGfbEZu+I1V+cYnx4q9S1P 5EJ/5AwzP7rtj1MzIIRhArF/bJ3oqZsgj9CEbUbVHu+jV5lqoMGeuH1Lyj+7+ed4eTWsojqE9SH DZJJOKpxp2Ta09B+cHziucU7H3RXBQG8KppfdeaBpvNqPkIwq4ILOVJzke7IpX9gBd0uTqig3Gp uw== X-Google-Smtp-Source: AGHT+IG8pT4IZU9kO3EOVE7B99LGcj191OWDZg9AMH9I9aL0h+BSEnQPwaGX6xgqlS+pw2UYH4HhDQTpUXWJ X-Received: by 2002:a05:6871:42ca:b0:297:683:8b5b with SMTP id 586e51a60fabf-2a7d129a87cmr15962455fac.10.1735258322380; Thu, 26 Dec 2024 16:12:02 -0800 (PST) Received: from postal.iol.unh.edu (postal.iol.unh.edu. [132.177.123.84]) by smtp-relay.gmail.com with ESMTPS id 586e51a60fabf-2a7d74c92d3sm594777fac.14.2024.12.26.16.12.02 (version=TLS1_2 cipher=ECDHE-ECDSA-AES128-GCM-SHA256 bits=128/128); Thu, 26 Dec 2024 16:12:02 -0800 (PST) X-Relaying-Domain: iol.unh.edu Date: Thu, 26 Dec 2024 16:12:02 -0800 (PST) Message-ID: <676df0d2.050a0220.336320.c2a4SMTPIN_ADDED_MISSING@mx.google.com> Received: from [172.21.0.5] (unknown [172.18.0.240]) by postal.iol.unh.edu (Postfix) with ESMTP id D63AC6052471; Thu, 26 Dec 2024 19:12:01 -0500 (EST) Subject: |SUCCESS| pw149494-149495 [PATCH] [2/2] drivers_net: fix void functi From: dpdklab@iol.unh.edu To: Test Report Cc: dpdk-test-reports@iol.unh.edu In-Reply-To: <1735254890-18457-3-git-send-email-andremue@linux.microsoft.com> References: <1735254890-18457-3-git-send-email-andremue@linux.microsoft.com> Content-Type: text/plain X-BeenThere: test-report@dpdk.org X-Mailman-Version: 2.1.29 Precedence: list List-Id: automatic DPDK test reports List-Unsubscribe: , List-Archive: List-Post: List-Help: List-Subscribe: , Errors-To: test-report-bounces@dpdk.org Test-Label: iol-unit-amd64-testing Test-Status: SUCCESS http://dpdk.org/patch/149495 _Testing PASS_ Submitter: Andre Muezerie Date: Thursday, December 26 2024 23:14:50 DPDK git baseline: Repo:dpdk Branch: master CommitID:fd51012de5369679e807be1d6a81d63ef15015ce 149494-149495 --> testing pass Upstream job id: Generic-Unit-Test-DPDK#302200 Test environment and result as below: +---------------------+----------------+ | Environment | dpdk_unit_test | +=====================+================+ | CentOS Stream 9 | PASS | +---------------------+----------------+ | Fedora 41 (Clang) | PASS | +---------------------+----------------+ | Debian Bullseye | PASS | +---------------------+----------------+ | Fedora 40 (Clang) | PASS | +---------------------+----------------+ | Debian 12 | PASS | +---------------------+----------------+ | RHEL8 | PASS | +---------------------+----------------+ | Fedora 40 | PASS | +---------------------+----------------+ | Ubuntu 22.04 | PASS | +---------------------+----------------+ | Ubuntu 20.04 | PASS | +---------------------+----------------+ | RHEL9 | PASS | +---------------------+----------------+ | Fedora 41 | PASS | +---------------------+----------------+ | Ubuntu 24.04 | PASS | +---------------------+----------------+ | Windows Server 2022 | PASS | +---------------------+----------------+ CentOS Stream 9 Kernel: Depends on container host Compiler: gcc 11.5.0 20240719 (Red Hat 11.5.0-2) Fedora 41 (Clang) Kernel: Depends on container host Compiler: clang 19.1.5 (Fedora 19.1.5-1.fc41) Debian Bullseye Kernel: Depends on container host Compiler: gcc (Debian 10.2.1-6) 10.2.1 20210110 Fedora 40 (Clang) Kernel: Depends on container host Compiler: clang 18.1.8 (Fedora 18.1.8-1.fc40) Debian 12 Kernel: Depends on container host Compiler: gcc (Debian 12.2.0-14) 12.2.0 RHEL8 Kernel: Depends on container host Compiler: gcc 8.5.0 20210514 (Red Hat 8.5.0-22) Fedora 40 Kernel: Depends on container host Compiler: gcc 14.2.1 20240912 (Red Hat 14.2.1-3) Ubuntu 22.04 Kernel: Depends on container host Compiler: gcc (Ubuntu 11.4.0-1ubuntu1~22.04) 11.4.0 Ubuntu 20.04 Kernel: Depends on container host Compiler: gcc (Ubuntu 9.4.0-1ubuntu1~20.04.2) 9.4.0 RHEL9 Kernel: Depends on container host Compiler: gcc 11.5.0 20240719 (Red Hat 11.5.0-2) Fedora 41 Kernel: Depends on container host Compiler: gcc 14.2.1 20240912 (Red Hat 14.2.1-3) Ubuntu 24.04 Kernel: Depends on container host Compiler: gcc (Ubuntu 13.3.0-6ubuntu2~24.04) 13.3.0 Windows Server 2022 Kernel: 10.0.20348.2031 Compiler: clang 15.0.7, gcc 14.1.0 (MinGW), and MSVC VS 19.39.33521 To view detailed results, visit: https://lab.dpdk.org/results/dashboard/patchsets/32217/ UNH-IOL DPDK Community Lab To manage your email subscriptions, visit: https://lab.dpdk.org/results/dashboard/preferences/subscriptions/