From mboxrd@z Thu Jan  1 00:00:00 1970
Return-Path: <test-report-bounces@dpdk.org>
Received: from mails.dpdk.org (mails.dpdk.org [217.70.189.124])
	by inbox.dpdk.org (Postfix) with ESMTP id 641CB45F51
	for <public@inbox.dpdk.org>; Fri, 27 Dec 2024 01:13:24 +0100 (CET)
Received: from mails.dpdk.org (localhost [127.0.0.1])
	by mails.dpdk.org (Postfix) with ESMTP id 0205040294;
	Fri, 27 Dec 2024 01:13:24 +0100 (CET)
Received: from mail-pl1-f225.google.com (mail-pl1-f225.google.com
 [209.85.214.225])
 by mails.dpdk.org (Postfix) with ESMTP id 6918840275
 for <test-report@dpdk.org>; Fri, 27 Dec 2024 01:13:22 +0100 (CET)
Received: by mail-pl1-f225.google.com with SMTP id
 d9443c01a7336-21675fd60feso106485745ad.2
 for <test-report@dpdk.org>; Thu, 26 Dec 2024 16:13:22 -0800 (PST)
DKIM-Signature: v=1; a=rsa-sha256; c=relaxed/relaxed;
 d=iol.unh.edu; s=unh-iol; t=1735258401; x=1735863201; darn=dpdk.org;
 h=references:in-reply-to:cc:to:from:subject:message-id:date:from:to
 :cc:subject:date:message-id:reply-to;
 bh=OFGYBcokOU3VVmLXzHccd+qKl+ZRUgshtcriMGXdMOs=;
 b=PiW7rrRPC6iKRbO+LVzs/g/QEWJwXjAt7L+Cbv9trcTHfTsUKohJ4Ri3NoqFsLWJp1
 WKbl4gbJOIbbc6vVyyDv4YVLMyu0yRRGA3N5cjpfnMN7eW5ymeZaU7/+HSYBrCdEbLt1
 MlAgUwcfLP2QhT71XITYsr0ltUO+nB5kXBdPQ=
X-Google-DKIM-Signature: v=1; a=rsa-sha256; c=relaxed/relaxed;
 d=1e100.net; s=20230601; t=1735258401; x=1735863201;
 h=references:in-reply-to:cc:to:from:subject:message-id:date
 :x-gm-message-state:from:to:cc:subject:date:message-id:reply-to;
 bh=OFGYBcokOU3VVmLXzHccd+qKl+ZRUgshtcriMGXdMOs=;
 b=afuK98lLvkL5v9KGv2jWwfsDqUdQikfZRlksffGahqG6qiKM5wgp2Vi8NS1fnkJklF
 GsTWzxwbj6Q+SWfzrQxZ2WqS48JhwuWGEH9Cr7XCNAsHGLEszpRtqcIHse7IdNpz//iJ
 V9Nga/kDzWYeeDSFRQ0DrjNIWZa6aSQYva0Fz5F+zF646PTRZKW1PEGTCghFGJDxrlzS
 USj4wHR2s2vXlTGZiHn+vaCAYGto3UxoC2UNHlcGIvYbKi5vRtSQVjHw9ooIwm5tJ8IX
 CD5wugBlSZ/NlcOEErm2lJJYmI6KR2vCKaKeYiirpabIrGbzdsRSmVZoEnZ0D8BoKyQ5
 HEOw==
X-Gm-Message-State: AOJu0YzUzlC7ko7V11fVquqMenaWtCUpHlwH3C/ycG+7gRBy2grcZGG+
 AhSDnJquftALWmPy9foTr79ntmYRvjfRIhBf5lIm2rQHCdiXPIbazmKeuev9RjvAb6WcI0qHdWa
 6+f/DBwRByBZ9mmfLDHoFZ51bkJJA6rYwMMBMA53Z
X-Gm-Gg: ASbGnct6VXYNwSBdThhYDQ3bT92qxyW/uEowVEoLpX6WrGfIXlzrtuUD9XbTl0iWXea
 mzZowwF1oaEYRdAHztEQv75LVhcy0X3q2s2tdFIxUzQ87V1RvD+u9qyb3orcgqvduV5Jd93bX3C
 OJO5ybZNWtokoT7+B+g6JuPiRRzhR/Pm2qUSzsYNsWT01p3GcAA2WNrVq/50dZqp6/+0VooTUPr
 xgM4vi5U/5SVguzsoYTG8rXF09xJjGkcEAfkWiWSfTy8ZAtvLZrmDc4RKrIKTIj9239tcb8KoJt
 UA==
X-Google-Smtp-Source: AGHT+IFFg6FTonvk8Ru0OGnvFszjxK3SCzfxZqx/0JB15gkHJ6qo1hjwAYIFM6URvLT7Tfmly2D3jtflaMcE
X-Received: by 2002:a17:902:fc84:b0:216:356b:2685 with SMTP id
 d9443c01a7336-219e6e8bb95mr385544215ad.11.1735258401545; 
 Thu, 26 Dec 2024 16:13:21 -0800 (PST)
Received: from postal.iol.unh.edu (postal.iol.unh.edu. [132.177.123.84])
 by smtp-relay.gmail.com with ESMTPS id
 d9443c01a7336-219dca1a59fsm7466885ad.97.2024.12.26.16.13.21
 (version=TLS1_2 cipher=ECDHE-ECDSA-AES128-GCM-SHA256 bits=128/128);
 Thu, 26 Dec 2024 16:13:21 -0800 (PST)
X-Relaying-Domain: iol.unh.edu
Date: Thu, 26 Dec 2024 16:13:21 -0800 (PST)
Message-ID: <676df121.170a0220.d8649.3bddSMTPIN_ADDED_MISSING@mx.google.com>
Received: from [172.21.0.6] (unknown [172.18.0.240])
 by postal.iol.unh.edu (Postfix) with ESMTP id A91336052471;
 Thu, 26 Dec 2024 19:13:20 -0500 (EST)
Subject: |SUCCESS| pw149494-149495 [PATCH] [2/2] drivers_net: fix void functi
From: dpdklab@iol.unh.edu
To: Test Report <test-report@dpdk.org>
Cc: dpdk-test-reports@iol.unh.edu
In-Reply-To: <1735254890-18457-3-git-send-email-andremue@linux.microsoft.com>
References: <1735254890-18457-3-git-send-email-andremue@linux.microsoft.com>
Content-Type: text/plain
X-BeenThere: test-report@dpdk.org
X-Mailman-Version: 2.1.29
Precedence: list
List-Id: automatic DPDK test reports <test-report.dpdk.org>
List-Unsubscribe: <https://mails.dpdk.org/options/test-report>,
 <mailto:test-report-request@dpdk.org?subject=unsubscribe>
List-Archive: <http://mails.dpdk.org/archives/test-report/>
List-Post: <mailto:test-report@dpdk.org>
List-Help: <mailto:test-report-request@dpdk.org?subject=help>
List-Subscribe: <https://mails.dpdk.org/listinfo/test-report>,
 <mailto:test-report-request@dpdk.org?subject=subscribe>
Errors-To: test-report-bounces@dpdk.org

Test-Label: iol-unit-amd64-testing
Test-Status: SUCCESS
http://dpdk.org/patch/149495

_Testing PASS_

Submitter: Andre Muezerie <andremue@linux.microsoft.com>
Date: Thursday, December 26 2024 23:14:50 
DPDK git baseline: Repo:dpdk
  Branch: master
  CommitID:fd51012de5369679e807be1d6a81d63ef15015ce

149494-149495 --> testing pass

Upstream job id: Generic-VM-Unit-Test-DPDK#26722

Test environment and result as below:

+---------------------+----------------+
|     Environment     | dpdk_unit_test |
+=====================+================+
| CentOS Stream 9     | PASS           |
+---------------------+----------------+
| Fedora 41 (Clang)   | PASS           |
+---------------------+----------------+
| Debian Bullseye     | PASS           |
+---------------------+----------------+
| Fedora 40 (Clang)   | PASS           |
+---------------------+----------------+
| Debian 12           | PASS           |
+---------------------+----------------+
| RHEL8               | PASS           |
+---------------------+----------------+
| Fedora 40           | PASS           |
+---------------------+----------------+
| Ubuntu 22.04        | PASS           |
+---------------------+----------------+
| Ubuntu 20.04        | PASS           |
+---------------------+----------------+
| RHEL9               | PASS           |
+---------------------+----------------+
| Fedora 41           | PASS           |
+---------------------+----------------+
| Ubuntu 24.04        | PASS           |
+---------------------+----------------+
| Windows Server 2022 | PASS           |
+---------------------+----------------+


CentOS Stream 9
	Kernel: Depends on container host
	Compiler: gcc 11.5.0 20240719 (Red Hat 11.5.0-2)

Fedora 41 (Clang)
	Kernel: Depends on container host
	Compiler: clang 19.1.5 (Fedora 19.1.5-1.fc41)

Debian Bullseye
	Kernel: Depends on container host
	Compiler: gcc (Debian 10.2.1-6) 10.2.1 20210110

Fedora 40 (Clang)
	Kernel: Depends on container host
	Compiler: clang 18.1.8 (Fedora 18.1.8-1.fc40)

Debian 12
	Kernel: Depends on container host
	Compiler: gcc (Debian 12.2.0-14) 12.2.0

RHEL8
	Kernel: Depends on container host
	Compiler: gcc 8.5.0 20210514 (Red Hat 8.5.0-22)

Fedora 40
	Kernel: Depends on container host
	Compiler: gcc 14.2.1 20240912 (Red Hat 14.2.1-3)

Ubuntu 22.04
	Kernel: Depends on container host
	Compiler: gcc (Ubuntu 11.4.0-1ubuntu1~22.04) 11.4.0

Ubuntu 20.04
	Kernel: Depends on container host
	Compiler: gcc (Ubuntu 9.4.0-1ubuntu1~20.04.2) 9.4.0

RHEL9
	Kernel: Depends on container host
	Compiler: gcc 11.5.0 20240719 (Red Hat 11.5.0-2)

Fedora 41
	Kernel: Depends on container host
	Compiler: gcc 14.2.1 20240912 (Red Hat 14.2.1-3)

Ubuntu 24.04
	Kernel: Depends on container host
	Compiler: gcc (Ubuntu 13.3.0-6ubuntu2~24.04) 13.3.0

Windows Server 2022
	Kernel: 10.0.20348.2031
	Compiler: clang 15.0.7, gcc 14.1.0 (MinGW), and MSVC VS 19.39.33521

To view detailed results, visit:
https://lab.dpdk.org/results/dashboard/patchsets/32217/

UNH-IOL DPDK Community Lab

To manage your email subscriptions, visit: 
https://lab.dpdk.org/results/dashboard/preferences/subscriptions/