From mboxrd@z Thu Jan 1 00:00:00 1970 Return-Path: Received: from mails.dpdk.org (mails.dpdk.org [217.70.189.124]) by inbox.dpdk.org (Postfix) with ESMTP id 68E0145F51 for ; Fri, 27 Dec 2024 01:31:59 +0100 (CET) Received: from mails.dpdk.org (localhost [127.0.0.1]) by mails.dpdk.org (Postfix) with ESMTP id 3BED240294; Fri, 27 Dec 2024 01:31:59 +0100 (CET) Received: from mail-pl1-f226.google.com (mail-pl1-f226.google.com [209.85.214.226]) by mails.dpdk.org (Postfix) with ESMTP id 7A0A940275 for ; Fri, 27 Dec 2024 01:31:57 +0100 (CET) Received: by mail-pl1-f226.google.com with SMTP id d9443c01a7336-2166f1e589cso97640125ad.3 for ; Thu, 26 Dec 2024 16:31:57 -0800 (PST) DKIM-Signature: v=1; a=rsa-sha256; c=relaxed/relaxed; d=iol.unh.edu; s=unh-iol; t=1735259516; x=1735864316; darn=dpdk.org; h=references:in-reply-to:cc:to:from:subject:message-id:date:from:to :cc:subject:date:message-id:reply-to; bh=XVu1cqo/OVBV7IkUQrWqSksnOKmyFlT35lA7bXI6nWY=; b=Wcsl2+VnY9RgLYgqYef7n8wUHNEQ1UywojXzl58SWggQ/J6j2XhdCrHDwSXypigeyU KXOh9ZWEJiTXXhrY45bGPiMHkG1/63uG/3BOo5oW5kmetl4M+pzXG5qH04FpcQO5VDzh ByRW9JZT9/FtaZb3d/DfV6JpFll0sj3WzXiTI= X-Google-DKIM-Signature: v=1; a=rsa-sha256; c=relaxed/relaxed; d=1e100.net; s=20230601; t=1735259516; x=1735864316; h=references:in-reply-to:cc:to:from:subject:message-id:date :x-gm-message-state:from:to:cc:subject:date:message-id:reply-to; bh=XVu1cqo/OVBV7IkUQrWqSksnOKmyFlT35lA7bXI6nWY=; b=P4PEUjNiWcymL3h97TwDszyeTBTsubl60FTbfN/dz/Hj8XpSq8Nyq7MssUfCZ6iT0U lerswA5AZZKxAyR9SqYFmsZDKjoCiPsiUc05AexZxc40RE0K4vLkeltkz2fDMrm/6uqz ovIJddNIjavC1W3tBgwQ4GGEu+jKn2edi8MNME14quWhualIZYXqUz8NOtuurPdtLPcp vrw8vYk2Tvok7DgRsFPL2re960k56rWP9rBPWC5rxrtdNdRE8gxz4qdtKtUdFGWBsL8f BL1r1mA5guJ3wBWdZ1aeKU9GrbwtRMLcRJfE6TOs+cfHenfRrpU/3BApZEM1QmHrVDUp syRw== X-Gm-Message-State: AOJu0Yx7VVZsn2mqjvpGonAelUyMm0a0LEYzeFIs9Mmkoe859lI/Js32 ba0eFEI9aCLbc/tEWN332SBDn/qglSvXRNDDrTxGsw45Rnuhij+rzpxivplLaNzdgkhPGws2bSP isOlcWgkKhYdy3Ys8WEdj7geVaS6/bSDkmmDxCQx0Dcf+yKwa5me/Xhhg X-Gm-Gg: ASbGnctlF1pFNVT82zfSE+pyyuAE/lg3UEFSnPGlhLzf9UkM1I4s6tqYPiUQlY0AfYK /Xly+FP+ez2MJDbwPinNBkc8x/M/MEFK4A2/5e1yNdeZk5ivkog5lYV/D4VEGIWp/ZHBcuaZ9/7 XdsYDK+TjUjkkNvEpW8sVbeWHtoNfOjqBljr3fE2pt4JG+dEPAM5WE/8gknOzqdjfsPOck56zxL euRc4XsxovITttQWCC6RHwGByq8v8BQveNGBtu2cC55Op82zZ4HaJbf7N4gAIzxadMrzmr8wDYL 6MfezA== X-Google-Smtp-Source: AGHT+IH9SzWc/Ujvso7azYBf7G2Zd7fPSwoZbUP9Beb2/6sYro5LdLZ0WRKD4L25dtJc4Rzq8bcThoNlUx7/ X-Received: by 2002:a17:902:db05:b0:216:1543:195e with SMTP id d9443c01a7336-219e6e8c5d1mr329411835ad.5.1735259516497; Thu, 26 Dec 2024 16:31:56 -0800 (PST) Received: from postal.iol.unh.edu (postal.iol.unh.edu. [2606:4100:3880:1234::84]) by smtp-relay.gmail.com with ESMTPS id d9443c01a7336-219dca2dd64sm7533625ad.120.2024.12.26.16.31.56 (version=TLS1_2 cipher=ECDHE-ECDSA-AES128-GCM-SHA256 bits=128/128); Thu, 26 Dec 2024 16:31:56 -0800 (PST) X-Relaying-Domain: iol.unh.edu Date: Thu, 26 Dec 2024 16:31:56 -0800 (PST) Message-ID: <676df57c.170a0220.204715.400dSMTPIN_ADDED_MISSING@mx.google.com> Received: from [172.17.0.4] (unknown [172.18.0.217]) by postal.iol.unh.edu (Postfix) with ESMTP id 8E1A46052471; Thu, 26 Dec 2024 19:31:55 -0500 (EST) Subject: |SUCCESS| pw149494-149495 [PATCH] [2/2] drivers_net: fix void functi From: dpdklab@iol.unh.edu To: Test Report Cc: dpdk-test-reports@iol.unh.edu In-Reply-To: <1735254890-18457-3-git-send-email-andremue@linux.microsoft.com> References: <1735254890-18457-3-git-send-email-andremue@linux.microsoft.com> Content-Type: text/plain X-BeenThere: test-report@dpdk.org X-Mailman-Version: 2.1.29 Precedence: list List-Id: automatic DPDK test reports List-Unsubscribe: , List-Archive: List-Post: List-Help: List-Subscribe: , Errors-To: test-report-bounces@dpdk.org Test-Label: iol-sample-apps-testing Test-Status: SUCCESS http://dpdk.org/patch/149495 _Testing PASS_ Submitter: Andre Muezerie Date: Thursday, December 26 2024 23:14:50 DPDK git baseline: Repo:dpdk Branch: master CommitID:fd51012de5369679e807be1d6a81d63ef15015ce 149494-149495 --> testing pass Upstream job id: Template-DTS-Pipeline#204468 Test environment and result as below: +--------------------+----------------------+----------------------+ | Environment | dpdk_fips_validation | compressdev_zlib_pmd | +====================+======================+======================+ | Ubuntu 20.04 | PASS | SKIPPED | +--------------------+----------------------+----------------------+ | Ubuntu 22.04 (ARM) | SKIPPED | PASS | +--------------------+----------------------+----------------------+ | Ubuntu 22.04 | SKIPPED | PASS | +--------------------+----------------------+----------------------+ Ubuntu 20.04 Kernel: Depends on container host Compiler: gcc (Ubuntu 9.4.0-1ubuntu1~20.04.2) 9.4.0 Ubuntu 22.04 (ARM) Kernel: 5.15.0-97-generic Compiler: gcc gcc (Ubuntu 11.4.0-1ubuntu1~22.04) 11.4.0 Ubuntu 22.04 Kernel: 5.15.0-100-generic Compiler: gcc gcc (Ubuntu 11.4.0-1ubuntu1~22.04) 11.4.0 To view detailed results, visit: https://lab.dpdk.org/results/dashboard/patchsets/32217/ UNH-IOL DPDK Community Lab To manage your email subscriptions, visit: https://lab.dpdk.org/results/dashboard/preferences/subscriptions/