From mboxrd@z Thu Jan 1 00:00:00 1970 Return-Path: Received: from mails.dpdk.org (mails.dpdk.org [217.70.189.124]) by inbox.dpdk.org (Postfix) with ESMTP id F24E745F51 for ; Fri, 27 Dec 2024 01:47:14 +0100 (CET) Received: from mails.dpdk.org (localhost [127.0.0.1]) by mails.dpdk.org (Postfix) with ESMTP id EC94840294; Fri, 27 Dec 2024 01:47:14 +0100 (CET) Received: from mail-ot1-f98.google.com (mail-ot1-f98.google.com [209.85.210.98]) by mails.dpdk.org (Postfix) with ESMTP id EBEFF40275 for ; Fri, 27 Dec 2024 01:47:13 +0100 (CET) Received: by mail-ot1-f98.google.com with SMTP id 46e09a7af769-71e2aa8d5e3so3656108a34.2 for ; Thu, 26 Dec 2024 16:47:13 -0800 (PST) DKIM-Signature: v=1; a=rsa-sha256; c=relaxed/relaxed; d=iol.unh.edu; s=unh-iol; t=1735260433; x=1735865233; darn=dpdk.org; h=references:in-reply-to:cc:to:from:subject:message-id:date:from:to :cc:subject:date:message-id:reply-to; bh=8FLmcNomwzlf3WuFfOB/ZLa4O8kV8/CGprRPI8tbVGI=; b=TdJ94MFX3Qcg/CRw0hBYyEDMJbYEUR4LDUWoOGfdvkAV14+KsBL5DRK+zd1jDkjk7h B0LBfqHDs3WA/6VIkb/b/2LrppJKPNwK85IU083lyJ9tlWn13Sdxpigqmh6wxgNyfy57 FUchDSfcEq9njsU7DCUVQNKsmU/fKHNi5zd0s= X-Google-DKIM-Signature: v=1; a=rsa-sha256; c=relaxed/relaxed; d=1e100.net; s=20230601; t=1735260433; x=1735865233; h=references:in-reply-to:cc:to:from:subject:message-id:date :x-gm-message-state:from:to:cc:subject:date:message-id:reply-to; bh=8FLmcNomwzlf3WuFfOB/ZLa4O8kV8/CGprRPI8tbVGI=; b=XvMrYT1T5m5hmrM9luWgLZr47YLOrphI9DrwyPu8EGQ7yJpC7l/gYKmSTn0BTpySmb Qs1vu78ao8/yO0QyLrUMns9OECyy/mUzQLtU7bU5jITmODVNN+f84Ioh+P74goHmHHQR 7DAN/gDgCf+0fwwNfb+Sg3NzaUbq2SbDaURYegHRraTV7He38bXp1b4lLgusmWZ3Zoku 8yFB8IrsUViU+9Z6y/YxKfjeW/NkNxQUGZXzub4/1/4ckdALBjbFlgaTWdbeGKhlmZqm ICB+LNCRVX5/nlVizxitnzlX0fntdfsTuQDxIJUAu7lJ+Bin6sIe9/JMKm0AoAhRB1zT aRww== X-Gm-Message-State: AOJu0Ywfd47cX2ufkBOkE38goTnEp5y6ccXnb0gSzCSWXsYBCKbrPR6e ioGs1Bg1LhlulKGWVk32oYuxeErgPa2mnLa0y4/WhC5nBcKjs00RYUnNgb3E2tMJ1NNEligrVbe A98HO0lnjFeb4laVx9aXWgUzWn65R//xdi23xniem X-Gm-Gg: ASbGnctik0L/49gajOTy78HOmF64qzX58ExvITPm0SWbxf0RgqP1YpuZZDNauMn5viZ cn3R05emlGOqxk93mJcDAUffyhsRXZ86E16lj60XXTFYpjIbpBOeWyORNFZirPT1wXYuiQNb7x3 k5B+sm1NGVzajj/oR2PRGxfD8mWqmRIxDSENirmz6tB5DOg4h+0BR4tLcTfzBZXtX1zuBBLRlo6 EOJ9viXCuu8ZAoJSuNK5sXN0ttIYNUmqAK96fe8EI7HbtBQHnGkqs+Jz4Yx0473OV6cbUFlR6fZ 3A== X-Google-Smtp-Source: AGHT+IGXY2NvFGIlzpXeX7d2ijuuxHaqTMQxozFI7MrZCGSIY1Z6owQ+HfIoMSS0THjS2Z+TdQL71uEGjd/2 X-Received: by 2002:a05:6870:2f09:b0:29e:3eff:dea with SMTP id 586e51a60fabf-2a7fb00b558mr12748290fac.8.1735260432948; Thu, 26 Dec 2024 16:47:12 -0800 (PST) Received: from postal.iol.unh.edu (postal.iol.unh.edu. [132.177.123.84]) by smtp-relay.gmail.com with ESMTPS id 586e51a60fabf-2a7d74d0006sm519253fac.15.2024.12.26.16.47.12 (version=TLS1_2 cipher=ECDHE-ECDSA-AES128-GCM-SHA256 bits=128/128); Thu, 26 Dec 2024 16:47:12 -0800 (PST) X-Relaying-Domain: iol.unh.edu Date: Thu, 26 Dec 2024 16:47:12 -0800 (PST) Message-ID: <676df910.050a0220.1a132a.60f6SMTPIN_ADDED_MISSING@mx.google.com> Received: from [172.17.0.5] (unknown [172.18.0.217]) by postal.iol.unh.edu (Postfix) with ESMTP id 894BA6052471; Thu, 26 Dec 2024 19:47:12 -0500 (EST) Subject: |WARNING| pw149494-149495 [PATCH] [2/2] drivers_net: fix void functi From: dpdklab@iol.unh.edu To: Test Report Cc: dpdk-test-reports@iol.unh.edu In-Reply-To: <1735254890-18457-3-git-send-email-andremue@linux.microsoft.com> References: <1735254890-18457-3-git-send-email-andremue@linux.microsoft.com> Content-Type: text/plain X-BeenThere: test-report@dpdk.org X-Mailman-Version: 2.1.29 Precedence: list List-Id: automatic DPDK test reports List-Unsubscribe: , List-Archive: List-Post: List-Help: List-Subscribe: , Errors-To: test-report-bounces@dpdk.org Test-Label: iol-compile-amd64-testing Test-Status: WARNING http://dpdk.org/patch/149495 _Testing issues_ Submitter: Andre Muezerie Date: Thursday, December 26 2024 23:14:50 DPDK git baseline: Repo:dpdk Branch: master CommitID:fd51012de5369679e807be1d6a81d63ef15015ce 149494-149495 --> testing issues Upstream job id: Generic-DPDK-Compile-Meson#346907 Test environment and result as below: +---------------------+--------------------+------------------+-------------------+-----------------------+-------------------+----------------------+ | Environment | dpdk_meson_compile | dpdk_compile_ovs | dpdk_compile_spdk | dpdk_win_llvm_compile | dpdk_msvc_compile | dpdk_mingw64_compile | +=====================+====================+==================+===================+=======================+===================+======================+ | CentOS Stream 9 | PASS | PASS | PASS | SKIPPED | SKIPPED | SKIPPED | +---------------------+--------------------+------------------+-------------------+-----------------------+-------------------+----------------------+ | Debian Bullseye | PASS | PASS | PASS | SKIPPED | SKIPPED | SKIPPED | +---------------------+--------------------+------------------+-------------------+-----------------------+-------------------+----------------------+ | Debian 12 | PASS | PASS | PASS | SKIPPED | SKIPPED | SKIPPED | +---------------------+--------------------+------------------+-------------------+-----------------------+-------------------+----------------------+ | Fedora 40 (Clang) | PASS | PASS | PASS | SKIPPED | SKIPPED | SKIPPED | +---------------------+--------------------+------------------+-------------------+-----------------------+-------------------+----------------------+ | Fedora 40 | PASS | PASS | PASS | SKIPPED | SKIPPED | SKIPPED | +---------------------+--------------------+------------------+-------------------+-----------------------+-------------------+----------------------+ | openSUSE Leap 15 | PASS | WARN | SKIPPED | SKIPPED | SKIPPED | SKIPPED | +---------------------+--------------------+------------------+-------------------+-----------------------+-------------------+----------------------+ | Fedora 41 | PASS | PASS | PASS | SKIPPED | SKIPPED | SKIPPED | +---------------------+--------------------+------------------+-------------------+-----------------------+-------------------+----------------------+ | Fedora 41 (Clang) | PASS | PASS | PASS | SKIPPED | SKIPPED | SKIPPED | +---------------------+--------------------+------------------+-------------------+-----------------------+-------------------+----------------------+ | RHEL9 | PASS | PASS | SKIPPED | SKIPPED | SKIPPED | SKIPPED | +---------------------+--------------------+------------------+-------------------+-----------------------+-------------------+----------------------+ | Ubuntu 20.04 | PASS | WARN | SKIPPED | SKIPPED | SKIPPED | SKIPPED | +---------------------+--------------------+------------------+-------------------+-----------------------+-------------------+----------------------+ | Ubuntu 24.04 | PASS | PASS | PASS | SKIPPED | SKIPPED | SKIPPED | +---------------------+--------------------+------------------+-------------------+-----------------------+-------------------+----------------------+ | RHEL8 | PASS | PASS | SKIPPED | SKIPPED | SKIPPED | SKIPPED | +---------------------+--------------------+------------------+-------------------+-----------------------+-------------------+----------------------+ | Ubuntu 22.04 | PASS | PASS | PASS | SKIPPED | SKIPPED | SKIPPED | +---------------------+--------------------+------------------+-------------------+-----------------------+-------------------+----------------------+ | Alpine | PASS | PASS | SKIPPED | SKIPPED | SKIPPED | SKIPPED | +---------------------+--------------------+------------------+-------------------+-----------------------+-------------------+----------------------+ | FreeBSD 13.4 | PASS | SKIPPED | SKIPPED | SKIPPED | SKIPPED | SKIPPED | +---------------------+--------------------+------------------+-------------------+-----------------------+-------------------+----------------------+ | FreeBSD 14.2 | PASS | SKIPPED | SKIPPED | SKIPPED | SKIPPED | SKIPPED | +---------------------+--------------------+------------------+-------------------+-----------------------+-------------------+----------------------+ | Windows Server 2022 | SKIPPED | SKIPPED | SKIPPED | PASS | PASS | PASS | +---------------------+--------------------+------------------+-------------------+-----------------------+-------------------+----------------------+ ==== 20 line log output for Ubuntu 20.04 (dpdk_compile_ovs): ==== --- Failed to get log output --- ==== End log output ==== CentOS Stream 9 Kernel: Depends on container host Compiler: gcc 11.5.0 20240719 (Red Hat 11.5.0-2) Debian Bullseye Kernel: Depends on container host Compiler: gcc (Debian 10.2.1-6) 10.2.1 20210110 Debian 12 Kernel: Depends on container host Compiler: gcc (Debian 12.2.0-14) 12.2.0 Fedora 40 (Clang) Kernel: Depends on container host Compiler: clang 18.1.8 (Fedora 18.1.8-1.fc40) Fedora 40 Kernel: Depends on container host Compiler: gcc 14.2.1 20240912 (Red Hat 14.2.1-3) openSUSE Leap 15 Kernel: Depends on container host Compiler: gcc (SUSE Linux) 7.5.0 Fedora 41 Kernel: Depends on container host Compiler: gcc 14.2.1 20240912 (Red Hat 14.2.1-3) Fedora 41 (Clang) Kernel: Depends on container host Compiler: clang 19.1.5 (Fedora 19.1.5-1.fc41) RHEL9 Kernel: Depends on container host Compiler: gcc 11.5.0 20240719 (Red Hat 11.5.0-2) Ubuntu 20.04 Kernel: Depends on container host Compiler: gcc (Ubuntu 9.4.0-1ubuntu1~20.04.2) 9.4.0 Ubuntu 24.04 Kernel: Depends on container host Compiler: gcc (Ubuntu 13.3.0-6ubuntu2~24.04) 13.3.0 RHEL8 Kernel: Depends on container host Compiler: gcc 8.5.0 20210514 (Red Hat 8.5.0-22) Ubuntu 22.04 Kernel: Depends on container host Compiler: gcc (Ubuntu 11.4.0-1ubuntu1~22.04) 11.4.0 Alpine Kernel: Depends on container host Compiler: gcc (Alpine 14.2.0) 14.2.0 FreeBSD 13.4 Kernel: 13.4-RELEASE-p1 Compiler: clang 18.1.6 FreeBSD 14.2 Kernel: 14.2-RELEASE Compiler: clang 18.1.6 Windows Server 2022 Kernel: 10.0.20348.2031 Compiler: clang 15.0.7, gcc 14.1.0 (MinGW), and MSVC VS 19.39.33521 To view detailed results, visit: https://lab.dpdk.org/results/dashboard/patchsets/32217/ UNH-IOL DPDK Community Lab To manage your email subscriptions, visit: https://lab.dpdk.org/results/dashboard/preferences/subscriptions/