From mboxrd@z Thu Jan 1 00:00:00 1970 Return-Path: Received: from mails.dpdk.org (mails.dpdk.org [217.70.189.124]) by inbox.dpdk.org (Postfix) with ESMTP id 367B445F54 for ; Fri, 27 Dec 2024 06:43:39 +0100 (CET) Received: from mails.dpdk.org (localhost [127.0.0.1]) by mails.dpdk.org (Postfix) with ESMTP id 334ED402A8; Fri, 27 Dec 2024 06:43:39 +0100 (CET) Received: from mail-il1-f226.google.com (mail-il1-f226.google.com [209.85.166.226]) by mails.dpdk.org (Postfix) with ESMTP id 65469402BC for ; Fri, 27 Dec 2024 06:43:34 +0100 (CET) Received: by mail-il1-f226.google.com with SMTP id e9e14a558f8ab-3ad272538e8so30687795ab.1 for ; Thu, 26 Dec 2024 21:43:34 -0800 (PST) DKIM-Signature: v=1; a=rsa-sha256; c=relaxed/relaxed; d=iol.unh.edu; s=unh-iol; t=1735278213; x=1735883013; darn=dpdk.org; h=references:in-reply-to:cc:to:from:subject:message-id:date:from:to :cc:subject:date:message-id:reply-to; bh=6r4eUfYCnrbsrjXXw8XfYqYUt6gMFyFM3lcOTfEy4/Y=; b=Ra9bwQdomdqgO6+78tMLQ9tTuV2oMvc3GHTig7UFL6Wxb+b0Q7R/0vzarRGmBHofPg P//vvO4HbhmMYY+b6jNcDoFnKIVgvg4n5ZV4kBEIX1Cfrklr1KVI1oC7oHNhtgNJ1B8+ QIXdzSc7zgIq6+SDGy2YFzCVeA520karhSQ1o= X-Google-DKIM-Signature: v=1; a=rsa-sha256; c=relaxed/relaxed; d=1e100.net; s=20230601; t=1735278213; x=1735883013; h=references:in-reply-to:cc:to:from:subject:message-id:date :x-gm-message-state:from:to:cc:subject:date:message-id:reply-to; bh=6r4eUfYCnrbsrjXXw8XfYqYUt6gMFyFM3lcOTfEy4/Y=; b=Op1noYwUPlTTSC95vjb2nZ37a/fru7Up7E1iBvawGbFZ6zbHa1i+HGpuq4WaAZSaLV lGskkLeB2OxPP/gbwK3wNuCiCiLy2zC0I35fntRXR0LDdp+tEL8QCAiXYLC0GKRUi4Qy /a3Xf0lMm8mkYnhhd8kgjLfd5DPsSJXb+ma3qydcQ7fwN1UVOV1qqZq/c/esaMC4XMql JLUEAsk0lH773d+eaPkTuw+eCnxLt3mSigQq08vZAbnbushVUoUwn7+G0roujR5KFkeV epwgjThIS9i+sPvcbBWmB8M9mNaoziKawOh5RSRJVSoktke5hmIFnDrG/41Y7orqZkR+ At4A== X-Gm-Message-State: AOJu0YwKjUem5bj/jlg6aZ+zuSS9L2xhN+pAYTLA/QXCOQzldGSN9twd WqovYXJN05FurefnlA50b0AOMfhZxfQSsweUYS3ahayoC/pQJhFsaYClrP6TBLu2ofLq/YdqM3z E8GOWGoobgfBcnH4w/KnSaniaZ4uBIqB8lljr+LaOaWU8kiNjNE1B7Vha X-Gm-Gg: ASbGnctaTCkCRBEokDNZp93lUnU1OSh5a3BmwxTVXah0ntJEK1U72L5OkUVVtDuiPWh 2rJva5GPWHOEuPyY4/Ba92A5AoF2cHq0XK4Ku85XO/QKaTzCoDlSp1Bxq53hw6Jw96sXv7Y6MkJ OjvdHGfwrxwsMUUYhnT4oJzfLXuDYJabzl+0H2ESMVXujSMWakvpBygPrw5NSWLLUmX5c2RQRNq KVyeqi/093nFFOzKdKw8Zk2Xc66Eg9WZlXaPhokYczFJvRUhROu246676sKfUIOViKrG12Mj6wT mTu71w== X-Google-Smtp-Source: AGHT+IEQGh5VFQawXvqj5rUDi2J7k2qErPV/4JBWUfrDLAMDiTMmmqY/B/OSb+m2mpk6wUrV9rNHS3EEFfZq X-Received: by 2002:a05:6e02:1e06:b0:3a7:cff5:16d6 with SMTP id e9e14a558f8ab-3c2fe4458fbmr200575785ab.3.1735278213681; Thu, 26 Dec 2024 21:43:33 -0800 (PST) Received: from postal.iol.unh.edu (postal.iol.unh.edu. [2606:4100:3880:1234::84]) by smtp-relay.gmail.com with ESMTPS id e9e14a558f8ab-3c0e6781a0dsm9735085ab.71.2024.12.26.21.43.33 (version=TLS1_2 cipher=ECDHE-ECDSA-AES128-GCM-SHA256 bits=128/128); Thu, 26 Dec 2024 21:43:33 -0800 (PST) X-Relaying-Domain: iol.unh.edu Date: Thu, 26 Dec 2024 21:43:33 -0800 (PST) Message-ID: <676e3e85.050a0220.509ae.54f0SMTPIN_ADDED_MISSING@mx.google.com> Received: from [172.21.0.5] (unknown [172.18.0.240]) by postal.iol.unh.edu (Postfix) with ESMTP id 320506052471; Fri, 27 Dec 2024 00:43:33 -0500 (EST) Subject: |SUCCESS| pw149496-149498 [PATCH] [3/3] drivers/net: add diagnostics From: dpdklab@iol.unh.edu To: Test Report Cc: dpdk-test-reports@iol.unh.edu In-Reply-To: <1735263196-2809-4-git-send-email-andremue@linux.microsoft.com> References: <1735263196-2809-4-git-send-email-andremue@linux.microsoft.com> Content-Type: text/plain X-BeenThere: test-report@dpdk.org X-Mailman-Version: 2.1.29 Precedence: list List-Id: automatic DPDK test reports List-Unsubscribe: , List-Archive: List-Post: List-Help: List-Subscribe: , Errors-To: test-report-bounces@dpdk.org Test-Label: iol-compile-arm64-testing Test-Status: SUCCESS http://dpdk.org/patch/149498 _Testing PASS_ Submitter: Andre Muezerie Date: Friday, December 27 2024 01:33:16 DPDK git baseline: Repo:dpdk Branch: master CommitID:fd51012de5369679e807be1d6a81d63ef15015ce 149496-149498 --> testing pass Upstream job id: Generic-DPDK-Compile-Meson#346989 Test environment and result as below: +----------------------------------------+--------------------+ | Environment | dpdk_meson_compile | +========================================+====================+ | RHEL9 (ARM) | PASS | +----------------------------------------+--------------------+ | Ubuntu 20.04 ARM GCC Cross Compile | PASS | +----------------------------------------+--------------------+ | Ubuntu 20.04 ARM SVE | PASS | +----------------------------------------+--------------------+ | Debian 12 with MUSDK | PASS | +----------------------------------------+--------------------+ | Fedora 40 (ARM) | PASS | +----------------------------------------+--------------------+ | Fedora 41 (ARM) | PASS | +----------------------------------------+--------------------+ | Fedora 41 (ARM Clang) | PASS | +----------------------------------------+--------------------+ | CentOS Stream 9 (ARM) | PASS | +----------------------------------------+--------------------+ | Ubuntu 24.04 (ARM) | PASS | +----------------------------------------+--------------------+ | Ubuntu 20.04 (ARM) | PASS | +----------------------------------------+--------------------+ | Ubuntu 22.04 (ARM) | PASS | +----------------------------------------+--------------------+ | Debian 11 (Buster) (ARM) | PASS | +----------------------------------------+--------------------+ | Debian 12 (arm) | PASS | +----------------------------------------+--------------------+ | Ubuntu 20.04 ARM Clang Cross Compile | PASS | +----------------------------------------+--------------------+ | Ubuntu 20.04 aarch32 GCC Cross Compile | PASS | +----------------------------------------+--------------------+ | Fedora 40 (ARM Clang) | PASS | +----------------------------------------+--------------------+ RHEL9 (ARM) Kernel: Depends on container host Compiler: gcc 11.5.0 20240719 (Red Hat 11.5.0-2) Ubuntu 20.04 ARM GCC Cross Compile Kernel: Depends on container host Compiler: aarch64-linux-gnu-gcc (Ubuntu 9.4.0-1ubuntu1~20.04.2) 9.4.0 Ubuntu 20.04 ARM SVE Kernel: Depends on container host Compiler: gcc (Ubuntu 10.5.0-1ubuntu1~20.04) 10.5.0 Debian 12 with MUSDK Kernel: Depends on container host Compiler: gcc (Debian 12.2.0-14) 12.2.0 Fedora 40 (ARM) Kernel: Depends on container host Compiler: gcc 14.2.1 20240912 (Red Hat 14.2.1-3) Fedora 41 (ARM) Kernel: Depends on container host Compiler: gcc 14.2.1 20240912 (Red Hat 14.2.1-3) Fedora 41 (ARM Clang) Kernel: Depends on container host Compiler: clang 19.1.5 (Fedora 19.1.5-1.fc41) CentOS Stream 9 (ARM) Kernel: Depends on container host Compiler: gcc 11.5.0 20240719 (Red Hat 11.5.0-2) Ubuntu 24.04 (ARM) Kernel: Depends on container host Compiler: gcc (Ubuntu 13.3.0-6ubuntu2~24.04) 13.3.0 Ubuntu 20.04 (ARM) Kernel: Depends on container host Compiler: gcc (Ubuntu 9.4.0-1ubuntu1~20.04.2) 9.4.0 Ubuntu 22.04 (ARM) Kernel: Depends on container host Compiler: gcc (Ubuntu 11.4.0-1ubuntu1~22.04) 11.4.0 Debian 11 (Buster) (ARM) Kernel: Depends on container host Compiler: gcc (Debian 10.2.1-6) 10.2.1 20210110 Debian 12 (arm) Kernel: Depends on container host Compiler: gcc (Debian 12.2.0-14) 12.2.0 Ubuntu 20.04 ARM Clang Cross Compile Kernel: Depends on container host Compiler: clang 10.0.0-4ubuntu1 Ubuntu 20.04 aarch32 GCC Cross Compile Kernel: Depends on container host Compiler: gcc 9.4.0 Fedora 40 (ARM Clang) Kernel: Depends on container host Compiler: clang 18.1.8 (Fedora 18.1.8-1.fc40) To view detailed results, visit: https://lab.dpdk.org/results/dashboard/patchsets/32218/ UNH-IOL DPDK Community Lab To manage your email subscriptions, visit: https://lab.dpdk.org/results/dashboard/preferences/subscriptions/