From mboxrd@z Thu Jan 1 00:00:00 1970 Return-Path: Received: from mails.dpdk.org (mails.dpdk.org [217.70.189.124]) by inbox.dpdk.org (Postfix) with ESMTP id F118B45F59 for ; Fri, 27 Dec 2024 18:19:48 +0100 (CET) Received: from mails.dpdk.org (localhost [127.0.0.1]) by mails.dpdk.org (Postfix) with ESMTP id EBF814021F; Fri, 27 Dec 2024 18:19:48 +0100 (CET) Received: from mail-pl1-f227.google.com (mail-pl1-f227.google.com [209.85.214.227]) by mails.dpdk.org (Postfix) with ESMTP id 8FD6840144 for ; Fri, 27 Dec 2024 18:19:47 +0100 (CET) Received: by mail-pl1-f227.google.com with SMTP id d9443c01a7336-21a1e6fd923so23588315ad.1 for ; Fri, 27 Dec 2024 09:19:47 -0800 (PST) DKIM-Signature: v=1; a=rsa-sha256; c=relaxed/relaxed; d=iol.unh.edu; s=unh-iol; t=1735319987; x=1735924787; darn=dpdk.org; h=references:in-reply-to:cc:to:from:subject:message-id:date:from:to :cc:subject:date:message-id:reply-to; bh=XAFHnzhyszgtVb6lxgNtYupiyHJq2Uu4DJ7M+OE07aA=; b=b/prrZcz0MzGV/VaCaftLXODr2cosU7y9yO4o1rkRKnGQanb2gKoQA8shlVBUqmqZ7 xj2kqdMRJn5E8i0vxTz/yJjBVI+xAmj+Jy+3dGiBh3rOR755d59dBT/GzQ8zWurGFIB6 ivN+wIx7mpWXHdTVfi9/EXHWOu6NyR57Xjl6w= X-Google-DKIM-Signature: v=1; a=rsa-sha256; c=relaxed/relaxed; d=1e100.net; s=20230601; t=1735319987; x=1735924787; h=references:in-reply-to:cc:to:from:subject:message-id:date :x-gm-message-state:from:to:cc:subject:date:message-id:reply-to; bh=XAFHnzhyszgtVb6lxgNtYupiyHJq2Uu4DJ7M+OE07aA=; b=MqAC/OEx3oYg01KJuGGNt9GHP4ptcbTVCb+xCoQx0lMX270n19wl/m1IRCXvcLy5sk hNqF+r12ZwSzvpTZfSdzZ509SOxjhoqosBJwjYc08iDGt9QDTKSnMujRru5WJk5IL2oL lx+UADKvu5u2atCoQzdjyrp92HcQdIgPe821DhiUxO5Z4x9pPyC3nSRPY4Nb0ph3feFZ owk1lcyK9GI7iOrFPgVVesJeVibihap0cGbNVH5KjVqnVC+c87GT0vW/VJDNfnJMArec FszKRE1YSU+KYEoNVlHa73nMUBZ1On5H6dxkn7QrVsiY9g3K9DYFXpKiPv55WupVjnXJ x+aA== X-Gm-Message-State: AOJu0YygqGFiOTT32NCEfqqg8b7ORsFMBS0A30PH65KwDgsM/o7E8ce4 +gmVxfkWy3VNugYW0CJSbpUjTElk5M3knjkkUcwRWDBWiBcRpftWkOgWSxpDoqTx1iEvC2rGbqc 5d/kXzRSNaPYG/TgXKhrIZ+yS4o0Vc8yVozMrrTDt7oSMFy21muqB0F7e X-Gm-Gg: ASbGnctr1an8pR6hT6yDzAv+5dept6Ytj1/nBESD6GYvVQiKnQzV5rL+TA6UsexdX5/ glikICICNtqZIByKpQUIDiBHpRpi+fidUpTlrZ8GDY8wDSw4l4Qig9YowW9nDhJoawE7LWshuGc JnV6MzuMiei2pZWGuB9pK7zMAdfmX4ckaQh2B2kTfMMYPmb6p/5bIlHei7adhEJ2xQdJbmKLYrE 6juTtk59DEcJC5HusbykY46RWixnNdk29te/21dUYFpdjgpCZIUrqUR6yHz0TRSvNK2RtO1tx+i OnCLHA== X-Google-Smtp-Source: AGHT+IGmawT1yULQqof+DLqZxhp72wVIfLxMqSRYyIJdwN14yiQsMUCnAOugUjusGvoHEKQP8HmCDHqCLWDc X-Received: by 2002:a17:90b:2dc1:b0:2ea:8d1e:a85f with SMTP id 98e67ed59e1d1-2f452e4963bmr43038596a91.17.1735319986677; Fri, 27 Dec 2024 09:19:46 -0800 (PST) Received: from postal.iol.unh.edu (postal.iol.unh.edu. [2606:4100:3880:1234::84]) by smtp-relay.gmail.com with ESMTPS id 98e67ed59e1d1-2f2eda1d6ecsm1140864a91.9.2024.12.27.09.19.46 (version=TLS1_2 cipher=ECDHE-ECDSA-AES128-GCM-SHA256 bits=128/128); Fri, 27 Dec 2024 09:19:46 -0800 (PST) X-Relaying-Domain: iol.unh.edu Date: Fri, 27 Dec 2024 09:19:46 -0800 (PST) Message-ID: <676ee1b2.170a0220.915e3.a4b8SMTPIN_ADDED_MISSING@mx.google.com> Received: from [172.21.0.5] (unknown [172.18.0.240]) by postal.iol.unh.edu (Postfix) with ESMTP id D7C5A6052471; Fri, 27 Dec 2024 12:19:45 -0500 (EST) Subject: |SUCCESS| pw149499 [PATCH] lib/eventdev: use correct format string f From: dpdklab@iol.unh.edu To: Test Report Cc: dpdk-test-reports@iol.unh.edu In-Reply-To: <1735316285-16478-1-git-send-email-andremue@linux.microsoft.com> References: <1735316285-16478-1-git-send-email-andremue@linux.microsoft.com> Content-Type: text/plain X-BeenThere: test-report@dpdk.org X-Mailman-Version: 2.1.29 Precedence: list List-Id: automatic DPDK test reports List-Unsubscribe: , List-Archive: List-Post: List-Help: List-Subscribe: , Errors-To: test-report-bounces@dpdk.org Test-Label: iol-unit-amd64-testing Test-Status: SUCCESS http://dpdk.org/patch/149499 _Testing PASS_ Submitter: Andre Muezerie Date: Friday, December 27 2024 16:18:05 DPDK git baseline: Repo:dpdk Branch: master CommitID:1b3bf1128d9bda5595861814792f74b8f57160c8 149499 --> testing pass Upstream job id: Generic-Unit-Test-DPDK#302343 Test environment and result as below: +---------------------+----------------+ | Environment | dpdk_unit_test | +=====================+================+ | Debian Bullseye | PASS | +---------------------+----------------+ | CentOS Stream 9 | PASS | +---------------------+----------------+ | Fedora 41 | PASS | +---------------------+----------------+ | Debian 12 | PASS | +---------------------+----------------+ | Fedora 40 (Clang) | PASS | +---------------------+----------------+ | RHEL8 | PASS | +---------------------+----------------+ | Fedora 41 (Clang) | PASS | +---------------------+----------------+ | Ubuntu 22.04 | PASS | +---------------------+----------------+ | Fedora 40 | PASS | +---------------------+----------------+ | Ubuntu 20.04 | PASS | +---------------------+----------------+ | RHEL9 | PASS | +---------------------+----------------+ | Ubuntu 24.04 | PASS | +---------------------+----------------+ | Windows Server 2022 | PASS | +---------------------+----------------+ Debian Bullseye Kernel: Depends on container host Compiler: gcc (Debian 10.2.1-6) 10.2.1 20210110 CentOS Stream 9 Kernel: Depends on container host Compiler: gcc 11.5.0 20240719 (Red Hat 11.5.0-2) Fedora 41 Kernel: Depends on container host Compiler: gcc 14.2.1 20240912 (Red Hat 14.2.1-3) Debian 12 Kernel: Depends on container host Compiler: gcc (Debian 12.2.0-14) 12.2.0 Fedora 40 (Clang) Kernel: Depends on container host Compiler: clang 18.1.8 (Fedora 18.1.8-1.fc40) RHEL8 Kernel: Depends on container host Compiler: gcc 8.5.0 20210514 (Red Hat 8.5.0-22) Fedora 41 (Clang) Kernel: Depends on container host Compiler: clang 19.1.5 (Fedora 19.1.5-1.fc41) Ubuntu 22.04 Kernel: Depends on container host Compiler: gcc (Ubuntu 11.4.0-1ubuntu1~22.04) 11.4.0 Fedora 40 Kernel: Depends on container host Compiler: gcc 14.2.1 20240912 (Red Hat 14.2.1-3) Ubuntu 20.04 Kernel: Depends on container host Compiler: gcc (Ubuntu 9.4.0-1ubuntu1~20.04.2) 9.4.0 RHEL9 Kernel: Depends on container host Compiler: gcc 11.5.0 20240719 (Red Hat 11.5.0-2) Ubuntu 24.04 Kernel: Depends on container host Compiler: gcc (Ubuntu 13.3.0-6ubuntu2~24.04) 13.3.0 Windows Server 2022 Kernel: 10.0.20348.2031 Compiler: clang 15.0.7, gcc 14.1.0 (MinGW), and MSVC VS 19.39.33521 To view detailed results, visit: https://lab.dpdk.org/results/dashboard/patchsets/32219/ UNH-IOL DPDK Community Lab To manage your email subscriptions, visit: https://lab.dpdk.org/results/dashboard/preferences/subscriptions/