From mboxrd@z Thu Jan 1 00:00:00 1970 Return-Path: Received: from mails.dpdk.org (mails.dpdk.org [217.70.189.124]) by inbox.dpdk.org (Postfix) with ESMTP id 1F19C45F5B for ; Fri, 27 Dec 2024 21:54:36 +0100 (CET) Received: from mails.dpdk.org (localhost [127.0.0.1]) by mails.dpdk.org (Postfix) with ESMTP id F0E824021F; Fri, 27 Dec 2024 21:54:35 +0100 (CET) Received: from mail-pl1-f228.google.com (mail-pl1-f228.google.com [209.85.214.228]) by mails.dpdk.org (Postfix) with ESMTP id A37BA40144 for ; Fri, 27 Dec 2024 21:54:34 +0100 (CET) Received: by mail-pl1-f228.google.com with SMTP id d9443c01a7336-21675fd60feso122419015ad.2 for ; Fri, 27 Dec 2024 12:54:34 -0800 (PST) DKIM-Signature: v=1; a=rsa-sha256; c=relaxed/relaxed; d=iol.unh.edu; s=unh-iol; t=1735332874; x=1735937674; darn=dpdk.org; h=references:in-reply-to:cc:to:from:subject:message-id:date:from:to :cc:subject:date:message-id:reply-to; bh=8doVLd/lyLlO9XVmqu6BitT7tl9KWv/QhBjFo3IlIyE=; b=K/P5aJq2lYHQoiG17gKOmjqzMkA96n1yjsc60z6mhr9Zbwevo9fkCSWJRscvvyboTc kaLYtNYbGg62zOpU0XhA+AWkGbaxp163SgR7pwhqHJDUd8jveRFWIaEZ9n0Gd7PLvXVQ IH5gla7cc6QfMnCBMX5rIvNxwzysVgfo93uyE= X-Google-DKIM-Signature: v=1; a=rsa-sha256; c=relaxed/relaxed; d=1e100.net; s=20230601; t=1735332874; x=1735937674; h=references:in-reply-to:cc:to:from:subject:message-id:date :x-gm-message-state:from:to:cc:subject:date:message-id:reply-to; bh=8doVLd/lyLlO9XVmqu6BitT7tl9KWv/QhBjFo3IlIyE=; b=trfxRS6kBHo7wIWflKpmgtVkVwC6mDGl6NdeaN1ZvXZB57fXVTqzWoXbRIakbjDqfn Vp/0KLcQiRosf92/7XaSA+Lz5f9ZCh19dgL5o6yatYWaT7RHIBOwcIMHVGdLvTwnOzhp pKvDLrDWVuzpRBshB0fQvoPThLeYHPZ6GIw1nkH4R3c3v2tiqBCleCF8dV07W/x89EKJ GeaHDtvOOPU6uN6JUYT8Ta6qyykIyCadjJnU+OolYehXZte7wHO5KHsdLCpHx/RkJtbQ iS6sA1ik1eyHDfwJ5qAfiV3UBFGtN1uo0nfqy0meNEsXTl8MVctheM75jaDQPTczkIlz pGdQ== X-Gm-Message-State: AOJu0YyN33Og/iYmBVrPyAYZSyxYOXvc+w+BDvSU8+dmQqVc2cPg8Ay6 m9mP7dG7HNtUxKxN2+As3bweaMnZNtLbujnnyrbsDr7SRQ08M2rupFA+qLEAGWWvxliU4USio7x +kNr0X/ZgYqTEMkn8h66P9K9B5+JpuKN2MijD3lcEde47LuICLzO+XzZ4 X-Gm-Gg: ASbGncuCwa6Pn78+36Dg6JNCx0S4jPr6j8lORJC78mMPoyN+Gsbfk1wu+shyVXoO1P/ 1C9Zt/74KVt9+0qf/bD/+FLAMQgZVoSnI20ErffMTT0UIRE+3a83mu8pTVCtQmYnWV3YrBPOy5u yuwKFiHFLrqtmqOhXIbFUN5RqkbgYCSCpNpkCi8zFrbNz8ucqd4/l5GNKVroIhoCikuxHJgOzQ+ mHjGTS8MLRdRupUGVHQMGudJHkOBF+t+oZ4e/nRnTlJAN3ot7hWPzu1v/FpbRPRm0ymYWmDghXZ XuOMOg== X-Google-Smtp-Source: AGHT+IF5IJAFNAba5rAmQKRxI/J+YIKA/VZZsVr3U1lDzkITDcOMTVV9nlaahDmjyLNBpoxHv0VnmPvyITB5 X-Received: by 2002:a17:902:c406:b0:219:cdf1:a0b8 with SMTP id d9443c01a7336-219e6ebb28dmr410042645ad.30.1735332873763; Fri, 27 Dec 2024 12:54:33 -0800 (PST) Received: from postal.iol.unh.edu (postal.iol.unh.edu. [2606:4100:3880:1234::84]) by smtp-relay.gmail.com with ESMTPS id d9443c01a7336-219dc999ff9sm8099715ad.31.2024.12.27.12.54.33 (version=TLS1_2 cipher=ECDHE-ECDSA-AES128-GCM-SHA256 bits=128/128); Fri, 27 Dec 2024 12:54:33 -0800 (PST) X-Relaying-Domain: iol.unh.edu Date: Fri, 27 Dec 2024 12:54:33 -0800 (PST) Message-ID: <676f1409.170a0220.1efe8d.9cdbSMTPIN_ADDED_MISSING@mx.google.com> Received: from [172.21.0.7] (unknown [172.18.0.240]) by postal.iol.unh.edu (Postfix) with ESMTP id DC3C96052471; Fri, 27 Dec 2024 15:54:32 -0500 (EST) Subject: |SUCCESS| pw149500 [PATCH] drivers/net: use intrinsic to access cont From: dpdklab@iol.unh.edu To: Test Report Cc: dpdk-test-reports@iol.unh.edu In-Reply-To: <1735328684-10684-1-git-send-email-andremue@linux.microsoft.com> References: <1735328684-10684-1-git-send-email-andremue@linux.microsoft.com> Content-Type: text/plain X-BeenThere: test-report@dpdk.org X-Mailman-Version: 2.1.29 Precedence: list List-Id: automatic DPDK test reports List-Unsubscribe: , List-Archive: List-Post: List-Help: List-Subscribe: , Errors-To: test-report-bounces@dpdk.org Test-Label: iol-unit-arm64-testing Test-Status: SUCCESS http://dpdk.org/patch/149500 _Testing PASS_ Submitter: Andre Muezerie Date: Friday, December 27 2024 19:44:44 DPDK git baseline: Repo:dpdk Branch: master CommitID:fd51012de5369679e807be1d6a81d63ef15015ce 149500 --> testing pass Upstream job id: Generic-Unit-Test-DPDK#302374 Test environment and result as below: +-----------------------------+--------------+----------------+---------------------------+------------------------------+ | Environment | lpm_autotest | dpdk_unit_test | cryptodev_sw_zuc_autotest | cryptodev_sw_snow3g_autotest | +=============================+==============+================+===========================+==============================+ | Ubuntu 20.04 ARM SVE | PASS | SKIPPED | SKIPPED | SKIPPED | +-----------------------------+--------------+----------------+---------------------------+------------------------------+ | CentOS Stream 9 (ARM) | SKIPPED | PASS | SKIPPED | SKIPPED | +-----------------------------+--------------+----------------+---------------------------+------------------------------+ | Debian 12 (arm) | SKIPPED | PASS | PASS | PASS | +-----------------------------+--------------+----------------+---------------------------+------------------------------+ | Fedora 40 (ARM) | SKIPPED | PASS | SKIPPED | SKIPPED | +-----------------------------+--------------+----------------+---------------------------+------------------------------+ | Debian 11 (Buster) (ARM) | SKIPPED | PASS | SKIPPED | SKIPPED | +-----------------------------+--------------+----------------+---------------------------+------------------------------+ | Fedora 41 (ARM) | SKIPPED | PASS | SKIPPED | SKIPPED | +-----------------------------+--------------+----------------+---------------------------+------------------------------+ | Ubuntu 20.04 (ARM) | SKIPPED | PASS | SKIPPED | SKIPPED | +-----------------------------+--------------+----------------+---------------------------+------------------------------+ | Fedora 41 (ARM Clang) | SKIPPED | PASS | SKIPPED | SKIPPED | +-----------------------------+--------------+----------------+---------------------------+------------------------------+ | RHEL9 (ARM) | SKIPPED | PASS | SKIPPED | SKIPPED | +-----------------------------+--------------+----------------+---------------------------+------------------------------+ | Ubuntu 24.04 (ARM) | SKIPPED | PASS | SKIPPED | SKIPPED | +-----------------------------+--------------+----------------+---------------------------+------------------------------+ | Ubuntu 22.04 (ARM) | SKIPPED | PASS | SKIPPED | SKIPPED | +-----------------------------+--------------+----------------+---------------------------+------------------------------+ | 32-bit Ubuntu 22.04.4 (ARM) | SKIPPED | PASS | SKIPPED | SKIPPED | +-----------------------------+--------------+----------------+---------------------------+------------------------------+ Ubuntu 20.04 ARM SVE Kernel: Depends on container host Compiler: gcc (Ubuntu 10.5.0-1ubuntu1~20.04) 10.5.0 CentOS Stream 9 (ARM) Kernel: Depends on container host Compiler: gcc 11.5.0 20240719 (Red Hat 11.5.0-2) Debian 12 (arm) Kernel: Depends on container host Compiler: gcc (Debian 12.2.0-14) 12.2.0 Fedora 40 (ARM) Kernel: Depends on container host Compiler: gcc 14.2.1 20240912 (Red Hat 14.2.1-3) Debian 11 (Buster) (ARM) Kernel: Depends on container host Compiler: gcc (Debian 10.2.1-6) 10.2.1 20210110 Fedora 41 (ARM) Kernel: Depends on container host Compiler: gcc 14.2.1 20240912 (Red Hat 14.2.1-3) Ubuntu 20.04 (ARM) Kernel: Depends on container host Compiler: gcc (Ubuntu 9.4.0-1ubuntu1~20.04.2) 9.4.0 Fedora 41 (ARM Clang) Kernel: Depends on container host Compiler: clang 19.1.5 (Fedora 19.1.5-1.fc41) RHEL9 (ARM) Kernel: Depends on container host Compiler: gcc 11.5.0 20240719 (Red Hat 11.5.0-2) Ubuntu 24.04 (ARM) Kernel: Depends on container host Compiler: gcc (Ubuntu 13.3.0-6ubuntu2~24.04) 13.3.0 Ubuntu 22.04 (ARM) Kernel: Depends on container host Compiler: gcc (Ubuntu 11.4.0-1ubuntu1~22.04) 11.4.0 32-bit Ubuntu 22.04.4 (ARM) Kernel: 5.15.83+ aarch64 Compiler: gcc (Ubuntu 11.4.0-1ubuntu1~22.04) 11.4.0 To view detailed results, visit: https://lab.dpdk.org/results/dashboard/patchsets/32220/ UNH-IOL DPDK Community Lab To manage your email subscriptions, visit: https://lab.dpdk.org/results/dashboard/preferences/subscriptions/