From mboxrd@z Thu Jan 1 00:00:00 1970 Return-Path: Received: from mails.dpdk.org (mails.dpdk.org [217.70.189.124]) by inbox.dpdk.org (Postfix) with ESMTP id 8C67C45F5B for ; Fri, 27 Dec 2024 21:58:45 +0100 (CET) Received: from mails.dpdk.org (localhost [127.0.0.1]) by mails.dpdk.org (Postfix) with ESMTP id 645414021F; Fri, 27 Dec 2024 21:58:45 +0100 (CET) Received: from mail-pl1-f228.google.com (mail-pl1-f228.google.com [209.85.214.228]) by mails.dpdk.org (Postfix) with ESMTP id BF23A40144 for ; Fri, 27 Dec 2024 21:58:43 +0100 (CET) Received: by mail-pl1-f228.google.com with SMTP id d9443c01a7336-2156e078563so83110835ad.2 for ; Fri, 27 Dec 2024 12:58:43 -0800 (PST) DKIM-Signature: v=1; a=rsa-sha256; c=relaxed/relaxed; d=iol.unh.edu; s=unh-iol; t=1735333123; x=1735937923; darn=dpdk.org; h=references:in-reply-to:cc:to:from:subject:message-id:date:from:to :cc:subject:date:message-id:reply-to; bh=b6/ZbCqRaN8MKlMqZVyzewDr7/Ixteorb206NfL+tWc=; b=SJv+5K/CKxv1bdIWsGVLhs3byrANic7YDAUC3LAvzs7dA84GkejZoh6ax5PJ5Tab8w kTB7YLaw3dNaTFvuCoPKv4uNBn4Sy/yFW4gMR+DaVDywREYdJRuK+j2mOOFIPKPe4lyZ vOF73Bj78A19j+xePR1nWCTRbwZr+gP+9/lDM= X-Google-DKIM-Signature: v=1; a=rsa-sha256; c=relaxed/relaxed; d=1e100.net; s=20230601; t=1735333123; x=1735937923; h=references:in-reply-to:cc:to:from:subject:message-id:date :x-gm-message-state:from:to:cc:subject:date:message-id:reply-to; bh=b6/ZbCqRaN8MKlMqZVyzewDr7/Ixteorb206NfL+tWc=; b=kYIn/KwrnC57t6k2OufhwQymzyOq45DtWnh8Y8HEeEpR0GYc5kD4T8aWJ+YGUuhTNu VJdGxK6ojXD5P0d05wt1dLYC4XiKuBVa7RLNMRwzmyXJ6/XvktdqMRZw1lzPPncZXSFb uFdfg3NkThWN2SF0mN1jU9iE2GwtUwxp6kpVdTVjsfRP7W/D6flT5lrxc5v3HnddKAos gLiDmlkxYJibb8NdeJmlxYzetTszRISX0lc8XnZc0+d5FWnKbre/8g6OTS6gFIuSE8rM weX40ocb6vCKLm3jjnCgrwBWjGt2sFMzl/lMbUj8FStmWfZqKWcorsJPUTiS6lDzOl8j XSQg== X-Gm-Message-State: AOJu0YyhsEcPTW0iQgIDKjBNno7z1XwBAuzlvPm8UpgjnrjPvX+Kxdox HoqyeJ40YkFsGpAA+2SfQuzYa/7G/ILnKoSisKZ4Xz7V4c2FzeVwhCQfeC0eS3u131Zaiz2uxsK d1Gaf2FX2KjIsLV9ZHj82e7h3wmbxiuwd17Zyvn5O X-Gm-Gg: ASbGncsO4MQTB0ObVnlIK0ISCJNSBBNph0JvSSt8/Qm/Gjz+zZaaP6rQNLhZdEw3T0G ai1r4ES6hduoBwEWftvjzuJ4fhXwNDvbtMg8XCrw980VIWYPTVQg4ZMDKqdqJoMyr+87WYObBHa nQsyJXlhXb8ph3LrFi2rRIqqwcEHwE+fUWgNwvPh+M+tEHdF7tDNU0LRj+sGBuyGUJr7OXpZtDY wtF+1sxBppedhSMcwMDQ+xT8Fkcl9XbWLFweGvhvXxfLGIE5/TJjzZQWya4EBJ55iWuIPPJVNZa uA== X-Google-Smtp-Source: AGHT+IFVKNSnZ0fDNvNeIqBBaDDVZjeckotLkVsGSBSlamh+QPhMYdIhcb9XoJ2eKyQDJqIaiHpCqdy+E9Rw X-Received: by 2002:a17:902:fc44:b0:218:a5a8:431a with SMTP id d9443c01a7336-219e6f26013mr434808565ad.49.1735333122958; Fri, 27 Dec 2024 12:58:42 -0800 (PST) Received: from postal.iol.unh.edu (postal.iol.unh.edu. [132.177.123.84]) by smtp-relay.gmail.com with ESMTPS id d9443c01a7336-219dca3171csm8429145ad.126.2024.12.27.12.58.42 (version=TLS1_2 cipher=ECDHE-ECDSA-AES128-GCM-SHA256 bits=128/128); Fri, 27 Dec 2024 12:58:42 -0800 (PST) X-Relaying-Domain: iol.unh.edu Date: Fri, 27 Dec 2024 12:58:42 -0800 (PST) Message-ID: <676f1502.170a0220.1c0097.983fSMTPIN_ADDED_MISSING@mx.google.com> Received: from [172.17.0.4] (unknown [172.18.0.217]) by postal.iol.unh.edu (Postfix) with ESMTP id 0C7DC6052471; Fri, 27 Dec 2024 15:58:42 -0500 (EST) Subject: |SUCCESS| pw149500 [PATCH] drivers/net: use intrinsic to access cont From: dpdklab@iol.unh.edu To: Test Report Cc: dpdk-test-reports@iol.unh.edu In-Reply-To: <1735328684-10684-1-git-send-email-andremue@linux.microsoft.com> References: <1735328684-10684-1-git-send-email-andremue@linux.microsoft.com> Content-Type: text/plain X-BeenThere: test-report@dpdk.org X-Mailman-Version: 2.1.29 Precedence: list List-Id: automatic DPDK test reports List-Unsubscribe: , List-Archive: List-Post: List-Help: List-Subscribe: , Errors-To: test-report-bounces@dpdk.org Test-Label: iol-sample-apps-testing Test-Status: SUCCESS http://dpdk.org/patch/149500 _Testing PASS_ Submitter: Andre Muezerie Date: Friday, December 27 2024 19:44:44 DPDK git baseline: Repo:dpdk Branch: master CommitID:fd51012de5369679e807be1d6a81d63ef15015ce 149500 --> testing pass Upstream job id: Template-DTS-Pipeline#204579 Test environment and result as below: +--------------------+----------------------+----------------------+ | Environment | dpdk_fips_validation | compressdev_zlib_pmd | +====================+======================+======================+ | Ubuntu 20.04 | PASS | SKIPPED | +--------------------+----------------------+----------------------+ | Ubuntu 22.04 (ARM) | SKIPPED | PASS | +--------------------+----------------------+----------------------+ | Ubuntu 22.04 | SKIPPED | PASS | +--------------------+----------------------+----------------------+ Ubuntu 20.04 Kernel: Depends on container host Compiler: gcc (Ubuntu 9.4.0-1ubuntu1~20.04.2) 9.4.0 Ubuntu 22.04 (ARM) Kernel: 5.15.0-97-generic Compiler: gcc gcc (Ubuntu 11.4.0-1ubuntu1~22.04) 11.4.0 Ubuntu 22.04 Kernel: 5.15.0-100-generic Compiler: gcc gcc (Ubuntu 11.4.0-1ubuntu1~22.04) 11.4.0 To view detailed results, visit: https://lab.dpdk.org/results/dashboard/patchsets/32220/ UNH-IOL DPDK Community Lab To manage your email subscriptions, visit: https://lab.dpdk.org/results/dashboard/preferences/subscriptions/