From mboxrd@z Thu Jan 1 00:00:00 1970 Return-Path: Received: from mails.dpdk.org (mails.dpdk.org [217.70.189.124]) by inbox.dpdk.org (Postfix) with ESMTP id 7EBCC45F5C for ; Fri, 27 Dec 2024 22:18:48 +0100 (CET) Received: from mails.dpdk.org (localhost [127.0.0.1]) by mails.dpdk.org (Postfix) with ESMTP id 5542A4021F; Fri, 27 Dec 2024 22:18:48 +0100 (CET) Received: from mail-qv1-f97.google.com (mail-qv1-f97.google.com [209.85.219.97]) by mails.dpdk.org (Postfix) with ESMTP id CD95740144 for ; Fri, 27 Dec 2024 22:18:47 +0100 (CET) Received: by mail-qv1-f97.google.com with SMTP id 6a1803df08f44-6d88cb85987so62182786d6.1 for ; Fri, 27 Dec 2024 13:18:47 -0800 (PST) DKIM-Signature: v=1; a=rsa-sha256; c=relaxed/relaxed; d=iol.unh.edu; s=unh-iol; t=1735334327; x=1735939127; darn=dpdk.org; h=references:in-reply-to:cc:to:from:subject:message-id:date:from:to :cc:subject:date:message-id:reply-to; bh=l4HN6ZgOFAFm0NWIrNLSzsFUfNpIQjNTPo0bP9BLdbA=; b=QurjmBJXIvvIP+1Og1MOPZddsAWUy5bL4CoS/Hm7qmO5M+8EB0KkwtxLz7RydCwS+l e3CajLkk7NSHriKa92ULrSx8U8+Cdf6b6ZjAan7aCOVmAhelwNsHkdgK4t2JH9sA43QU R17FZY9haJaXGhEVw/Kipyjjf9FuunWMo54Ig= X-Google-DKIM-Signature: v=1; a=rsa-sha256; c=relaxed/relaxed; d=1e100.net; s=20230601; t=1735334327; x=1735939127; h=references:in-reply-to:cc:to:from:subject:message-id:date :x-gm-message-state:from:to:cc:subject:date:message-id:reply-to; bh=l4HN6ZgOFAFm0NWIrNLSzsFUfNpIQjNTPo0bP9BLdbA=; b=pQ/XhXio61p+e0gOIkMte3S0LI1qziqETYbiOurAf9T9qEWCyULj4nan8Blz6QStTW LJ0bqR4Vn6FNTAC7yqoiIdIsX+Fi84C0EdrxwxqVYDb4AV6od+0pahiYaa8DrlZw7Znt vc0d2TPZKvARot2Ibtp3kCocdeuagcDSgwPJy91bQRi1znDn6X8pbEokS8g8bmVPOS6u 6PU/NrKjQbWfTEfpjBB8CUTs2s4M/1Eal79e3EvDmKJi3Mxc9ntOBLzxX271JbyQQPNh khJ31YqIHlQcuJQosAQMbKBTfrZQFLvuz/azrBqOICVj+WmRB/dWhCuZz2UgbgzXnY4I Douw== X-Gm-Message-State: AOJu0YzvwUjYAwQj41PfulIaMP8FkkbG5grdKM1fwp/eheSFRVBO1Tnk dRErat93sslZuBCsiOUmKIZ3PQpW0lbKmZcqdm++doi7D/y/G+0LMmIn7iSupIjY10Ywnx2tlXr FScQV9lsToIx73k1YHpDdAuSGeZgeLmi8e5ygqkIqx+SRPCF/xdgGQp8l X-Gm-Gg: ASbGnctsbpbXU00kP4k00Te0EbKvKBHpo1bxQNRvbhp+QaCkDQ2lJYdipiuzkEzGBKH RTKDVvcko3Wf/qRNyK8LUXIalDRiqzt6ORBvev7XJzJdePP6Bri9tUvG+2EyOaSLA3hZY8V16vh bgMP6W6hrvnqH4HGkAEBk2UyPcH4O277N6eYE4qUQO1vpEpk2fKkr+nlJEAw/QH2bINVilrC/Xo TEvqEAFsyDmnpYCKg9I7AhhJrktYBz2vDNcQiJ5T0XoK7j3ZXqCqkRQ1JPu3DVpqwp2rY65nrkU uRwtGg== X-Google-Smtp-Source: AGHT+IEf/JjlIn5+IsETV0nfQAaY4EeG8VvJ4N+NLbqU+iq9/SbENUZOC+hxjLd9pzEiTljrsMjB59YqxuVR X-Received: by 2002:ad4:5bcf:0:b0:6d9:1532:d8fc with SMTP id 6a1803df08f44-6dd15569460mr402459586d6.11.1735334327123; Fri, 27 Dec 2024 13:18:47 -0800 (PST) Received: from postal.iol.unh.edu (postal.iol.unh.edu. [2606:4100:3880:1234::84]) by smtp-relay.gmail.com with ESMTPS id 6a1803df08f44-6dd181cffd5sm10234796d6.70.2024.12.27.13.18.47 (version=TLS1_2 cipher=ECDHE-ECDSA-AES128-GCM-SHA256 bits=128/128); Fri, 27 Dec 2024 13:18:47 -0800 (PST) X-Relaying-Domain: iol.unh.edu Date: Fri, 27 Dec 2024 13:18:47 -0800 (PST) Message-ID: <676f19b7.050a0220.11732f.4c3cSMTPIN_ADDED_MISSING@mx.google.com> Received: from [172.17.0.3] (unknown [172.18.0.217]) by postal.iol.unh.edu (Postfix) with ESMTP id 940F26052471; Fri, 27 Dec 2024 16:18:46 -0500 (EST) Subject: |WARNING| pw149500 [PATCH] drivers/net: use intrinsic to access cont From: dpdklab@iol.unh.edu To: Test Report Cc: dpdk-test-reports@iol.unh.edu In-Reply-To: <1735328684-10684-1-git-send-email-andremue@linux.microsoft.com> References: <1735328684-10684-1-git-send-email-andremue@linux.microsoft.com> Content-Type: text/plain X-BeenThere: test-report@dpdk.org X-Mailman-Version: 2.1.29 Precedence: list List-Id: automatic DPDK test reports List-Unsubscribe: , List-Archive: List-Post: List-Help: List-Subscribe: , Errors-To: test-report-bounces@dpdk.org Test-Label: iol-compile-amd64-testing Test-Status: WARNING http://dpdk.org/patch/149500 _Testing issues_ Submitter: Andre Muezerie Date: Friday, December 27 2024 19:44:44 DPDK git baseline: Repo:dpdk Branch: master CommitID:fd51012de5369679e807be1d6a81d63ef15015ce 149500 --> testing issues Upstream job id: Generic-DPDK-Compile-Meson#347110 Test environment and result as below: +---------------------+--------------------+------------------+-------------------+-------------------+-----------------------+----------------------+ | Environment | dpdk_meson_compile | dpdk_compile_ovs | dpdk_compile_spdk | dpdk_msvc_compile | dpdk_win_llvm_compile | dpdk_mingw64_compile | +=====================+====================+==================+===================+===================+=======================+======================+ | Debian Bullseye | PASS | PASS | PASS | SKIPPED | SKIPPED | SKIPPED | +---------------------+--------------------+------------------+-------------------+-------------------+-----------------------+----------------------+ | CentOS Stream 9 | PASS | PASS | PASS | SKIPPED | SKIPPED | SKIPPED | +---------------------+--------------------+------------------+-------------------+-------------------+-----------------------+----------------------+ | Debian 12 | PASS | PASS | PASS | SKIPPED | SKIPPED | SKIPPED | +---------------------+--------------------+------------------+-------------------+-------------------+-----------------------+----------------------+ | Fedora 41 (Clang) | PASS | PASS | PASS | SKIPPED | SKIPPED | SKIPPED | +---------------------+--------------------+------------------+-------------------+-------------------+-----------------------+----------------------+ | Fedora 40 (Clang) | PASS | PASS | PASS | SKIPPED | SKIPPED | SKIPPED | +---------------------+--------------------+------------------+-------------------+-------------------+-----------------------+----------------------+ | Fedora 40 | PASS | PASS | PASS | SKIPPED | SKIPPED | SKIPPED | +---------------------+--------------------+------------------+-------------------+-------------------+-----------------------+----------------------+ | Fedora 41 | PASS | PASS | PASS | SKIPPED | SKIPPED | SKIPPED | +---------------------+--------------------+------------------+-------------------+-------------------+-----------------------+----------------------+ | openSUSE Leap 15 | PASS | WARN | SKIPPED | SKIPPED | SKIPPED | SKIPPED | +---------------------+--------------------+------------------+-------------------+-------------------+-----------------------+----------------------+ | RHEL8 | PASS | PASS | SKIPPED | SKIPPED | SKIPPED | SKIPPED | +---------------------+--------------------+------------------+-------------------+-------------------+-----------------------+----------------------+ | RHEL9 | PASS | PASS | SKIPPED | SKIPPED | SKIPPED | SKIPPED | +---------------------+--------------------+------------------+-------------------+-------------------+-----------------------+----------------------+ | Ubuntu 22.04 | PASS | PASS | PASS | SKIPPED | SKIPPED | SKIPPED | +---------------------+--------------------+------------------+-------------------+-------------------+-----------------------+----------------------+ | Ubuntu 20.04 | PASS | WARN | SKIPPED | SKIPPED | SKIPPED | SKIPPED | +---------------------+--------------------+------------------+-------------------+-------------------+-----------------------+----------------------+ | Ubuntu 24.04 | PASS | PASS | PASS | SKIPPED | SKIPPED | SKIPPED | +---------------------+--------------------+------------------+-------------------+-------------------+-----------------------+----------------------+ | FreeBSD 13.4 | PASS | SKIPPED | SKIPPED | SKIPPED | SKIPPED | SKIPPED | +---------------------+--------------------+------------------+-------------------+-------------------+-----------------------+----------------------+ | FreeBSD 14.2 | PASS | SKIPPED | SKIPPED | SKIPPED | SKIPPED | SKIPPED | +---------------------+--------------------+------------------+-------------------+-------------------+-----------------------+----------------------+ | Alpine | PASS | PASS | SKIPPED | SKIPPED | SKIPPED | SKIPPED | +---------------------+--------------------+------------------+-------------------+-------------------+-----------------------+----------------------+ | Windows Server 2022 | SKIPPED | SKIPPED | SKIPPED | PASS | PASS | PASS | +---------------------+--------------------+------------------+-------------------+-------------------+-----------------------+----------------------+ ==== 20 line log output for Ubuntu 20.04 (dpdk_compile_ovs): ==== --- Failed to get log output --- ==== End log output ==== Debian Bullseye Kernel: Depends on container host Compiler: gcc (Debian 10.2.1-6) 10.2.1 20210110 CentOS Stream 9 Kernel: Depends on container host Compiler: gcc 11.5.0 20240719 (Red Hat 11.5.0-2) Debian 12 Kernel: Depends on container host Compiler: gcc (Debian 12.2.0-14) 12.2.0 Fedora 41 (Clang) Kernel: Depends on container host Compiler: clang 19.1.5 (Fedora 19.1.5-1.fc41) Fedora 40 (Clang) Kernel: Depends on container host Compiler: clang 18.1.8 (Fedora 18.1.8-1.fc40) Fedora 40 Kernel: Depends on container host Compiler: gcc 14.2.1 20240912 (Red Hat 14.2.1-3) Fedora 41 Kernel: Depends on container host Compiler: gcc 14.2.1 20240912 (Red Hat 14.2.1-3) openSUSE Leap 15 Kernel: Depends on container host Compiler: gcc (SUSE Linux) 7.5.0 RHEL8 Kernel: Depends on container host Compiler: gcc 8.5.0 20210514 (Red Hat 8.5.0-22) RHEL9 Kernel: Depends on container host Compiler: gcc 11.5.0 20240719 (Red Hat 11.5.0-2) Ubuntu 22.04 Kernel: Depends on container host Compiler: gcc (Ubuntu 11.4.0-1ubuntu1~22.04) 11.4.0 Ubuntu 20.04 Kernel: Depends on container host Compiler: gcc (Ubuntu 9.4.0-1ubuntu1~20.04.2) 9.4.0 Ubuntu 24.04 Kernel: Depends on container host Compiler: gcc (Ubuntu 13.3.0-6ubuntu2~24.04) 13.3.0 FreeBSD 13.4 Kernel: 13.4-RELEASE-p1 Compiler: clang 18.1.6 FreeBSD 14.2 Kernel: 14.2-RELEASE Compiler: clang 18.1.6 Alpine Kernel: Depends on container host Compiler: gcc (Alpine 14.2.0) 14.2.0 Windows Server 2022 Kernel: 10.0.20348.2031 Compiler: clang 15.0.7, gcc 14.1.0 (MinGW), and MSVC VS 19.39.33521 To view detailed results, visit: https://lab.dpdk.org/results/dashboard/patchsets/32220/ UNH-IOL DPDK Community Lab To manage your email subscriptions, visit: https://lab.dpdk.org/results/dashboard/preferences/subscriptions/