From mboxrd@z Thu Jan 1 00:00:00 1970 Return-Path: Received: from mails.dpdk.org (mails.dpdk.org [217.70.189.124]) by inbox.dpdk.org (Postfix) with ESMTP id 78EAF45F5F for ; Sat, 28 Dec 2024 05:25:41 +0100 (CET) Received: from mails.dpdk.org (localhost [127.0.0.1]) by mails.dpdk.org (Postfix) with ESMTP id 4A1CA402A8; Sat, 28 Dec 2024 05:25:41 +0100 (CET) Received: from mail-yb1-f228.google.com (mail-yb1-f228.google.com [209.85.219.228]) by mails.dpdk.org (Postfix) with ESMTP id 2252240280 for ; Sat, 28 Dec 2024 05:25:40 +0100 (CET) Received: by mail-yb1-f228.google.com with SMTP id 3f1490d57ef6-e4a6b978283so9565110276.0 for ; Fri, 27 Dec 2024 20:25:40 -0800 (PST) DKIM-Signature: v=1; a=rsa-sha256; c=relaxed/relaxed; d=iol.unh.edu; s=unh-iol; t=1735359939; x=1735964739; darn=dpdk.org; h=references:in-reply-to:cc:to:from:subject:message-id:date:from:to :cc:subject:date:message-id:reply-to; bh=TQuz+ySYHDVww0Qc8It7LexDaMh0PP3FXueTSWuDEKo=; b=IHfPOX+5T9QJ7yqK3t9mFqgajJPO24vs0SemKzv0YYuuj6plGFL/W7pnGNRcnXm2iV fEb5zqnU90DwaaSoL9LUTGNiSbBihJGAnT65E90bWpOSlpwrzCTgDy9VGEkSfx1Hy21Q uC9cvthaYEhLIrPCaSeD4UalsAHcpnsIdGtZ4= X-Google-DKIM-Signature: v=1; a=rsa-sha256; c=relaxed/relaxed; d=1e100.net; s=20230601; t=1735359939; x=1735964739; h=references:in-reply-to:cc:to:from:subject:message-id:date :x-gm-message-state:from:to:cc:subject:date:message-id:reply-to; bh=TQuz+ySYHDVww0Qc8It7LexDaMh0PP3FXueTSWuDEKo=; b=EODNnEDsPltoaiZykLxrrebU00OxQbRJk34fY8YP0Yy2V2vIXG5hKL82UJivfDlXFq Yj6LeD2j2N1aEcT6I41V3gdUeZQoBexXs8AYDAgtQsHwIBhvCK+ldlAom7h5TpESLXnl MWOlobYAqxGL7m7Lerx0y973oV0rLu4ldw5ksZ2mVdo3HJqQ5VRFhmHsrsl6KlrbYgii yhMXOvASNtDaKsadqA6jLDmSKcBb/dcZ7dH3RSKY8PxzFrrh2xPLwjyx6AtkQ5BZesao fR3qvtd/gvRCpMh6ka3cU4v4oZvK44avX19fsRR9zNiR9o7M7aMa/9tgF06sZN7NmHum WF5Q== X-Gm-Message-State: AOJu0YxJn6ORKLW1qHqkK9tHLqTSJyXmZ3f0v44sH3HJSOsAEQrOOrm0 fknWqNevtA7n97eMR/VdkOE1/NWwRWBLQOzl8pe0gQKl/cAUpEYbzNluuFlq+4dGAg3npgTVm2t NeNlo/GHZLoG4jshrGV1RiXNEdz1OCH1ggKGBY2po X-Gm-Gg: ASbGnctlMitkRG6HAMssh52XT+5QcDCXl8cJv8NgVvJqbvxsyWYPSxXw8hGTbp/Rnwm AtjUa1FYtoVaOtj1yqN9O9LCZdNc9djqdJu16QtHrUJYrdgPEfHW4eynu92c0y/z2h0U9Afp5Is Xvd4BZNHL4WVl5mc3TD1jye+ofH2CYtqsQ4Wdn/w3/AnsyeAsDtrSTtlagesg4GZW57HeKKJt2M mekv/T31QQ8NNvsvWQmnCl6vDtm/2SaZRX3q6ZmfyEVG8/7dCjkZemrkHLMBqUrvyDJ0qgdMW0U 3w== X-Google-Smtp-Source: AGHT+IF0nqz/UHfmVqAPJzBR02bXnPWID+X+ZDSfQwtwnim2Ulm7U4kuMORTiXsPeVbPhogqBuuqhxxj12xA X-Received: by 2002:a05:690c:6408:b0:6ea:6644:ddf8 with SMTP id 00721157ae682-6f3e29143c8mr214744527b3.0.1735359939328; Fri, 27 Dec 2024 20:25:39 -0800 (PST) Received: from postal.iol.unh.edu (postal.iol.unh.edu. [132.177.123.84]) by smtp-relay.gmail.com with ESMTPS id 00721157ae682-6f3e7824217sm7680617b3.48.2024.12.27.20.25.39 (version=TLS1_2 cipher=ECDHE-ECDSA-AES128-GCM-SHA256 bits=128/128); Fri, 27 Dec 2024 20:25:39 -0800 (PST) X-Relaying-Domain: iol.unh.edu Date: Fri, 27 Dec 2024 20:25:39 -0800 (PST) Message-ID: <676f7dc3.050a0220.b4147.4e53SMTPIN_ADDED_MISSING@mx.google.com> Received: from [172.21.0.6] (unknown [172.18.0.240]) by postal.iol.unh.edu (Postfix) with ESMTP id E41D06052471; Fri, 27 Dec 2024 23:25:38 -0500 (EST) Subject: |WARNING| pw149505-149507 [PATCH] [v3,3/3] drivers/net: add diagnost From: dpdklab@iol.unh.edu To: Test Report Cc: dpdk-test-reports@iol.unh.edu In-Reply-To: <1735355910-1175-4-git-send-email-andremue@linux.microsoft.com> References: <1735355910-1175-4-git-send-email-andremue@linux.microsoft.com> Content-Type: text/plain X-BeenThere: test-report@dpdk.org X-Mailman-Version: 2.1.29 Precedence: list List-Id: automatic DPDK test reports List-Unsubscribe: , List-Archive: List-Post: List-Help: List-Subscribe: , Errors-To: test-report-bounces@dpdk.org Test-Label: iol-unit-arm64-testing Test-Status: WARNING http://dpdk.org/patch/149507 _Testing issues_ Submitter: Andre Muezerie Date: Saturday, December 28 2024 03:18:30 DPDK git baseline: Repo:dpdk Branch: master CommitID:fd51012de5369679e807be1d6a81d63ef15015ce 149505-149507 --> testing issues Upstream job id: Generic-Unit-Test-DPDK#302462 Test environment and result as below: +--------------------------+--------------+------------------------------+---------------------------+----------------+ | Environment | lpm_autotest | cryptodev_sw_snow3g_autotest | cryptodev_sw_zuc_autotest | dpdk_unit_test | +==========================+==============+==============================+===========================+================+ | Ubuntu 20.04 ARM SVE | PASS | SKIPPED | SKIPPED | SKIPPED | +--------------------------+--------------+------------------------------+---------------------------+----------------+ | Debian 12 (arm) | SKIPPED | WARN | WARN | WARN | +--------------------------+--------------+------------------------------+---------------------------+----------------+ | Debian 11 (Buster) (ARM) | SKIPPED | SKIPPED | SKIPPED | WARN | +--------------------------+--------------+------------------------------+---------------------------+----------------+ | Fedora 40 (ARM) | SKIPPED | SKIPPED | SKIPPED | WARN | +--------------------------+--------------+------------------------------+---------------------------+----------------+ | CentOS Stream 9 (ARM) | SKIPPED | SKIPPED | SKIPPED | WARN | +--------------------------+--------------+------------------------------+---------------------------+----------------+ | Fedora 41 (ARM Clang) | SKIPPED | SKIPPED | SKIPPED | WARN | +--------------------------+--------------+------------------------------+---------------------------+----------------+ | Fedora 40 (ARM Clang) | SKIPPED | SKIPPED | SKIPPED | WARN | +--------------------------+--------------+------------------------------+---------------------------+----------------+ | Fedora 41 (ARM) | SKIPPED | SKIPPED | SKIPPED | WARN | +--------------------------+--------------+------------------------------+---------------------------+----------------+ | Ubuntu 20.04 (ARM) | SKIPPED | SKIPPED | SKIPPED | WARN | +--------------------------+--------------+------------------------------+---------------------------+----------------+ | RHEL9 (ARM) | SKIPPED | SKIPPED | SKIPPED | WARN | +--------------------------+--------------+------------------------------+---------------------------+----------------+ | Ubuntu 24.04 (ARM) | SKIPPED | SKIPPED | SKIPPED | WARN | +--------------------------+--------------+------------------------------+---------------------------+----------------+ | Ubuntu 22.04 (ARM) | SKIPPED | SKIPPED | SKIPPED | WARN | +--------------------------+--------------+------------------------------+---------------------------+----------------+ ==== 20 line log output for Ubuntu 22.04 (ARM) (dpdk_unit_test): ==== 62 | vst1q_u64((uint64_t *)&rxdp++->read, dma_addr1); | ^ ../drivers/net/i40e/i40e_rxtx_vec_neon.c: In function 'descs_to_fdir_32b': ../drivers/net/i40e/i40e_rxtx_vec_neon.c:87:32: error: cast discards 'volatile' qualifier from pointer target type [-Werror=cast-qual] 87 | desc0_qw23 = vld1q_u64((uint64_t *)&(rxdp + 0)->wb.qword2); | ^ ../drivers/net/i40e/i40e_rxtx_vec_neon.c:88:32: error: cast discards 'volatile' qualifier from pointer target type [-Werror=cast-qual] 88 | desc1_qw23 = vld1q_u64((uint64_t *)&(rxdp + 1)->wb.qword2); | ^ ../drivers/net/i40e/i40e_rxtx_vec_neon.c:89:32: error: cast discards 'volatile' qualifier from pointer target type [-Werror=cast-qual] 89 | desc2_qw23 = vld1q_u64((uint64_t *)&(rxdp + 2)->wb.qword2); | ^ ../drivers/net/i40e/i40e_rxtx_vec_neon.c:90:32: error: cast discards 'volatile' qualifier from pointer target type [-Werror=cast-qual] 90 | desc3_qw23 = vld1q_u64((uint64_t *)&(rxdp + 3)->wb.qword2); | ^ cc1: all warnings being treated as errors [1759/3361] Compiling C object drivers/libtmp_rte_net_i40e.a.p/net_i40e_rte_pmd_i40e.c.o [1760/3361] Compiling C object drivers/libtmp_rte_net_iavf.a.p/net_iavf_iavf_ethdev.c.o [1761/3361] Compiling C object drivers/libtmp_rte_net_iavf.a.p/net_iavf_iavf_rxtx.c.o ninja: build stopped: subcommand failed. ==== End log output ==== Ubuntu 20.04 ARM SVE Kernel: Depends on container host Compiler: gcc (Ubuntu 10.5.0-1ubuntu1~20.04) 10.5.0 Debian 12 (arm) Kernel: Depends on container host Compiler: gcc (Debian 12.2.0-14) 12.2.0 Debian 11 (Buster) (ARM) Kernel: Depends on container host Compiler: gcc (Debian 10.2.1-6) 10.2.1 20210110 Fedora 40 (ARM) Kernel: Depends on container host Compiler: gcc 14.2.1 20240912 (Red Hat 14.2.1-3) CentOS Stream 9 (ARM) Kernel: Depends on container host Compiler: gcc 11.5.0 20240719 (Red Hat 11.5.0-2) Fedora 41 (ARM Clang) Kernel: Depends on container host Compiler: clang 19.1.5 (Fedora 19.1.5-1.fc41) Fedora 40 (ARM Clang) Kernel: Depends on container host Compiler: clang 18.1.8 (Fedora 18.1.8-1.fc40) Fedora 41 (ARM) Kernel: Depends on container host Compiler: gcc 14.2.1 20240912 (Red Hat 14.2.1-3) Ubuntu 20.04 (ARM) Kernel: Depends on container host Compiler: gcc (Ubuntu 9.4.0-1ubuntu1~20.04.2) 9.4.0 RHEL9 (ARM) Kernel: Depends on container host Compiler: gcc 11.5.0 20240719 (Red Hat 11.5.0-2) Ubuntu 24.04 (ARM) Kernel: Depends on container host Compiler: gcc (Ubuntu 13.3.0-6ubuntu2~24.04) 13.3.0 Ubuntu 22.04 (ARM) Kernel: Depends on container host Compiler: gcc (Ubuntu 11.4.0-1ubuntu1~22.04) 11.4.0 To view detailed results, visit: https://lab.dpdk.org/results/dashboard/patchsets/32223/ UNH-IOL DPDK Community Lab To manage your email subscriptions, visit: https://lab.dpdk.org/results/dashboard/preferences/subscriptions/