From mboxrd@z Thu Jan  1 00:00:00 1970
Return-Path: <test-report-bounces@dpdk.org>
Received: from mails.dpdk.org (mails.dpdk.org [217.70.189.124])
	by inbox.dpdk.org (Postfix) with ESMTP id 03A4145F5F
	for <public@inbox.dpdk.org>; Sat, 28 Dec 2024 05:30:59 +0100 (CET)
Received: from mails.dpdk.org (localhost [127.0.0.1])
	by mails.dpdk.org (Postfix) with ESMTP id CD781402A8;
	Sat, 28 Dec 2024 05:30:59 +0100 (CET)
Received: from mail-yb1-f227.google.com (mail-yb1-f227.google.com
 [209.85.219.227])
 by mails.dpdk.org (Postfix) with ESMTP id E637E40280
 for <test-report@dpdk.org>; Sat, 28 Dec 2024 05:30:58 +0100 (CET)
Received: by mail-yb1-f227.google.com with SMTP id
 3f1490d57ef6-e46ebe19368so8182214276.0
 for <test-report@dpdk.org>; Fri, 27 Dec 2024 20:30:58 -0800 (PST)
DKIM-Signature: v=1; a=rsa-sha256; c=relaxed/relaxed;
 d=iol.unh.edu; s=unh-iol; t=1735360258; x=1735965058; darn=dpdk.org;
 h=references:in-reply-to:cc:to:from:subject:message-id:date:from:to
 :cc:subject:date:message-id:reply-to;
 bh=GLwysgi6eSyZwlB/MBIqC5gK4CvX6pi2smw+xWI7qv0=;
 b=FmhOxYMGHOn9hYm4A8LyH2qGx41GnMqYJnkyvOjW5H5aEYFSCPhn+t0r9/zwgYKK/V
 SP//yVxyUlhVZRNIGxjJD5eGFci3jnUL+0JhnUK1HpPPpKUquyeyNiKYXJwUCUgiA84l
 wV/iii5f/FfmdJE6/wFyT8A9I1v9HVPdArEGo=
X-Google-DKIM-Signature: v=1; a=rsa-sha256; c=relaxed/relaxed;
 d=1e100.net; s=20230601; t=1735360258; x=1735965058;
 h=references:in-reply-to:cc:to:from:subject:message-id:date
 :x-gm-message-state:from:to:cc:subject:date:message-id:reply-to;
 bh=GLwysgi6eSyZwlB/MBIqC5gK4CvX6pi2smw+xWI7qv0=;
 b=R23FHEqPFJvLFYQAlHkuqNPOoS7dzBsMov5cAZmkqsCAB70lAmlHh2ME5NztzEI59F
 CAU1fobjeyocIPg0l9iFA9pv+ydfhusPSMTXEgsb4iIw4ZfFrYa8yW7T8nHOrBOiFJ3W
 +4yeEXrUWZduywcELivyVkZayKbc++8svltmfvQHUibVglYMKOsZvJubO7zuEHs3BcZh
 QOi3DKhZp58EhZsdybGL9qS6b2aAa4poYJS7k1vH/+KnDnTt8KZ+yeZkPems/b3xsOqD
 IMAhLehYZBUYAd6i4u38luB+OAo4RqeCe6psMYJiD2ZLhr7eAA/O9oNpGDO3sY82muOE
 cCAg==
X-Gm-Message-State: AOJu0YzM4xKQ3QFSa1MdXM6M8kB6OABhwY5Ug5fHktFNSE/9zDekKJp6
 etm7Y/RcMxaEBs3EYhKC0EHznPqroRKX4ARTthpdFvyeugutVFesJLpZRm/wqjxdDAqnbv4qSOC
 Ig0hALk8SYwCUaHB392e5AObKIMROhqGfKY7W6EBS
X-Gm-Gg: ASbGncvMaSmpfylew50gQknppGnsZnV9hfKkmBTQTArNk2Apn6Hn4vTH8FgOb6q7n6S
 Zf91hOEvFaEfBPKxC8yauMYmozASQCne9Srk2xlnlW90IXtWBX71shBE6xhIeZTBkYgrvqsGlbN
 /YkEsOTTqi11+/5dikRGxu8ATS6Eoci5XNNWFqvMjlz4nTN1inZRyy/ixeGIy9K9//aflmqFjK/
 ngVksjt0d6Ggv/8Cx4mglNpXKsWq0M8yEa1DaMY7QY4dj6IVPk3J9b/tNGzJRcavowI1BOP/Hst
 TQ==
X-Google-Smtp-Source: AGHT+IFOkhIEQG94L/gt6Y9iImblAo/qK3abkE0qg2Hh01OzyOOLZYeGf2MSetQCo3KZFZL9R39KoKAUpjZB
X-Received: by 2002:a05:690c:6911:b0:6ef:96f9:2f48 with SMTP id
 00721157ae682-6f3f823eb81mr222365587b3.37.1735360258131; 
 Fri, 27 Dec 2024 20:30:58 -0800 (PST)
Received: from postal.iol.unh.edu (postal.iol.unh.edu. [132.177.123.84])
 by smtp-relay.gmail.com with ESMTPS id
 00721157ae682-6f3e73cb30fsm7899797b3.11.2024.12.27.20.30.58
 (version=TLS1_2 cipher=ECDHE-ECDSA-AES128-GCM-SHA256 bits=128/128);
 Fri, 27 Dec 2024 20:30:58 -0800 (PST)
X-Relaying-Domain: iol.unh.edu
Date: Fri, 27 Dec 2024 20:30:58 -0800 (PST)
Message-ID: <676f7f02.050a0220.1d63de.65e4SMTPIN_ADDED_MISSING@mx.google.com>
Received: from [172.21.0.5] (unknown [172.18.0.240])
 by postal.iol.unh.edu (Postfix) with ESMTP id C190F6052472;
 Fri, 27 Dec 2024 23:30:57 -0500 (EST)
Subject: |SUCCESS| pw149505-149507 [PATCH] [v3,3/3] drivers/net: add diagnost
From: dpdklab@iol.unh.edu
To: Test Report <test-report@dpdk.org>
Cc: dpdk-test-reports@iol.unh.edu
In-Reply-To: <1735355910-1175-4-git-send-email-andremue@linux.microsoft.com>
References: <1735355910-1175-4-git-send-email-andremue@linux.microsoft.com>
Content-Type: text/plain
X-BeenThere: test-report@dpdk.org
X-Mailman-Version: 2.1.29
Precedence: list
List-Id: automatic DPDK test reports <test-report.dpdk.org>
List-Unsubscribe: <https://mails.dpdk.org/options/test-report>,
 <mailto:test-report-request@dpdk.org?subject=unsubscribe>
List-Archive: <http://mails.dpdk.org/archives/test-report/>
List-Post: <mailto:test-report@dpdk.org>
List-Help: <mailto:test-report-request@dpdk.org?subject=help>
List-Subscribe: <https://mails.dpdk.org/listinfo/test-report>,
 <mailto:test-report-request@dpdk.org?subject=subscribe>
Errors-To: test-report-bounces@dpdk.org

Test-Label: iol-sample-apps-testing
Test-Status: SUCCESS
http://dpdk.org/patch/149507

_Testing PASS_

Submitter: Andre Muezerie <andremue@linux.microsoft.com>
Date: Saturday, December 28 2024 03:18:30 
DPDK git baseline: Repo:dpdk
  Branch: master
  CommitID:fd51012de5369679e807be1d6a81d63ef15015ce

149505-149507 --> testing pass

Upstream job id: Template-DTS-Pipeline#204619

Test environment and result as below:

+--------------------+----------------------+----------------------+
|    Environment     | dpdk_fips_validation | compressdev_zlib_pmd |
+====================+======================+======================+
| Ubuntu 20.04       | PASS                 | SKIPPED              |
+--------------------+----------------------+----------------------+
| Ubuntu 22.04 (ARM) | SKIPPED              | PASS                 |
+--------------------+----------------------+----------------------+
| Ubuntu 22.04       | SKIPPED              | PASS                 |
+--------------------+----------------------+----------------------+


Ubuntu 20.04
	Kernel: Depends on container host
	Compiler: gcc (Ubuntu 9.4.0-1ubuntu1~20.04.2) 9.4.0

Ubuntu 22.04 (ARM)
	Kernel: 5.15.0-97-generic
	Compiler: gcc gcc (Ubuntu 11.4.0-1ubuntu1~22.04) 11.4.0

Ubuntu 22.04
	Kernel: 5.15.0-100-generic
	Compiler: gcc gcc (Ubuntu 11.4.0-1ubuntu1~22.04) 11.4.0

To view detailed results, visit:
https://lab.dpdk.org/results/dashboard/patchsets/32223/

UNH-IOL DPDK Community Lab

To manage your email subscriptions, visit: 
https://lab.dpdk.org/results/dashboard/preferences/subscriptions/