From mboxrd@z Thu Jan 1 00:00:00 1970 Return-Path: Received: from mails.dpdk.org (mails.dpdk.org [217.70.189.124]) by inbox.dpdk.org (Postfix) with ESMTP id 89C7B45F5F for ; Sat, 28 Dec 2024 05:48:05 +0100 (CET) Received: from mails.dpdk.org (localhost [127.0.0.1]) by mails.dpdk.org (Postfix) with ESMTP id 587C440280; Sat, 28 Dec 2024 05:48:05 +0100 (CET) Received: from mail-pj1-f97.google.com (mail-pj1-f97.google.com [209.85.216.97]) by mails.dpdk.org (Postfix) with ESMTP id 8B6E84021F for ; Sat, 28 Dec 2024 05:48:03 +0100 (CET) Received: by mail-pj1-f97.google.com with SMTP id 98e67ed59e1d1-2ee51f8c47dso7597205a91.1 for ; Fri, 27 Dec 2024 20:48:03 -0800 (PST) DKIM-Signature: v=1; a=rsa-sha256; c=relaxed/relaxed; d=iol.unh.edu; s=unh-iol; t=1735361282; x=1735966082; darn=dpdk.org; h=references:in-reply-to:cc:to:from:subject:message-id:date:from:to :cc:subject:date:message-id:reply-to; bh=KGCuxpOeiU/MNorHNQATxve4xqkbiMMkSQ6scFOj7EU=; b=YS/BMNkR3M9uN5sDTk1Mb2i1rsgEeJMZczwM//A+13hlda8hZfcNT9XaVkUz8m6kvo I8eufFQQnCxEYAuookWt/cUXiBzFwwz9bEHxjDJTx5qsqgthzy2mJuH2dyoHf2Wtueaj a9lwzhlLokO1lctqASMBgEZrDznqvDvVh1w7U= X-Google-DKIM-Signature: v=1; a=rsa-sha256; c=relaxed/relaxed; d=1e100.net; s=20230601; t=1735361282; x=1735966082; h=references:in-reply-to:cc:to:from:subject:message-id:date :x-gm-message-state:from:to:cc:subject:date:message-id:reply-to; bh=KGCuxpOeiU/MNorHNQATxve4xqkbiMMkSQ6scFOj7EU=; b=QktOWa8eTt+1EDrzDHYOs4+mGnFGdNHjq0/WQpaEYZEwyReXNECcUnmLSyjB6BRupZ MGbz6tyQTvx3s7Nf5da5HKTArdill/9NU3bAegJyR+jwuINTbzhYjSJV/NzRp/QJd4c1 ZYUAcko0L15K872NT6CjMY3X0ORSjmARwEy0OGbFRGXLYW+lBN/7Q9wC+JCzIv5GZVUt zMkfMZcNVPgVTjU2MHGpKokBRusYZn/adzgB2b+Xe0NaTnH1B96R4g5BdSrCYSKynlUe zKtGdpMvZ1WT3D3HZignsugPeA7ZzamT7PaUPqJz7bhixyETWI7ENYVeuXvSohZLSg+s iOBw== X-Gm-Message-State: AOJu0YwLXZtd/C8Rxgg2uqk7HMR5lh3eLWXVlj69jbM7uYUOKhbTxv4D fnRTyPQ3D0pzDX/07i5CNug0eEwdaUpyt076G6tk0OyTExsa80GsBtEJFO27VzKjzzZNOSJBHW3 T+EkmyYj7V0UcJhL61NUVLq/XQDPKLmRO5awLBW2H X-Gm-Gg: ASbGncsrYhqM11jqmMJk5+IgjFB1wv5WhtRk7sFsym/KUGhn+mA6N+7E84JHzINMeTx jQybVZSH53qkZA8jZBKrrvZTeOibfRlaJiTxuVrNCxqEo/jgp30XYPLpZ9TnkNhNhFNxIQ+MCZY yGcUhJU6GSQZpXMR9smZDLXmwdk78ITfXLMqecuaTWXS/yi/xaNgV3U8PZyv2vjajBbN5Fd+e+G g4f8Ifq+2OqmMZUf20ihIxYu5QUxcWLjSL2qMhVInj4l6jGgm2XMaMDV8afkR/TdcPHVajAeAG/ ug== X-Google-Smtp-Source: AGHT+IHsSNu3RnEMHZRBis5Jz0Yr7iopq7aghTyEIhwVeXQ+EiCPpfqghDvqqjHU8C9zvMYotW3YqvJq4EQa X-Received: by 2002:a05:6a00:a84:b0:725:f1ca:fd8a with SMTP id d2e1a72fcca58-72abde989b4mr44067202b3a.19.1735361282553; Fri, 27 Dec 2024 20:48:02 -0800 (PST) Received: from postal.iol.unh.edu (postal.iol.unh.edu. [132.177.123.84]) by smtp-relay.gmail.com with ESMTPS id 41be03b00d2f7-842b85f0843sm758516a12.15.2024.12.27.20.48.02 (version=TLS1_2 cipher=ECDHE-ECDSA-AES128-GCM-SHA256 bits=128/128); Fri, 27 Dec 2024 20:48:02 -0800 (PST) X-Relaying-Domain: iol.unh.edu Date: Fri, 27 Dec 2024 20:48:02 -0800 (PST) Message-ID: <676f8302.630a0220.26c76e.0aa7SMTPIN_ADDED_MISSING@mx.google.com> Received: from [172.17.0.3] (unknown [172.18.0.217]) by postal.iol.unh.edu (Postfix) with ESMTP id B28F26052471; Fri, 27 Dec 2024 23:48:01 -0500 (EST) Subject: |SUCCESS| pw149505-149507 [PATCH] [v3,3/3] drivers/net: add diagnost From: dpdklab@iol.unh.edu To: Test Report Cc: dpdk-test-reports@iol.unh.edu In-Reply-To: <1735355910-1175-4-git-send-email-andremue@linux.microsoft.com> References: <1735355910-1175-4-git-send-email-andremue@linux.microsoft.com> Content-Type: text/plain X-BeenThere: test-report@dpdk.org X-Mailman-Version: 2.1.29 Precedence: list List-Id: automatic DPDK test reports List-Unsubscribe: , List-Archive: List-Post: List-Help: List-Subscribe: , Errors-To: test-report-bounces@dpdk.org Test-Label: iol-unit-amd64-testing Test-Status: SUCCESS http://dpdk.org/patch/149507 _Testing PASS_ Submitter: Andre Muezerie Date: Saturday, December 28 2024 03:18:30 DPDK git baseline: Repo:dpdk Branch: master CommitID:fd51012de5369679e807be1d6a81d63ef15015ce 149505-149507 --> testing pass Upstream job id: Generic-Unit-Test-DPDK#302459 Test environment and result as below: +---------------------+----------------+ | Environment | dpdk_unit_test | +=====================+================+ | Debian 12 | PASS | +---------------------+----------------+ | Fedora 40 | PASS | +---------------------+----------------+ | Debian Bullseye | PASS | +---------------------+----------------+ | CentOS Stream 9 | PASS | +---------------------+----------------+ | Fedora 41 | PASS | +---------------------+----------------+ | Fedora 40 (Clang) | PASS | +---------------------+----------------+ | Fedora 41 (Clang) | PASS | +---------------------+----------------+ | RHEL8 | PASS | +---------------------+----------------+ | Ubuntu 24.04 | PASS | +---------------------+----------------+ | RHEL9 | PASS | +---------------------+----------------+ | Ubuntu 22.04 | PASS | +---------------------+----------------+ | Ubuntu 20.04 | PASS | +---------------------+----------------+ | Windows Server 2022 | PASS | +---------------------+----------------+ Debian 12 Kernel: Depends on container host Compiler: gcc (Debian 12.2.0-14) 12.2.0 Fedora 40 Kernel: Depends on container host Compiler: gcc 14.2.1 20240912 (Red Hat 14.2.1-3) Debian Bullseye Kernel: Depends on container host Compiler: gcc (Debian 10.2.1-6) 10.2.1 20210110 CentOS Stream 9 Kernel: Depends on container host Compiler: gcc 11.5.0 20240719 (Red Hat 11.5.0-2) Fedora 41 Kernel: Depends on container host Compiler: gcc 14.2.1 20240912 (Red Hat 14.2.1-3) Fedora 40 (Clang) Kernel: Depends on container host Compiler: clang 18.1.8 (Fedora 18.1.8-1.fc40) Fedora 41 (Clang) Kernel: Depends on container host Compiler: clang 19.1.5 (Fedora 19.1.5-1.fc41) RHEL8 Kernel: Depends on container host Compiler: gcc 8.5.0 20210514 (Red Hat 8.5.0-22) Ubuntu 24.04 Kernel: Depends on container host Compiler: gcc (Ubuntu 13.3.0-6ubuntu2~24.04) 13.3.0 RHEL9 Kernel: Depends on container host Compiler: gcc 11.5.0 20240719 (Red Hat 11.5.0-2) Ubuntu 22.04 Kernel: Depends on container host Compiler: gcc (Ubuntu 11.4.0-1ubuntu1~22.04) 11.4.0 Ubuntu 20.04 Kernel: Depends on container host Compiler: gcc (Ubuntu 9.4.0-1ubuntu1~20.04.2) 9.4.0 Windows Server 2022 Kernel: 10.0.20348.2031 Compiler: clang 15.0.7, gcc 14.1.0 (MinGW), and MSVC VS 19.39.33521 To view detailed results, visit: https://lab.dpdk.org/results/dashboard/patchsets/32223/ UNH-IOL DPDK Community Lab To manage your email subscriptions, visit: https://lab.dpdk.org/results/dashboard/preferences/subscriptions/