From mboxrd@z Thu Jan 1 00:00:00 1970 Return-Path: Received: from mails.dpdk.org (mails.dpdk.org [217.70.189.124]) by inbox.dpdk.org (Postfix) with ESMTP id 2781C45F11 for ; Sat, 28 Dec 2024 09:26:31 +0100 (CET) Received: from mails.dpdk.org (localhost [127.0.0.1]) by mails.dpdk.org (Postfix) with ESMTP id 049CC4021F; Sat, 28 Dec 2024 09:26:31 +0100 (CET) Received: from mail-pl1-f227.google.com (mail-pl1-f227.google.com [209.85.214.227]) by mails.dpdk.org (Postfix) with ESMTP id 4F77340144 for ; Sat, 28 Dec 2024 09:26:30 +0100 (CET) Received: by mail-pl1-f227.google.com with SMTP id d9443c01a7336-2163dc5155fso95516185ad.0 for ; Sat, 28 Dec 2024 00:26:30 -0800 (PST) DKIM-Signature: v=1; a=rsa-sha256; c=relaxed/relaxed; d=iol.unh.edu; s=unh-iol; t=1735374389; x=1735979189; darn=dpdk.org; h=references:in-reply-to:cc:to:from:subject:message-id:date:from:to :cc:subject:date:message-id:reply-to; bh=p8KbVg8bsp80kSITKio85t8PS+4qMYmeLPGOHoBqLJA=; b=bWbao6Vc9lLTZJG+SPgiXgwU2I0zjbl71NsDtZPyaWJ+fkBj8mMpfKGgIS8pytFY0w lzrkg4xv1bM/CvGZsp5JLx+ypSiKTqit9PbzxP5cx8htJF2ibOKjI0jIsL/tTgtZbmmF N/aIphwsBPxnkR5afPczBmBvFPhQYcdlzB99I= X-Google-DKIM-Signature: v=1; a=rsa-sha256; c=relaxed/relaxed; d=1e100.net; s=20230601; t=1735374389; x=1735979189; h=references:in-reply-to:cc:to:from:subject:message-id:date :x-gm-message-state:from:to:cc:subject:date:message-id:reply-to; bh=p8KbVg8bsp80kSITKio85t8PS+4qMYmeLPGOHoBqLJA=; b=NlEk+2D76dM03qlj0zcxwdJrdu/z2iW0yLFZuCedw2Cwyj/pPDbR39U4gQqtUXZZUe Lwcif850rvdPDQdxZqa9ms78TXdIHefVyOPwP6xrjAg50VFzj0DvHftEgJhkUOhdBc3K BHOEDCit15VHIc/ZiruKTI6pv/lBtZD3baUNk8OfBXwQ7Hi3lXMXm50HfsE/4KaQXmV7 RiiIl1zivG6h59/g9rF9OnXnlGo4N0/iNqhwS3CWfwJwiXMDSSuoELqS2C6VAw96bHnT ZNQF7SR8kd6zmJjNUMF5J6LMldhMJKTCb5U6fKk9TFeegTosZo5aA7l8AUgU2MRnQU+E Migg== X-Gm-Message-State: AOJu0Yw+ztcUl/BNg7a3bdTcHCJH35OSnkQRiCo9OL16ACTalSKckrRX CAP9PkdXVjlus26tM7NikHlbe2F9FqexHHpX8PA1vPvHuj/Us3W0X2LGgqeHXNnGC75mOoEpZPI kzudnBVuzkSavJQXaNi1zIyWl6qsgAiP4fMqpxi/6K/K/Vt+A7ly/X0EZ X-Gm-Gg: ASbGnctiXLB5X2ZtZvzVng31KiVV9lcwK6AtPYVtIEBomQyvVvQQFJFmqqWlw2v2h7Q kAXpWdmA7RYf06Hi90yrl7sV5CYUCBmNMH0ijzE7JPwh4p4K5QtwSY3J6IesiloQjGY6dMiWpi6 aOwDTOKi7dOhlM198Kb/w2rsUV4aSJ0AdlNaDWl5ohI7xWa+f5Mf97jvWXtG8IjJF0OWhhtC3fV WCu18zztgqnOvWmkcui6exykDWTgQG8JvgzSNbmQFMkvyxFdywVI5nCj4XJKzDI7hTy2Vb1Z/pB UG99uA== X-Google-Smtp-Source: AGHT+IH2XbWvFKqkq70aRnAOqSZTAwnUV5Qjq5A3yt4V/+Wznbi3qwNc4Rdd0HOux0p6krJKoBa2dgvDJ17F X-Received: by 2002:a17:902:dad1:b0:216:725c:a137 with SMTP id d9443c01a7336-219e6ebc7dfmr343310355ad.28.1735374389362; Sat, 28 Dec 2024 00:26:29 -0800 (PST) Received: from postal.iol.unh.edu (postal.iol.unh.edu. [2606:4100:3880:1234::84]) by smtp-relay.gmail.com with ESMTPS id d9443c01a7336-219dc989701sm8709935ad.13.2024.12.28.00.26.29 (version=TLS1_2 cipher=ECDHE-ECDSA-AES128-GCM-SHA256 bits=128/128); Sat, 28 Dec 2024 00:26:29 -0800 (PST) X-Relaying-Domain: iol.unh.edu Date: Sat, 28 Dec 2024 00:26:29 -0800 (PST) Message-ID: <676fb635.170a0220.51c74.7cadSMTPIN_ADDED_MISSING@mx.google.com> Received: from [172.17.0.3] (unknown [172.18.0.217]) by postal.iol.unh.edu (Postfix) with ESMTP id 82F196052471; Sat, 28 Dec 2024 03:26:28 -0500 (EST) Subject: |SUCCESS| pw149504 [PATCH] [v2] drivers/net: use intrinsic to access From: dpdklab@iol.unh.edu To: Test Report Cc: dpdk-test-reports@iol.unh.edu In-Reply-To: <1735348983-19590-1-git-send-email-andremue@linux.microsoft.com> References: <1735348983-19590-1-git-send-email-andremue@linux.microsoft.com> Content-Type: text/plain X-BeenThere: test-report@dpdk.org X-Mailman-Version: 2.1.29 Precedence: list List-Id: automatic DPDK test reports List-Unsubscribe: , List-Archive: List-Post: List-Help: List-Subscribe: , Errors-To: test-report-bounces@dpdk.org Test-Label: iol-compile-arm64-testing Test-Status: SUCCESS http://dpdk.org/patch/149504 _Testing PASS_ Submitter: Andre Muezerie Date: Saturday, December 28 2024 01:23:03 DPDK git baseline: Repo:dpdk Branch: master CommitID:fd51012de5369679e807be1d6a81d63ef15015ce 149504 --> testing pass Upstream job id: Generic-DPDK-Compile-Meson#347247 Test environment and result as below: +----------------------------------------+--------------------+ | Environment | dpdk_meson_compile | +========================================+====================+ | Ubuntu 20.04 ARM GCC Cross Compile | PASS | +----------------------------------------+--------------------+ | RHEL9 (ARM) | PASS | +----------------------------------------+--------------------+ | Debian 12 with MUSDK | PASS | +----------------------------------------+--------------------+ | Fedora 40 (ARM) | PASS | +----------------------------------------+--------------------+ | Fedora 40 (ARM Clang) | PASS | +----------------------------------------+--------------------+ | Fedora 41 (ARM) | PASS | +----------------------------------------+--------------------+ | Fedora 41 (ARM Clang) | PASS | +----------------------------------------+--------------------+ | Ubuntu 20.04 (ARM) | PASS | +----------------------------------------+--------------------+ | Ubuntu 22.04 (ARM) | PASS | +----------------------------------------+--------------------+ | Ubuntu 24.04 (ARM) | PASS | +----------------------------------------+--------------------+ | Debian 11 (Buster) (ARM) | PASS | +----------------------------------------+--------------------+ | Debian 12 (arm) | PASS | +----------------------------------------+--------------------+ | Ubuntu 20.04 ARM Clang Cross Compile | PASS | +----------------------------------------+--------------------+ | Ubuntu 20.04 aarch32 GCC Cross Compile | PASS | +----------------------------------------+--------------------+ | CentOS Stream 9 (ARM) | PASS | +----------------------------------------+--------------------+ | Ubuntu 20.04 ARM SVE | PASS | +----------------------------------------+--------------------+ Ubuntu 20.04 ARM GCC Cross Compile Kernel: Depends on container host Compiler: aarch64-linux-gnu-gcc (Ubuntu 9.4.0-1ubuntu1~20.04.2) 9.4.0 RHEL9 (ARM) Kernel: Depends on container host Compiler: gcc 11.5.0 20240719 (Red Hat 11.5.0-2) Debian 12 with MUSDK Kernel: Depends on container host Compiler: gcc (Debian 12.2.0-14) 12.2.0 Fedora 40 (ARM) Kernel: Depends on container host Compiler: gcc 14.2.1 20240912 (Red Hat 14.2.1-3) Fedora 40 (ARM Clang) Kernel: Depends on container host Compiler: clang 18.1.8 (Fedora 18.1.8-1.fc40) Fedora 41 (ARM) Kernel: Depends on container host Compiler: gcc 14.2.1 20240912 (Red Hat 14.2.1-3) Fedora 41 (ARM Clang) Kernel: Depends on container host Compiler: clang 19.1.5 (Fedora 19.1.5-1.fc41) Ubuntu 20.04 (ARM) Kernel: Depends on container host Compiler: gcc (Ubuntu 9.4.0-1ubuntu1~20.04.2) 9.4.0 Ubuntu 22.04 (ARM) Kernel: Depends on container host Compiler: gcc (Ubuntu 11.4.0-1ubuntu1~22.04) 11.4.0 Ubuntu 24.04 (ARM) Kernel: Depends on container host Compiler: gcc (Ubuntu 13.3.0-6ubuntu2~24.04) 13.3.0 Debian 11 (Buster) (ARM) Kernel: Depends on container host Compiler: gcc (Debian 10.2.1-6) 10.2.1 20210110 Debian 12 (arm) Kernel: Depends on container host Compiler: gcc (Debian 12.2.0-14) 12.2.0 Ubuntu 20.04 ARM Clang Cross Compile Kernel: Depends on container host Compiler: clang 10.0.0-4ubuntu1 Ubuntu 20.04 aarch32 GCC Cross Compile Kernel: Depends on container host Compiler: gcc 9.4.0 CentOS Stream 9 (ARM) Kernel: Depends on container host Compiler: gcc 11.5.0 20240719 (Red Hat 11.5.0-2) Ubuntu 20.04 ARM SVE Kernel: Depends on container host Compiler: gcc (Ubuntu 10.5.0-1ubuntu1~20.04) 10.5.0 To view detailed results, visit: https://lab.dpdk.org/results/dashboard/patchsets/32222/ UNH-IOL DPDK Community Lab To manage your email subscriptions, visit: https://lab.dpdk.org/results/dashboard/preferences/subscriptions/