From mboxrd@z Thu Jan  1 00:00:00 1970
Return-Path: <test-report-bounces@dpdk.org>
Received: from mails.dpdk.org (mails.dpdk.org [217.70.189.124])
	by inbox.dpdk.org (Postfix) with ESMTP id DFA2445F80
	for <public@inbox.dpdk.org>; Mon, 30 Dec 2024 11:05:40 +0100 (CET)
Received: from mails.dpdk.org (localhost [127.0.0.1])
	by mails.dpdk.org (Postfix) with ESMTP id C17EA40263;
	Mon, 30 Dec 2024 11:05:40 +0100 (CET)
Received: from mail-pl1-f226.google.com (mail-pl1-f226.google.com
 [209.85.214.226])
 by mails.dpdk.org (Postfix) with ESMTP id 021454021F
 for <test-report@dpdk.org>; Mon, 30 Dec 2024 11:05:38 +0100 (CET)
Received: by mail-pl1-f226.google.com with SMTP id
 d9443c01a7336-21649a7bcdcso113690345ad.1
 for <test-report@dpdk.org>; Mon, 30 Dec 2024 02:05:38 -0800 (PST)
DKIM-Signature: v=1; a=rsa-sha256; c=relaxed/relaxed;
 d=iol.unh.edu; s=unh-iol; t=1735553138; x=1736157938; darn=dpdk.org;
 h=references:in-reply-to:cc:to:from:subject:message-id:date:from:to
 :cc:subject:date:message-id:reply-to;
 bh=0Rj1MpeX6WaqyODlEQpNHZez/07bAtPR16Sps+v/3Jc=;
 b=CVQXny8yRr2uOO2ntsPrU+ffQpCktX95R9ITagji2Q8rDds+RnKA4c80lrFHs/a9Mg
 XJa/c00u3YOGr92WuDsY5G0UYq/Ay3fbarr4eM93j+j+yADSixObzHL6qI9uuw7r5MPj
 dTBWULoVbrGrSuQDNPqTvaPZQKZA6kSaNQGq4=
X-Google-DKIM-Signature: v=1; a=rsa-sha256; c=relaxed/relaxed;
 d=1e100.net; s=20230601; t=1735553138; x=1736157938;
 h=references:in-reply-to:cc:to:from:subject:message-id:date
 :x-gm-message-state:from:to:cc:subject:date:message-id:reply-to;
 bh=0Rj1MpeX6WaqyODlEQpNHZez/07bAtPR16Sps+v/3Jc=;
 b=kAkbd+sd6fzdKLYDSn3Zaiv3agjyrEyOKVzeQWHFncQDYDG2ljORUusDhZ0MEkhLln
 9oJ6NQRLJzLaICcNCJlrbs/7tPJAEg7WhSW973kZ+AV+8eXpztJizbFgOCDAVVI+GLLN
 4PtXiplx0EjvsaVl2NdhM69I0VxU7bBKkvKnSuyQehtPxJNRFCYPvInVW6xTw2u5wJsB
 rpMLswdkDYeJ4g9P1JzN/d54F+F8TeKzGetDRCSZwtkj2ZYVkuf3hnJ656memDmf9Dh+
 TQncgodefNOPTVZ30DMU29mszGI2lireKrY7mLaG3NBY3LIy5cac9n65giDI2wiF9HGk
 9uRw==
X-Gm-Message-State: AOJu0YwNDyaa9rNYI0w/7sN/SDMfbJ1HTNVa0A5mJi4sZfRBJzWdbUhI
 D2saFP6VAsKlvyt4ypFOAq1/GBdNj4jV+YzcqYQhoPwgD2Ab9rGH8y0bBVXsv5Zg7kFR5MsuBha
 17Ybu3iOYD/EgSp4rBTCy65xZjrtXmCPEEx+iMw/i
X-Gm-Gg: ASbGncsti7CilcRTmqkAPoZDFQTbhsYl5tL/O69Flp4YtDfBKrhSwwTNJx1hXD8mm3N
 8XIt47GwhMSM18s69di4NVfz3+XC9Us9TZeMH1/LNOA++3TdmJHMdgOhHyzfJYGy6OjhAkV9zet
 WaGiCI2yUN81HK8tDI2BUq7oGjiFv+b1ZYgaeRvw6/T1sBJQ5livH3McZf0G3FwWSByp4N05Rvd
 FD79VMq2avB6DdjUNsGkltglVOZObzUvGIzrTcBvPlidDbEYmAB4OBLytxWIMIt78JLrOPg8Ggc
 wg==
X-Google-Smtp-Source: AGHT+IGdzgkyvlUftp4LjTQdKcH3t9mNWDXK1Si9brPcogE8o4h24lcMWFwz7F8JszCMbUUCtNVxylNE4UYQ
X-Received: by 2002:a17:903:94f:b0:216:393b:23d4 with SMTP id
 d9443c01a7336-219e6e89543mr533932815ad.11.1735553137939; 
 Mon, 30 Dec 2024 02:05:37 -0800 (PST)
Received: from postal.iol.unh.edu (postal.iol.unh.edu. [132.177.123.84])
 by smtp-relay.gmail.com with ESMTPS id
 d9443c01a7336-219dc999cb9sm10542985ad.45.2024.12.30.02.05.37
 (version=TLS1_2 cipher=ECDHE-ECDSA-AES128-GCM-SHA256 bits=128/128);
 Mon, 30 Dec 2024 02:05:37 -0800 (PST)
X-Relaying-Domain: iol.unh.edu
Date: Mon, 30 Dec 2024 02:05:37 -0800 (PST)
Message-ID: <67727071.170a0220.a4a0a.33a4SMTPIN_ADDED_MISSING@mx.google.com>
Received: from [172.17.0.3] (unknown [172.18.0.217])
 by postal.iol.unh.edu (Postfix) with ESMTP id 5B0B86052471;
 Mon, 30 Dec 2024 05:05:37 -0500 (EST)
Subject: |SUCCESS| pw149509-149508 [PATCH] [3/3] net/hns3: rename RAS module
From: dpdklab@iol.unh.edu
To: Test Report <test-report@dpdk.org>
Cc: dpdk-test-reports@iol.unh.edu
In-Reply-To: <20241230065405.18552-4-haijie1@huawei.com>
References: <20241230065405.18552-4-haijie1@huawei.com>
Content-Type: text/plain
X-BeenThere: test-report@dpdk.org
X-Mailman-Version: 2.1.29
Precedence: list
List-Id: automatic DPDK test reports <test-report.dpdk.org>
List-Unsubscribe: <https://mails.dpdk.org/options/test-report>,
 <mailto:test-report-request@dpdk.org?subject=unsubscribe>
List-Archive: <http://mails.dpdk.org/archives/test-report/>
List-Post: <mailto:test-report@dpdk.org>
List-Help: <mailto:test-report-request@dpdk.org?subject=help>
List-Subscribe: <https://mails.dpdk.org/listinfo/test-report>,
 <mailto:test-report-request@dpdk.org?subject=subscribe>
Errors-To: test-report-bounces@dpdk.org

Test-Label: iol-compile-arm64-testing
Test-Status: SUCCESS
http://dpdk.org/patch/149508

_Testing PASS_

Submitter: Jie Hai <haijie1@huawei.com>
Date: Monday, December 30 2024 06:54:05 
DPDK git baseline: Repo:dpdk
  Branch: master
  CommitID:94ad302b4ebba4a5b6706a1c43ea0505e5098169

149509-149508 --> testing pass

Upstream job id: Generic-DPDK-Compile-Meson#347502

Test environment and result as below:

+----------------------------------------+--------------------+
|              Environment               | dpdk_meson_compile |
+========================================+====================+
| RHEL9 (ARM)                            | PASS               |
+----------------------------------------+--------------------+
| Ubuntu 20.04 ARM GCC Cross Compile     | PASS               |
+----------------------------------------+--------------------+
| Ubuntu 20.04 ARM SVE                   | PASS               |
+----------------------------------------+--------------------+
| Debian 12 with MUSDK                   | PASS               |
+----------------------------------------+--------------------+
| Fedora 40 (ARM Clang)                  | PASS               |
+----------------------------------------+--------------------+
| Fedora 40 (ARM)                        | PASS               |
+----------------------------------------+--------------------+
| Fedora 41 (ARM)                        | PASS               |
+----------------------------------------+--------------------+
| CentOS Stream 9 (ARM)                  | PASS               |
+----------------------------------------+--------------------+
| Ubuntu 24.04 (ARM)                     | PASS               |
+----------------------------------------+--------------------+
| Ubuntu 20.04 (ARM)                     | PASS               |
+----------------------------------------+--------------------+
| Fedora 41 (ARM Clang)                  | PASS               |
+----------------------------------------+--------------------+
| Ubuntu 22.04 (ARM)                     | PASS               |
+----------------------------------------+--------------------+
| Debian 12 (arm)                        | PASS               |
+----------------------------------------+--------------------+
| Debian 11 (Buster) (ARM)               | PASS               |
+----------------------------------------+--------------------+
| Ubuntu 20.04 aarch32 GCC Cross Compile | PASS               |
+----------------------------------------+--------------------+
| Ubuntu 20.04 ARM Clang Cross Compile   | PASS               |
+----------------------------------------+--------------------+


RHEL9 (ARM)
	Kernel: Depends on container host
	Compiler: gcc 11.5.0 20240719 (Red Hat 11.5.0-2)

Ubuntu 20.04 ARM GCC Cross Compile
	Kernel: Depends on container host
	Compiler: aarch64-linux-gnu-gcc (Ubuntu 9.4.0-1ubuntu1~20.04.2) 9.4.0

Ubuntu 20.04 ARM SVE
	Kernel: Depends on container host
	Compiler: gcc (Ubuntu 10.5.0-1ubuntu1~20.04) 10.5.0

Debian 12 with MUSDK
	Kernel: Depends on container host
	Compiler: gcc (Debian 12.2.0-14) 12.2.0

Fedora 40 (ARM Clang)
	Kernel: Depends on container host
	Compiler: clang 18.1.8 (Fedora 18.1.8-1.fc40)

Fedora 40 (ARM)
	Kernel: Depends on container host
	Compiler: gcc 14.2.1 20240912 (Red Hat 14.2.1-3)

Fedora 41 (ARM)
	Kernel: Depends on container host
	Compiler: gcc 14.2.1 20240912 (Red Hat 14.2.1-3)

CentOS Stream 9 (ARM)
	Kernel: Depends on container host
	Compiler: gcc 11.5.0 20240719 (Red Hat 11.5.0-2)

Ubuntu 24.04 (ARM)
	Kernel: Depends on container host
	Compiler: gcc (Ubuntu 13.3.0-6ubuntu2~24.04) 13.3.0

Ubuntu 20.04 (ARM)
	Kernel: Depends on container host
	Compiler: gcc (Ubuntu 9.4.0-1ubuntu1~20.04.2) 9.4.0

Fedora 41 (ARM Clang)
	Kernel: Depends on container host
	Compiler: clang 19.1.5 (Fedora 19.1.5-1.fc41)

Ubuntu 22.04 (ARM)
	Kernel: Depends on container host
	Compiler: gcc (Ubuntu 11.4.0-1ubuntu1~22.04) 11.4.0

Debian 12 (arm)
	Kernel: Depends on container host
	Compiler: gcc (Debian 12.2.0-14) 12.2.0

Debian 11 (Buster) (ARM)
	Kernel: Depends on container host
	Compiler: gcc (Debian 10.2.1-6) 10.2.1 20210110

Ubuntu 20.04 aarch32 GCC Cross Compile
	Kernel: Depends on container host
	Compiler: gcc 9.4.0

Ubuntu 20.04 ARM Clang Cross Compile
	Kernel: Depends on container host
	Compiler: clang 10.0.0-4ubuntu1

To view detailed results, visit:
https://lab.dpdk.org/results/dashboard/patchsets/32224/

UNH-IOL DPDK Community Lab

To manage your email subscriptions, visit: 
https://lab.dpdk.org/results/dashboard/preferences/subscriptions/