From mboxrd@z Thu Jan  1 00:00:00 1970
Return-Path: <test-report-bounces@dpdk.org>
Received: from mails.dpdk.org (mails.dpdk.org [217.70.189.124])
	by inbox.dpdk.org (Postfix) with ESMTP id 3D2A145F8B
	for <public@inbox.dpdk.org>; Mon, 30 Dec 2024 20:34:01 +0100 (CET)
Received: from mails.dpdk.org (localhost [127.0.0.1])
	by mails.dpdk.org (Postfix) with ESMTP id 3DC1C40272;
	Mon, 30 Dec 2024 20:34:00 +0100 (CET)
Received: from mail-io1-f98.google.com (mail-io1-f98.google.com
 [209.85.166.98]) by mails.dpdk.org (Postfix) with ESMTP id AF7CE40263
 for <test-report@dpdk.org>; Mon, 30 Dec 2024 20:33:58 +0100 (CET)
Received: by mail-io1-f98.google.com with SMTP id
 ca18e2360f4ac-844e161a8b4so287968839f.0
 for <test-report@dpdk.org>; Mon, 30 Dec 2024 11:33:58 -0800 (PST)
DKIM-Signature: v=1; a=rsa-sha256; c=relaxed/relaxed;
 d=iol.unh.edu; s=unh-iol; t=1735587238; x=1736192038; darn=dpdk.org;
 h=references:in-reply-to:cc:to:from:subject:message-id:date:from:to
 :cc:subject:date:message-id:reply-to;
 bh=Ikgkpoo3D/M4htuz+wGgkrLHxn51yfRDC6nXGjjoBvU=;
 b=dRw2Uk9PeMVF8lhNH1OzRQhSZzOUD90mte5AXTJkDqtXoqEWlULHF7xIMiPME0pdOG
 JOMJoSXBTZPTVW9ENgJFbNzqsZrL5xd9DRj3HK1NGH5B6Uc4O7b0Qa1pmAk0JwNds0I/
 fKXDFLtzxEd1pLpBSxtuMTrnx6z27Yn7idH7A=
X-Google-DKIM-Signature: v=1; a=rsa-sha256; c=relaxed/relaxed;
 d=1e100.net; s=20230601; t=1735587238; x=1736192038;
 h=references:in-reply-to:cc:to:from:subject:message-id:date
 :x-gm-message-state:from:to:cc:subject:date:message-id:reply-to;
 bh=Ikgkpoo3D/M4htuz+wGgkrLHxn51yfRDC6nXGjjoBvU=;
 b=NN/XJVAD3VdlBOUCmKlGkltj9QTWVq7XWeESCm+B+fzBynvxiNh98jepIJT1+sFOXA
 /jjD4naihF4Y6+QlXGVNat6aAb4mEGs9CKeMgqCiVg69BtvO6AgiJPUiI5RoQ73n0zV5
 oN3gOKw0PLaw1qBNcqXmjlYUkZ5AeBPdOjy/BwQQzhFGCXiEBwikmOAi4NVEoLv5ynLF
 Ier8Agocnqhj5CwGRiy1NQERUt/VIaBkUHI6/wG/aop8at83A6SjepyFnVq7Mo3SGYje
 NDYsQZrePoPW2ZO6J9Mvs/I9BJSmSePzO2ZkbsF/K2BaquYgt/O9h30GwGBfniXXfSKu
 8Gxg==
X-Gm-Message-State: AOJu0YzvXdzqNeAyvCxuq8WvjIuJZF9MaeMi6SraH/WS88RLO8rFa1UE
 eN7K/3OUoeQllmSV1IPYxEWhpQXs94RGuby4clQvJe8g9qs6YBcEQNg7Y97xRYrxrrh2gQtqMJX
 u8eFcSgMPWk6LqDtp8henKC7T0Wzu2WUXP3fBtt31
X-Gm-Gg: ASbGncvv6+7+zHO8E9xF1VrQItfu4IJBTTTvueyu4F5NomzfeKHDYov7GmgeUIS+qwr
 rU14I+02YI5MsKhQyUyfXLoR9mw1/XRZQETycTfG9yS7FhxfOcOcbHuOZ9q7dI+bgiByGtyPgLF
 lS5uAWXiceCK6j45x8tnTa27k3sg8dnjVaDtwLAvIAVI7qY7Wioa5dl7wBgFtmvI60Ml87AcOY8
 A/ScXOEWxwM11khAwD/XgARrKeZG7j5wlaujSn1Sdkzltl+XDhSOlSKnNl9JWJwMQUVPwYBr/+E
 mw==
X-Google-Smtp-Source: AGHT+IGcrbpZCDZ07yoFbtKkl0LnfVuBJHFxLy1esVRXFjmI5VQLf2wwOPLLrq8p+GNjcTC/LPXlKUCrKT7K
X-Received: by 2002:a05:6602:640e:b0:843:f261:60e0 with SMTP id
 ca18e2360f4ac-8499e4f7090mr3673210339f.5.1735587237890; 
 Mon, 30 Dec 2024 11:33:57 -0800 (PST)
Received: from postal.iol.unh.edu (postal.iol.unh.edu. [132.177.123.84])
 by smtp-relay.gmail.com with ESMTPS id
 8926c6da1cb9f-4e68c217a22sm1282724173.48.2024.12.30.11.33.57
 (version=TLS1_2 cipher=ECDHE-ECDSA-AES128-GCM-SHA256 bits=128/128);
 Mon, 30 Dec 2024 11:33:57 -0800 (PST)
X-Relaying-Domain: iol.unh.edu
Date: Mon, 30 Dec 2024 11:33:57 -0800 (PST)
Message-ID: <6772f5a5.050a0220.3bc23c.94e8SMTPIN_ADDED_MISSING@mx.google.com>
Received: from [172.17.0.3] (unknown [172.18.0.217])
 by postal.iol.unh.edu (Postfix) with ESMTP id 5E0096052471;
 Mon, 30 Dec 2024 14:33:57 -0500 (EST)
Subject: |SUCCESS| pw149511 [PATCH] service: add service maintenance callback
From: dpdklab@iol.unh.edu
To: Test Report <test-report@dpdk.org>
Cc: dpdk-test-reports@iol.unh.edu
In-Reply-To: <20241230153222.484894-1-piotr.krzewinski@ericsson.com>
References: <20241230153222.484894-1-piotr.krzewinski@ericsson.com>
Content-Type: text/plain
X-BeenThere: test-report@dpdk.org
X-Mailman-Version: 2.1.29
Precedence: list
List-Id: automatic DPDK test reports <test-report.dpdk.org>
List-Unsubscribe: <https://mails.dpdk.org/options/test-report>,
 <mailto:test-report-request@dpdk.org?subject=unsubscribe>
List-Archive: <http://mails.dpdk.org/archives/test-report/>
List-Post: <mailto:test-report@dpdk.org>
List-Help: <mailto:test-report-request@dpdk.org?subject=help>
List-Subscribe: <https://mails.dpdk.org/listinfo/test-report>,
 <mailto:test-report-request@dpdk.org?subject=subscribe>
Errors-To: test-report-bounces@dpdk.org

Test-Label: iol-compile-arm64-testing
Test-Status: SUCCESS
http://dpdk.org/patch/149511

_Testing PASS_

Submitter: Piotr Krzewinski <piotr.krzewinski@ericsson.com>
Date: Monday, December 30 2024 15:32:22 
DPDK git baseline: Repo:dpdk
  Branch: master
  CommitID:fd51012de5369679e807be1d6a81d63ef15015ce

149511 --> testing pass

Upstream job id: Generic-DPDK-Compile-Meson#347530

Test environment and result as below:

+----------------------------------------+--------------------+
|              Environment               | dpdk_meson_compile |
+========================================+====================+
| RHEL9 (ARM)                            | PASS               |
+----------------------------------------+--------------------+
| Ubuntu 20.04 ARM GCC Cross Compile     | PASS               |
+----------------------------------------+--------------------+
| Ubuntu 20.04 ARM SVE                   | PASS               |
+----------------------------------------+--------------------+
| Debian 12 with MUSDK                   | PASS               |
+----------------------------------------+--------------------+
| Fedora 40 (ARM)                        | PASS               |
+----------------------------------------+--------------------+
| Fedora 41 (ARM Clang)                  | PASS               |
+----------------------------------------+--------------------+
| Ubuntu 20.04 (ARM)                     | PASS               |
+----------------------------------------+--------------------+
| Fedora 40 (ARM Clang)                  | PASS               |
+----------------------------------------+--------------------+
| Fedora 41 (ARM)                        | PASS               |
+----------------------------------------+--------------------+
| CentOS Stream 9 (ARM)                  | PASS               |
+----------------------------------------+--------------------+
| Ubuntu 20.04 aarch32 GCC Cross Compile | PASS               |
+----------------------------------------+--------------------+
| Ubuntu 22.04 (ARM)                     | PASS               |
+----------------------------------------+--------------------+
| Debian 11 (Buster) (ARM)               | PASS               |
+----------------------------------------+--------------------+
| Ubuntu 24.04 (ARM)                     | PASS               |
+----------------------------------------+--------------------+
| Debian 12 (arm)                        | PASS               |
+----------------------------------------+--------------------+
| Ubuntu 20.04 ARM Clang Cross Compile   | PASS               |
+----------------------------------------+--------------------+


RHEL9 (ARM)
	Kernel: Depends on container host
	Compiler: gcc 11.5.0 20240719 (Red Hat 11.5.0-2)

Ubuntu 20.04 ARM GCC Cross Compile
	Kernel: Depends on container host
	Compiler: aarch64-linux-gnu-gcc (Ubuntu 9.4.0-1ubuntu1~20.04.2) 9.4.0

Ubuntu 20.04 ARM SVE
	Kernel: Depends on container host
	Compiler: gcc (Ubuntu 10.5.0-1ubuntu1~20.04) 10.5.0

Debian 12 with MUSDK
	Kernel: Depends on container host
	Compiler: gcc (Debian 12.2.0-14) 12.2.0

Fedora 40 (ARM)
	Kernel: Depends on container host
	Compiler: gcc 14.2.1 20240912 (Red Hat 14.2.1-3)

Fedora 41 (ARM Clang)
	Kernel: Depends on container host
	Compiler: clang 19.1.5 (Fedora 19.1.5-1.fc41)

Ubuntu 20.04 (ARM)
	Kernel: Depends on container host
	Compiler: gcc (Ubuntu 9.4.0-1ubuntu1~20.04.2) 9.4.0

Fedora 40 (ARM Clang)
	Kernel: Depends on container host
	Compiler: clang 18.1.8 (Fedora 18.1.8-1.fc40)

Fedora 41 (ARM)
	Kernel: Depends on container host
	Compiler: gcc 14.2.1 20240912 (Red Hat 14.2.1-3)

CentOS Stream 9 (ARM)
	Kernel: Depends on container host
	Compiler: gcc 11.5.0 20240719 (Red Hat 11.5.0-2)

Ubuntu 20.04 aarch32 GCC Cross Compile
	Kernel: Depends on container host
	Compiler: gcc 9.4.0

Ubuntu 22.04 (ARM)
	Kernel: Depends on container host
	Compiler: gcc (Ubuntu 11.4.0-1ubuntu1~22.04) 11.4.0

Debian 11 (Buster) (ARM)
	Kernel: Depends on container host
	Compiler: gcc (Debian 10.2.1-6) 10.2.1 20210110

Ubuntu 24.04 (ARM)
	Kernel: Depends on container host
	Compiler: gcc (Ubuntu 13.3.0-6ubuntu2~24.04) 13.3.0

Debian 12 (arm)
	Kernel: Depends on container host
	Compiler: gcc (Debian 12.2.0-14) 12.2.0

Ubuntu 20.04 ARM Clang Cross Compile
	Kernel: Depends on container host
	Compiler: clang 10.0.0-4ubuntu1

To view detailed results, visit:
https://lab.dpdk.org/results/dashboard/patchsets/32225/

UNH-IOL DPDK Community Lab

To manage your email subscriptions, visit: 
https://lab.dpdk.org/results/dashboard/preferences/subscriptions/